{"text_format":"3","workbook":"xlsx","n_sheets":4,"sheets":["ПРИМЕЧАНИЕ","ШАБЛОН для ЗАПОЛНЕНИЯ","ШАБЛОН на ПЕЧАТЬ ПО КЛАССАМ","ПРИМЕР"],"not_rendered":{"defined_names":5},"read":"whole","date_system":"1900"}

{"sheet":"ПРИМЕЧАНИЕ","index":0,"n_rows":33,"n_cols":46,"rows_kept":33,"merged":[[0,0,0,45],[1,38,1,40],[1,42,1,44],[2,38,2,45],[4,38,4,40],[4,42,4,44],[7,38,7,40],[7,42,7,44],[8,38,8,40],[8,42,8,44],[10,38,10,44],[12,38,12,44],[13,38,13,40],[13,42,13,44],[15,38,15,44],[16,38,16,40],[16,42,16,44]]}
["Правила заполнения расписания"]
["1.","Первый урок не может быть пустым, если урока нет, то в первой подгруппе в номере кабинета необходимо поставить \"---\"",{"$nulls":39},"---"]
[null,"Если все клетки будут пустыми, то появиться сообщение об ошибке в следующем виде:"]
[]
["2.","Для того чтобы урок разделился на подгруппы, необходимо в наименованиях урока подгруппы указать его название, ",{"$nulls":36},"Англ.яз..",null,null,10,"Нем.яз..",null,null,11]
[null,"при этом разделительная черта появляется автоматически!"]
[]
["3.","Если указан номер кабинета, а наименование кабинета нет, то появиться сообщение об ошибке в следующем виде:",{"$nulls":39},10]
[null,"или:",{"$nulls":43},11]
[]
["4.","Надпись \"Классный час\" выделяется автоматически!",{"$nulls":36},"Классный час",{"$nulls":6},12]
[]
["5.","Чтобы указать \"Элективный предмет\" необходимо добавить (Э.П.), надпись выделиться автоматически!",{"$nulls":36},"Русский язык (Э.П.)",{"$nulls":6},10]
[null,"или:",{"$nulls":40},"Матем (Э.П.)",null,null,11]
[]
["6.","Чтобы указать \"Элективный курс\" необходимо добавить (Э.К.), надпись выделиться автоматически!",{"$nulls":36},"Русский язык (Э.К.)",{"$nulls":6},10]
[null,"или:",{"$nulls":40},"Матем (Э.К.)",null,null,11]
[]
["7.","Не используемые классы, не удалять (путём удаления столбцов), а скрывать, но на обоих листах!"]
[]
["8.","На листе \"ШАБЛОН на ПЕЧАТЬ ПО КЛАССАМ\" разрешено редактирование только ячейки \"C2\", всё остальное"]
[null,"заполняется автоматически с листа \"ШАБЛОН для ЗАПОЛНЕНИЯ\""]
[]
["9.","Лист \"ШАБЛОН для ЗАПОЛНЕНИЯ\" предназначен для склеивания в один сплошной лист , а лист  \"ШАБЛОН на ПЕЧАТЬ ПО КЛАССАМ\""]
[null,"для печати отдельно по параллелям."]
[]
["10.","Примерное расписание приведено на листе \"ПРИМЕР\", его в дальнейшем можно удалить."]
[]
["11.","Ни в коем случаи не объединяйте ячейки, всё сделано так, чтобы таблица работала без этого!!!"]
[]
["12.","Все листы построены на поля 0,5см и под мой принтер, поэтому у Вас может произойти иная разбивка на страницы, будьте внимательны!!!"]
[]
["13.","Старайтесь не снимать защиту листов, это сделано для правильной их работы!"]

{"sheet":"ШАБЛОН для ЗАПОЛНЕНИЯ","index":1,"n_rows":51,"n_cols":96,"rows_kept":51,"merged":[[0,0,0,9],[1,0,1,9],[2,0,2,9],[4,0,4,1],[4,2,4,5],[4,6,4,9],[4,10,4,13],[4,14,4,17],[4,18,4,21],[4,22,4,25],[4,26,4,29],[4,30,4,33],[4,34,4,37],[4,38,4,41],[4,42,4,45],[4,46,4,49],[4,50,4,53],[4,54,4,57],[4,58,4,61],[4,62,4,65],[4,66,4,69],[4,70,4,73],[4,74,4,77],[4,78,4,81],[4,82,4,85],[4,86,4,89],[4,90,4,93],[4,94,4,97],[5,0,6,1],[5,2,6,5],[5,6,6,9],[5,10,6,13],[5,14,6,17],[5,18,6,21],[5,22,6,25],[5,26,6,29],[5,30,6,33],[5,34,6,37],[5,38,6,41],[5,42,6,45],[5,46,6,49],[5,50,6,53],[5,54,6,57],[5,58,6,61],[5,62,6,65],[5,66,6,69],[5,70,6,73],[5,74,6,77],[5,78,6,81],[5,82,6,85],[5,86,6,89],[5,90,6,93],[5,94,6,97],[7,0,7,1],[7,2,8,5],[7,6,8,9],[7,10,8,13],[7,14,8,17],[7,18,8,21],[7,22,8,25],[7,26,8,29],[7,30,8,33],[7,34,8,37],[7,38,8,41],[7,42,8,45],[7,46,8,49],[7,50,8,53],[7,54,8,57],[7,58,8,61],[7,62,8,65],[7,66,8,69],[7,70,8,73],[7,74,8,77],[7,78,8,81],[7,82,8,85],[7,86,8,89],[7,90,8,93],[7,94,8,97],[9,0,15,0],[16,0,22,0],[23,0,29,0],[30,0,36,0],[37,0,43,0],[44,0,50,0]]}
["Утверждаю",{"$nulls":34},"Согласовано:"]
["Директор школы _________________Р.Н.Шакиров",{"$nulls":13},"РАСПИСАНИЕ УРОКОВ  МБОУ \"Надеждинская ООШ\" 2019-2020(дист.обучение)",{"$nulls":19},"Профком_______________"]
[{"$nulls":36},"Г.И.гараева"]
[]
["Классы",null,1,{"$nulls":3},2,{"$nulls":3},3,{"$nulls":3},4,{"$nulls":3},5,{"$nulls":3},6,{"$nulls":3},7,{"$nulls":3},8,{"$nulls":3},9,{"$nulls":3},"7Б",{"$nulls":3},"7В",{"$nulls":3},"7Г",{"$nulls":3},"8А",{"$nulls":3},"8Б",{"$nulls":3},"8В",{"$nulls":3},"8Г",{"$nulls":3},"9А",{"$nulls":3},"9Б",{"$nulls":3},"9В",{"$nulls":3},"9Г",{"$nulls":3},"10А",{"$nulls":3},"10Б",{"$nulls":3},"11А",{"$nulls":3},"11Б"]
["Классный руководитель",null,"Гараева Г.И.",{"$nulls":3},"Гатауллина Г.К.",{"$nulls":3},"Гараева Г.И.",{"$nulls":3},"Гатауллина Г.К.",{"$nulls":3},"Андронова Е.А.",{"$nulls":3},"Нургалиева Р.А.",{"$nulls":3},"Гатауллина Г.Р.",{"$nulls":3},"Шакирова Т.Х.",{"$nulls":3},"Сафина Л.И."]
[]
["Закреп. каб."]
["День","Уроки"]
["ПОНЕДЕЛЬНИК",1,"Родной язык",{"$nulls":3},"Англ.язык",{"$nulls":3},"Родной язык",{"$nulls":3},"Англ.язык",{"$nulls":3},"История",{"$nulls":3},"Англ.язык",{"$nulls":3},"Физика",{"$nulls":3},"ОБЖ",{"$nulls":3},"Рус.язык",{"$nulls":4},"---",{"$nulls":3},"---",{"$nulls":3},"---",{"$nulls":3},"---",{"$nulls":3},"---",{"$nulls":3},"---",{"$nulls":3},"---",{"$nulls":3},"---",{"$nulls":3},"---",{"$nulls":3},"---",{"$nulls":3},"---",{"$nulls":3},"---",{"$nulls":3},"---",{"$nulls":3},"---",{"$nulls":3},"---"]
[null,2,"Чт.на род.языке",{"$nulls":3},"Русский язык",{"$nulls":3},"Чт. на родном языке",{"$nulls":3},"Русский язык",{"$nulls":3},"Рус.язык",{"$nulls":3},"Математика",{"$nulls":3},"Алгебра",{"$nulls":3},"Технология",{"$nulls":3},"Англ.язык"]
[null,3,"Музыка",{"$nulls":3},"Родной язык",{"$nulls":3},"Музыка",{"$nulls":3},"Родной язык",{"$nulls":3},"Физкультура",{"$nulls":3},"Рус.язык",{"$nulls":3},"Англ.язык",{"$nulls":3},"Алгебра",{"$nulls":3},"История"]
[null,4,"Англ.яз",{"$nulls":3},"Математика",{"$nulls":3},"Англ.язык",{"$nulls":3},"Математика",{"$nulls":3},"Математика",{"$nulls":3},"Физкультура",{"$nulls":3},"Родной язык",{"$nulls":3},"Биология",{"$nulls":3},"Алгебра"]
[null,5,{"$nulls":4},"Лит.чтение",{"$nulls":7},"Лит.чтение",{"$nulls":3},"Англ.язык",{"$nulls":3},"Литература",{"$nulls":3},"Физкультура",{"$nulls":3},"География",{"$nulls":3},"Родной язык"]
[null,6,{"$nulls":16},"Литература",{"$nulls":3},"Математика",{"$nulls":3},"География",{"$nulls":3},"Физкультура",{"$nulls":3},"Нем.язык"]
[null,7]
["ВТОРНИК",1,"Родной язык",{"$nulls":3},"Физкультура",{"$nulls":3},"Родной язык",{"$nulls":3},"Физкультура",{"$nulls":3},"Музыка",{"$nulls":3},"Математика",{"$nulls":3},"Алгебра",{"$nulls":3},"ИЗО",{"$nulls":3},"Биология",{"$nulls":4},"---",{"$nulls":3},"---",{"$nulls":3},"---",{"$nulls":3},"---",{"$nulls":3},"---",{"$nulls":3},"---",{"$nulls":3},"---",{"$nulls":3},"---",{"$nulls":3},"---",{"$nulls":3},"---",{"$nulls":3},"---",{"$nulls":3},"---",{"$nulls":3},"---",{"$nulls":3},"---",{"$nulls":3},"---"]
[null,2,"Математика",{"$nulls":3},"Англ.язык",{"$nulls":3},"Математика",{"$nulls":3},"Англ.язык",{"$nulls":3},"Биология",{"$nulls":3},"ИЗО",{"$nulls":3},"Рус.язык",{"$nulls":3},"Родной язык",{"$nulls":3},"Физика"]
[null,3,"Окр.мир",{"$nulls":3},"Математика",{"$nulls":3},"Окр.мир",{"$nulls":3},"Математика",{"$nulls":3},"Математика",{"$nulls":3},"Биология",{"$nulls":3},"ИЗО",{"$nulls":3},"Рус.язык",{"$nulls":3},"Геометрия"]
[null,4,"Рус.язык",{"$nulls":3},"Рус.язык",{"$nulls":3},"Рус.язык",{"$nulls":3},"Рус.язык",{"$nulls":3},"Технология",{"$nulls":3},"Обществознание",{"$nulls":3},"Родной язык",{"$nulls":3},"Геометрия",{"$nulls":3},"География"]
[null,5,{"$nulls":4},"Лит.чтение",{"$nulls":7},"Лит.чтение",{"$nulls":3},"Математика",{"$nulls":3},"Родной язык",{"$nulls":3},"Геометрия",{"$nulls":3},"Литература",{"$nulls":3},"ОБЖ"]
[null,6,{"$nulls":24},"Биология",{"$nulls":3},"История",{"$nulls":3},"Физкультура"]
[null,7]
["СРЕДА",1,"Лит.чтение",{"$nulls":3},"Физкультура","---",null,null,"Лит.чтение",{"$nulls":3},"Физкультура",{"$nulls":3},"Родной язык",{"$nulls":3},"Англ.язык",{"$nulls":3},"История",{"$nulls":3},"Алгебра",{"$nulls":3},"Литература",{"$nulls":4},"---",{"$nulls":3},"---",{"$nulls":3},"---",{"$nulls":3},"---",{"$nulls":3},"---",{"$nulls":3},"---",{"$nulls":3},"---",{"$nulls":3},"---",{"$nulls":3},"---",{"$nulls":3},"---",{"$nulls":3},"---",{"$nulls":3},"---",{"$nulls":3},"---",{"$nulls":3},"---",{"$nulls":3},"---"]
[null,2,"Математика",{"$nulls":3},"Рус.язык",{"$nulls":3},"Математика",{"$nulls":3},"Рус.язык",{"$nulls":3},"Математика",{"$nulls":3},"Рус.язык",{"$nulls":3},"География",{"$nulls":3},"Родной язык",{"$nulls":3},"Англ.язык"]
[null,3,"Рус.язык",{"$nulls":3},"Математика",{"$nulls":3},"Рус.язык",{"$nulls":3},"Математика",{"$nulls":3},"Рус.язык",{"$nulls":3},"Математика",{"$nulls":3},"Технология",{"$nulls":3},"Обществознание",{"$nulls":3},"Химия"]
[null,4,"Физкультура",{"$nulls":3},"Окр.мир",{"$nulls":3},"Физкультура",{"$nulls":3},"Окр.мир",{"$nulls":3},"Англ.язык",{"$nulls":3},"Математика",{"$nulls":3},"Информатика",{"$nulls":3},"География",{"$nulls":3},"Родной язык"]
[null,5,"Технология",{"$nulls":3},"Технология",{"$nulls":3},"Технология",{"$nulls":3},"Технология",{"$nulls":3},"Технология",{"$nulls":3},"История",{"$nulls":3},"Родн.литер.",{"$nulls":3},"Англ.язык",{"$nulls":3},"География"]
[null,6,{"$nulls":16},"ОДНКР",{"$nulls":3},"Литература",{"$nulls":3},"Англ.язык",{"$nulls":3},"Алгебра",{"$nulls":3},"Информатика"]
[null,7]
["ЧЕТВЕРГ",1,"Рус.язык",{"$nulls":3},"ИЗО","---",null,null,"Рус.язык",{"$nulls":3},"ИЗО",{"$nulls":3},"Литература",{"$nulls":3},"Англ.язык",{"$nulls":3},"Технология",{"$nulls":3},"История",{"$nulls":3},"Физкультура",{"$nulls":4},"---",{"$nulls":3},"---",{"$nulls":3},"---",{"$nulls":3},"---",{"$nulls":3},"---",{"$nulls":3},"---",{"$nulls":3},"---",{"$nulls":3},"---",{"$nulls":3},"---",{"$nulls":3},"---",{"$nulls":3},"---",{"$nulls":3},"---",{"$nulls":3},"---",{"$nulls":3},"---",{"$nulls":3},"---"]
[null,2,"ИЗО",{"$nulls":3},"Математика",{"$nulls":3},"Рус.язык",{"$nulls":3},"Математика",{"$nulls":3},"География",{"$nulls":3},"Литература",{"$nulls":3},"История",{"$nulls":3},"Англ.язык",{"$nulls":3},"Алгебра"]
[null,3,"Математика",{"$nulls":3},"Рус.язык",{"$nulls":3},"Математика",{"$nulls":3},"Рус.язык",{"$nulls":3},"Англ.язык",{"$nulls":3},"Рус.язык",{"$nulls":3},"Рус.язык",{"$nulls":3},"Информатика",{"$nulls":3},"Химия"]
[null,4,"Физкультура",{"$nulls":3},"Рус.язык",{"$nulls":3},"Физкультура",{"$nulls":3},"Рус.язык",{"$nulls":3},"ИЗО",{"$nulls":3},"Технология",{"$nulls":3},"Литература",{"$nulls":3},"Физика",{"$nulls":3},"Биология"]
[null,5,{"$nulls":16},"Русский язык",{"$nulls":3},"История",{"$nulls":3},"Алгебра",{"$nulls":3},"Химия",{"$nulls":3},"Нем.язык"]
[null,6,{"$nulls":24},"Англ.язык",{"$nulls":3},"Литература",{"$nulls":3},"История"]
[null,7]
["ПЯТНИЦА",1,"Лит.чтение",{"$nulls":3},"Физкультура","---",null,null,"Лит.чтение",{"$nulls":3},"Физкультура",{"$nulls":3},"Литература",{"$nulls":3},"Технология",{"$nulls":3},"Алгебра",{"$nulls":3},"Геометрия",{"$nulls":3},"Физкультура",{"$nulls":4},"---",{"$nulls":3},"---",{"$nulls":3},"---",{"$nulls":3},"---",{"$nulls":3},"---",{"$nulls":3},"---",{"$nulls":3},"---",{"$nulls":3},"---",{"$nulls":3},"---",{"$nulls":3},"---",{"$nulls":3},"---",{"$nulls":3},"---",{"$nulls":3},"---",{"$nulls":3},"---",{"$nulls":3},"---"]
[null,2,"Физкультура",{"$nulls":3},"Лит.чтение",{"$nulls":3},"Физкультура",{"$nulls":3},"Лит.чтение",{"$nulls":3},"Рус.язык",{"$nulls":3},"Математика",{"$nulls":3},"Геометрия",{"$nulls":3},"Рус.язык",{"$nulls":3},"Родная лит."]
[null,3,"Математика",{"$nulls":3},"Рус.язык",{"$nulls":3},"Математика",{"$nulls":3},"Рус.язык",{"$nulls":3},"Математика",{"$nulls":3},"Рус.язык",{"$nulls":3},"Рус.язык",{"$nulls":3},"Физкультура",{"$nulls":3},"Геометрия"]
[null,4,"Рус.язык",{"$nulls":3},"Окр.мир",{"$nulls":3},"Рус.язык",{"$nulls":3},"Окр.мир",{"$nulls":3},"Родной язык",{"$nulls":3},"Рус.язык",{"$nulls":3},"Физкультура",{"$nulls":3},"Геометрия",{"$nulls":3},"Физика"]
[null,5,"Окр.мир",{"$nulls":7},"Окр.мир",{"$nulls":7},"Физкультура",{"$nulls":3},"Родная лит.",{"$nulls":3},"Физика",{"$nulls":3},"Рус.язык",{"$nulls":3},"Рус.язык"]
[null,6,{"$nulls":20},"Физкультура",{"$nulls":7},"Физика",{"$nulls":3},"Литература"]
[null,7]
["СУББОТА",1,{"$nulls":4},"Родной язык","---",null,null,"Рус.язык",{"$nulls":3},"Родной язык",{"$nulls":3},"История",{"$nulls":3},"Музыка",{"$nulls":3},"Биология",{"$nulls":3},"Родной язык",{"$nulls":3},"Литература",{"$nulls":4},"---",{"$nulls":3},"---",{"$nulls":3},"---",{"$nulls":3},"---",{"$nulls":3},"---",{"$nulls":3},"---",{"$nulls":3},"---",{"$nulls":3},"---",{"$nulls":3},"---",{"$nulls":3},"---",{"$nulls":3},"---",{"$nulls":3},"---",{"$nulls":3},"---",{"$nulls":3},"---",{"$nulls":3},"---"]
[null,2,{"$nulls":4},"Чт.на родном языке",{"$nulls":3},"Рус.язык",{"$nulls":3},"Чт.на родном языке",{"$nulls":3},"Рус.язык",{"$nulls":3},"Родной язык",{"$nulls":3},"Музыка",{"$nulls":3},"Биология",{"$nulls":3},"Алгебра"]
[null,3,{"$nulls":4},"Музыка",{"$nulls":3},"Лит.чтение",{"$nulls":3},"Музыка",{"$nulls":3},"Физкультура",{"$nulls":3},"Рус.язык",{"$nulls":3},"Рус.язык",{"$nulls":3},"Химия",{"$nulls":3},"Физика"]
[null,4,{"$nulls":8},"Англ.язык",{"$nulls":7},"Обществознание",{"$nulls":3},"Физкультура",{"$nulls":3},"Литература",{"$nulls":3},"Родная лит.",{"$nulls":3},"Рус.язык"]
[null,5,{"$nulls":16},"Родная лит.",{"$nulls":3},"География",{"$nulls":3},"Физкультура",{"$nulls":3},"Англ.язык",{"$nulls":3},"Обществознание"]
[null,6,{"$nulls":24},"Обществознание",{"$nulls":3},"Физкультура",{"$nulls":3},"Англ.язык"]
[null,7]

{"sheet":"ШАБЛОН на ПЕЧАТЬ ПО КЛАССАМ","index":2,"n_rows":50,"n_cols":98,"rows_kept":50,"merged":[[1,2,1,17],[1,18,1,33],[1,34,1,49],[1,50,1,65],[1,66,1,81],[1,82,1,97],[3,0,3,1],[3,2,3,5],[3,6,3,9],[3,10,3,13],[3,14,3,17],[3,18,3,21],[3,22,3,25],[3,26,3,29],[3,30,3,33],[3,34,3,37],[3,38,3,41],[3,42,3,45],[3,46,3,49],[3,50,3,53],[3,54,3,57],[3,58,3,61],[3,62,3,65],[3,66,3,69],[3,70,3,73],[3,74,3,77],[3,78,3,81],[3,82,3,85],[3,86,3,89],[3,90,3,93],[3,94,3,97],[4,0,5,1],[4,2,5,5],[4,6,5,9],[4,10,5,13],[4,14,5,17],[4,18,5,21],[4,22,5,25],[4,26,5,29],[4,30,5,33],[4,34,5,37],[4,38,5,41],[4,42,5,45],[4,46,5,49],[4,50,5,53],[4,54,5,57],[4,58,5,61],[4,62,5,65],[4,66,5,69],[4,70,5,73],[4,74,5,77],[4,78,5,81],[4,82,5,85],[4,86,5,89],[4,90,5,93],[4,94,5,97],[6,0,6,1],[6,2,7,5],[6,6,7,9],[6,10,7,13],[6,14,7,17],[6,18,7,21],[6,22,7,25],[6,26,7,29],[6,30,7,33],[6,34,7,37],[6,38,7,41],[6,42,7,45],[6,46,7,49],[6,50,7,53],[6,54,7,57],[6,58,7,61],[6,62,7,65],[6,66,7,69],[6,70,7,73],[6,74,7,77],[6,78,7,81],[6,82,7,85],[6,86,7,89],[6,90,7,93],[6,94,7,97],[8,0,14,0],[15,0,21,0],[22,0,28,0],[29,0,35,0],[36,0,42,0],[43,0,49,0]]}
[]
[null,null,"на 2019-2020 уч.год",{"$nulls":15},"Расписание уроков   МБОУ \"Надеждинская ООШ\"",{"$nulls":15},{"$f":"$C$2","v":"на 2019-2020 уч.год"},{"$nulls":15},{"$f":"$C$2","v":"на 2019-2020 уч.год"},{"$nulls":15},{"$f":"$C$2","v":"на 2019-2020 уч.год"},{"$nulls":15},{"$f":"CONCATENATE(\"        \",$C$2)","v":"        на 2019-2020 уч.год"}]
[]
["Классы",null,{"$f":"IF('ШАБЛОН для ЗАПОЛНЕНИЯ'!C5<>\"\",'ШАБЛОН для ЗАПОЛНЕНИЯ'!C5,\"\")","v":1},{"$f":"IF('ШАБЛОН для ЗАПОЛНЕНИЯ'!AZ5<>\"\",'ШАБЛОН для ЗАПОЛНЕНИЯ'!AZ5,\"\")","v":""},{"$f":"IF('ШАБЛОН для ЗАПОЛНЕНИЯ'!BA5<>\"\",'ШАБЛОН для ЗАПОЛНЕНИЯ'!BA5,\"\")","v":""},{"$f":"IF('ШАБЛОН для ЗАПОЛНЕНИЯ'!BB5<>\"\",'ШАБЛОН для ЗАПОЛНЕНИЯ'!BB5,\"\")","v":""},{"$f":"IF('ШАБЛОН для ЗАПОЛНЕНИЯ'!G5<>\"\",'ШАБЛОН для ЗАПОЛНЕНИЯ'!G5,\"\")","v":2},{"$f":"IF('ШАБЛОН для ЗАПОЛНЕНИЯ'!BD5<>\"\",'ШАБЛОН для ЗАПОЛНЕНИЯ'!BD5,\"\")","v":""},{"$f":"IF('ШАБЛОН для ЗАПОЛНЕНИЯ'!BE5<>\"\",'ШАБЛОН для ЗАПОЛНЕНИЯ'!BE5,\"\")","v":""},{"$f":"IF('ШАБЛОН для ЗАПОЛНЕНИЯ'!BF5<>\"\",'ШАБЛОН для ЗАПОЛНЕНИЯ'!BF5,\"\")","v":""},{"$f":"IF('ШАБЛОН для ЗАПОЛНЕНИЯ'!K5<>\"\",'ШАБЛОН для ЗАПОЛНЕНИЯ'!K5,\"\")","v":3},{"$f":"IF('ШАБЛОН для ЗАПОЛНЕНИЯ'!BH5<>\"\",'ШАБЛОН для ЗАПОЛНЕНИЯ'!BH5,\"\")","v":""},{"$f":"IF('ШАБЛОН для ЗАПОЛНЕНИЯ'!BI5<>\"\",'ШАБЛОН для ЗАПОЛНЕНИЯ'!BI5,\"\")","v":""},{"$f":"IF('ШАБЛОН для ЗАПОЛНЕНИЯ'!BJ5<>\"\",'ШАБЛОН для ЗАПОЛНЕНИЯ'!BJ5,\"\")","v":""},{"$f":"IF('ШАБЛОН для ЗАПОЛНЕНИЯ'!O5<>\"\",'ШАБЛОН для ЗАПОЛНЕНИЯ'!O5,\"\")","v":4},{"$f":"IF('ШАБЛОН для ЗАПОЛНЕНИЯ'!BL5<>\"\",'ШАБЛОН для ЗАПОЛНЕНИЯ'!BL5,\"\")","v":""},{"$f":"IF('ШАБЛОН для ЗАПОЛНЕНИЯ'!BM5<>\"\",'ШАБЛОН для ЗАПОЛНЕНИЯ'!BM5,\"\")","v":""},{"$f":"IF('ШАБЛОН для ЗАПОЛНЕНИЯ'!BN5<>\"\",'ШАБЛОН для ЗАПОЛНЕНИЯ'!BN5,\"\")","v":""},{"$f":"IF('ШАБЛОН для ЗАПОЛНЕНИЯ'!S5<>\"\",'ШАБЛОН для ЗАПОЛНЕНИЯ'!S5,\"\")","v":5},{"$f":"IF('ШАБЛОН для ЗАПОЛНЕНИЯ'!BP5<>\"\",'ШАБЛОН для ЗАПОЛНЕНИЯ'!BP5,\"\")","v":""},{"$f":"IF('ШАБЛОН для ЗАПОЛНЕНИЯ'!BQ5<>\"\",'ШАБЛОН для ЗАПОЛНЕНИЯ'!BQ5,\"\")","v":""},{"$f":"IF('ШАБЛОН для ЗАПОЛНЕНИЯ'!BR5<>\"\",'ШАБЛОН для ЗАПОЛНЕНИЯ'!BR5,\"\")","v":""},{"$f":"IF('ШАБЛОН для ЗАПОЛНЕНИЯ'!W5<>\"\",'ШАБЛОН для ЗАПОЛНЕНИЯ'!W5,\"\")","v":6},{"$f":"IF('ШАБЛОН для ЗАПОЛНЕНИЯ'!BT5<>\"\",'ШАБЛОН для ЗАПОЛНЕНИЯ'!BT5,\"\")","v":""},{"$f":"IF('ШАБЛОН для ЗАПОЛНЕНИЯ'!BU5<>\"\",'ШАБЛОН для ЗАПОЛНЕНИЯ'!BU5,\"\")","v":""},{"$f":"IF('ШАБЛОН для ЗАПОЛНЕНИЯ'!BV5<>\"\",'ШАБЛОН для ЗАПОЛНЕНИЯ'!BV5,\"\")","v":""},{"$f":"IF('ШАБЛОН для ЗАПОЛНЕНИЯ'!AA5<>\"\",'ШАБЛОН для ЗАПОЛНЕНИЯ'!AA5,\"\")","v":7},{"$f":"IF('ШАБЛОН для ЗАПОЛНЕНИЯ'!BX5<>\"\",'ШАБЛОН для ЗАПОЛНЕНИЯ'!BX5,\"\")","v":""},{"$f":"IF('ШАБЛОН для ЗАПОЛНЕНИЯ'!BY5<>\"\",'ШАБЛОН для ЗАПОЛНЕНИЯ'!BY5,\"\")","v":""},{"$f":"IF('ШАБЛОН для ЗАПОЛНЕНИЯ'!BZ5<>\"\",'ШАБЛОН для ЗАПОЛНЕНИЯ'!BZ5,\"\")","v":""},{"$f":"IF('ШАБЛОН для ЗАПОЛНЕНИЯ'!AE5<>\"\",'ШАБЛОН для ЗАПОЛНЕНИЯ'!AE5,\"\")","v":8},{"$f":"IF('ШАБЛОН для ЗАПОЛНЕНИЯ'!CB5<>\"\",'ШАБЛОН для ЗАПОЛНЕНИЯ'!CB5,\"\")","v":""},{"$f":"IF('ШАБЛОН для ЗАПОЛНЕНИЯ'!CC5<>\"\",'ШАБЛОН для ЗАПОЛНЕНИЯ'!CC5,\"\")","v":""},{"$f":"IF('ШАБЛОН для ЗАПОЛНЕНИЯ'!CD5<>\"\",'ШАБЛОН для ЗАПОЛНЕНИЯ'!CD5,\"\")","v":""},{"$f":"IF('ШАБЛОН для ЗАПОЛНЕНИЯ'!AI5<>\"\",'ШАБЛОН для ЗАПОЛНЕНИЯ'!AI5,\"\")","v":9},{"$f":"IF('ШАБЛОН для ЗАПОЛНЕНИЯ'!CF5<>\"\",'ШАБЛОН для ЗАПОЛНЕНИЯ'!CF5,\"\")","v":""},{"$f":"IF('ШАБЛОН для ЗАПОЛНЕНИЯ'!CG5<>\"\",'ШАБЛОН для ЗАПОЛНЕНИЯ'!CG5,\"\")","v":""},{"$f":"IF('ШАБЛОН для ЗАПОЛНЕНИЯ'!CH5<>\"\",'ШАБЛОН для ЗАПОЛНЕНИЯ'!CH5,\"\")","v":""},{"$f":"IF('ШАБЛОН для ЗАПОЛНЕНИЯ'!AM5<>\"\",'ШАБЛОН для ЗАПОЛНЕНИЯ'!AM5,\"\")","v":"7Б"},{"$f":"IF('ШАБЛОН для ЗАПОЛНЕНИЯ'!CJ5<>\"\",'ШАБЛОН для ЗАПОЛНЕНИЯ'!CJ5,\"\")","v":""},{"$f":"IF('ШАБЛОН для ЗАПОЛНЕНИЯ'!CK5<>\"\",'ШАБЛОН для ЗАПОЛНЕНИЯ'!CK5,\"\")","v":""},{"$f":"IF('ШАБЛОН для ЗАПОЛНЕНИЯ'!CL5<>\"\",'ШАБЛОН для ЗАПОЛНЕНИЯ'!CL5,\"\")","v":""},{"$f":"IF('ШАБЛОН для ЗАПОЛНЕНИЯ'!AQ5<>\"\",'ШАБЛОН для ЗАПОЛНЕНИЯ'!AQ5,\"\")","v":"7В"},{"$f":"IF('ШАБЛОН для ЗАПОЛНЕНИЯ'!CN5<>\"\",'ШАБЛОН для ЗАПОЛНЕНИЯ'!CN5,\"\")","v":""},{"$f":"IF('ШАБЛОН для ЗАПОЛНЕНИЯ'!CO5<>\"\",'ШАБЛОН для ЗАПОЛНЕНИЯ'!CO5,\"\")","v":""},{"$f":"IF('ШАБЛОН для ЗАПОЛНЕНИЯ'!CP5<>\"\",'ШАБЛОН для ЗАПОЛНЕНИЯ'!CP5,\"\")","v":""},{"$f":"IF('ШАБЛОН для ЗАПОЛНЕНИЯ'!AU5<>\"\",'ШАБЛОН для ЗАПОЛНЕНИЯ'!AU5,\"\")","v":"7Г"},{"$f":"IF('ШАБЛОН для ЗАПОЛНЕНИЯ'!CR5<>\"\",'ШАБЛОН для ЗАПОЛНЕНИЯ'!CR5,\"\")","v":""},{"$f":"IF('ШАБЛОН для ЗАПОЛНЕНИЯ'!CS5<>\"\",'ШАБЛОН для ЗАПОЛНЕНИЯ'!CS5,\"\")","v":""},{"$f":"IF('ШАБЛОН для ЗАПОЛНЕНИЯ'!CT5<>\"\",'ШАБЛОН для ЗАПОЛНЕНИЯ'!CT5,\"\")","v":""},{"$f":"IF('ШАБЛОН для ЗАПОЛНЕНИЯ'!AY5<>\"\",'ШАБЛОН для ЗАПОЛНЕНИЯ'!AY5,\"\")","v":"8А"},{"$f":"IF('ШАБЛОН для ЗАПОЛНЕНИЯ'!CV5<>\"\",'ШАБЛОН для ЗАПОЛНЕНИЯ'!CV5,\"\")","v":""},{"$f":"IF('ШАБЛОН для ЗАПОЛНЕНИЯ'!CW5<>\"\",'ШАБЛОН для ЗАПОЛНЕНИЯ'!CW5,\"\")","v":""},{"$f":"IF('ШАБЛОН для ЗАПОЛНЕНИЯ'!CX5<>\"\",'ШАБЛОН для ЗАПОЛНЕНИЯ'!CX5,\"\")","v":""},{"$f":"IF('ШАБЛОН для ЗАПОЛНЕНИЯ'!BC5<>\"\",'ШАБЛОН для ЗАПОЛНЕНИЯ'!BC5,\"\")","v":"8Б"},{"$f":"IF('ШАБЛОН для ЗАПОЛНЕНИЯ'!CZ5<>\"\",'ШАБЛОН для ЗАПОЛНЕНИЯ'!CZ5,\"\")","v":""},{"$f":"IF('ШАБЛОН для ЗАПОЛНЕНИЯ'!DA5<>\"\",'ШАБЛОН для ЗАПОЛНЕНИЯ'!DA5,\"\")","v":""},{"$f":"IF('ШАБЛОН для ЗАПОЛНЕНИЯ'!DB5<>\"\",'ШАБЛОН для ЗАПОЛНЕНИЯ'!DB5,\"\")","v":""},{"$f":"IF('ШАБЛОН для ЗАПОЛНЕНИЯ'!BG5<>\"\",'ШАБЛОН для ЗАПОЛНЕНИЯ'!BG5,\"\")","v":"8В"},{"$f":"IF('ШАБЛОН для ЗАПОЛНЕНИЯ'!DD5<>\"\",'ШАБЛОН для ЗАПОЛНЕНИЯ'!DD5,\"\")","v":""},{"$f":"IF('ШАБЛОН для ЗАПОЛНЕНИЯ'!DE5<>\"\",'ШАБЛОН для ЗАПОЛНЕНИЯ'!DE5,\"\")","v":""},{"$f":"IF('ШАБЛОН для ЗАПОЛНЕНИЯ'!DF5<>\"\",'ШАБЛОН для ЗАПОЛНЕНИЯ'!DF5,\"\")","v":""},{"$f":"IF('ШАБЛОН для ЗАПОЛНЕНИЯ'!BK5<>\"\",'ШАБЛОН для ЗАПОЛНЕНИЯ'!BK5,\"\")","v":"8Г"},{"$f":"IF('ШАБЛОН для ЗАПОЛНЕНИЯ'!DH5<>\"\",'ШАБЛОН для ЗАПОЛНЕНИЯ'!DH5,\"\")","v":""},{"$f":"IF('ШАБЛОН для ЗАПОЛНЕНИЯ'!DI5<>\"\",'ШАБЛОН для ЗАПОЛНЕНИЯ'!DI5,\"\")","v":""},{"$f":"IF('ШАБЛОН для ЗАПОЛНЕНИЯ'!DJ5<>\"\",'ШАБЛОН для ЗАПОЛНЕНИЯ'!DJ5,\"\")","v":""},{"$f":"IF('ШАБЛОН для ЗАПОЛНЕНИЯ'!BO5<>\"\",'ШАБЛОН для ЗАПОЛНЕНИЯ'!BO5,\"\")","v":"9А"},{"$f":"IF('ШАБЛОН для ЗАПОЛНЕНИЯ'!DL5<>\"\",'ШАБЛОН для ЗАПОЛНЕНИЯ'!DL5,\"\")","v":""},{"$f":"IF('ШАБЛОН для ЗАПОЛНЕНИЯ'!DM5<>\"\",'ШАБЛОН для ЗАПОЛНЕНИЯ'!DM5,\"\")","v":""},{"$f":"IF('ШАБЛОН для ЗАПОЛНЕНИЯ'!DN5<>\"\",'ШАБЛОН для ЗАПОЛНЕНИЯ'!DN5,\"\")","v":""},{"$f":"IF('ШАБЛОН для ЗАПОЛНЕНИЯ'!BS5<>\"\",'ШАБЛОН для ЗАПОЛНЕНИЯ'!BS5,\"\")","v":"9Б"},{"$f":"IF('ШАБЛОН для ЗАПОЛНЕНИЯ'!DP5<>\"\",'ШАБЛОН для ЗАПОЛНЕНИЯ'!DP5,\"\")","v":""},{"$f":"IF('ШАБЛОН для ЗАПОЛНЕНИЯ'!DQ5<>\"\",'ШАБЛОН для ЗАПОЛНЕНИЯ'!DQ5,\"\")","v":""},{"$f":"IF('ШАБЛОН для ЗАПОЛНЕНИЯ'!DR5<>\"\",'ШАБЛОН для ЗАПОЛНЕНИЯ'!DR5,\"\")","v":""},{"$f":"IF('ШАБЛОН для ЗАПОЛНЕНИЯ'!BW5<>\"\",'ШАБЛОН для ЗАПОЛНЕНИЯ'!BW5,\"\")","v":"9В"},{"$f":"IF('ШАБЛОН для ЗАПОЛНЕНИЯ'!DT5<>\"\",'ШАБЛОН для ЗАПОЛНЕНИЯ'!DT5,\"\")","v":""},{"$f":"IF('ШАБЛОН для ЗАПОЛНЕНИЯ'!DU5<>\"\",'ШАБЛОН для ЗАПОЛНЕНИЯ'!DU5,\"\")","v":""},{"$f":"IF('ШАБЛОН для ЗАПОЛНЕНИЯ'!DV5<>\"\",'ШАБЛОН для ЗАПОЛНЕНИЯ'!DV5,\"\")","v":""},{"$f":"IF('ШАБЛОН для ЗАПОЛНЕНИЯ'!CA5<>\"\",'ШАБЛОН для ЗАПОЛНЕНИЯ'!CA5,\"\")","v":"9Г"},{"$f":"IF('ШАБЛОН для ЗАПОЛНЕНИЯ'!DX5<>\"\",'ШАБЛОН для ЗАПОЛНЕНИЯ'!DX5,\"\")","v":""},{"$f":"IF('ШАБЛОН для ЗАПОЛНЕНИЯ'!DY5<>\"\",'ШАБЛОН для ЗАПОЛНЕНИЯ'!DY5,\"\")","v":""},{"$f":"IF('ШАБЛОН для ЗАПОЛНЕНИЯ'!DZ5<>\"\",'ШАБЛОН для ЗАПОЛНЕНИЯ'!DZ5,\"\")","v":""},{"$f":"IF('ШАБЛОН для ЗАПОЛНЕНИЯ'!CE5<>\"\",'ШАБЛОН для ЗАПОЛНЕНИЯ'!CE5,\"\")","v":"10А"},{"$f":"IF('ШАБЛОН для ЗАПОЛНЕНИЯ'!EB5<>\"\",'ШАБЛОН для ЗАПОЛНЕНИЯ'!EB5,\"\")","v":""},{"$f":"IF('ШАБЛОН для ЗАПОЛНЕНИЯ'!EC5<>\"\",'ШАБЛОН для ЗАПОЛНЕНИЯ'!EC5,\"\")","v":""},{"$f":"IF('ШАБЛОН для ЗАПОЛНЕНИЯ'!ED5<>\"\",'ШАБЛОН для ЗАПОЛНЕНИЯ'!ED5,\"\")","v":""},{"$f":"IF('ШАБЛОН для ЗАПОЛНЕНИЯ'!CI5<>\"\",'ШАБЛОН для ЗАПОЛНЕНИЯ'!CI5,\"\")","v":"10Б"},{"$f":"IF('ШАБЛОН для ЗАПОЛНЕНИЯ'!EF5<>\"\",'ШАБЛОН для ЗАПОЛНЕНИЯ'!EF5,\"\")","v":""},{"$f":"IF('ШАБЛОН для ЗАПОЛНЕНИЯ'!EG5<>\"\",'ШАБЛОН для ЗАПОЛНЕНИЯ'!EG5,\"\")","v":""},{"$f":"IF('ШАБЛОН для ЗАПОЛНЕНИЯ'!EH5<>\"\",'ШАБЛОН для ЗАПОЛНЕНИЯ'!EH5,\"\")","v":""},{"$f":"IF('ШАБЛОН для ЗАПОЛНЕНИЯ'!CM5<>\"\",'ШАБЛОН для ЗАПОЛНЕНИЯ'!CM5,\"\")","v":"11А"},{"$f":"IF('ШАБЛОН для ЗАПОЛНЕНИЯ'!EJ5<>\"\",'ШАБЛОН для ЗАПОЛНЕНИЯ'!EJ5,\"\")","v":""},{"$f":"IF('ШАБЛОН для ЗАПОЛНЕНИЯ'!EK5<>\"\",'ШАБЛОН для ЗАПОЛНЕНИЯ'!EK5,\"\")","v":""},{"$f":"IF('ШАБЛОН для ЗАПОЛНЕНИЯ'!EL5<>\"\",'ШАБЛОН для ЗАПОЛНЕНИЯ'!EL5,\"\")","v":""},{"$f":"IF('ШАБЛОН для ЗАПОЛНЕНИЯ'!CQ5<>\"\",'ШАБЛОН для ЗАПОЛНЕНИЯ'!CQ5,\"\")","v":"11Б"},{"$f":"IF('ШАБЛОН для ЗАПОЛНЕНИЯ'!EN5<>\"\",'ШАБЛОН для ЗАПОЛНЕНИЯ'!EN5,\"\")","v":""},{"$f":"IF('ШАБЛОН для ЗАПОЛНЕНИЯ'!EO5<>\"\",'ШАБЛОН для ЗАПОЛНЕНИЯ'!EO5,\"\")","v":""},{"$f":"IF('ШАБЛОН для ЗАПОЛНЕНИЯ'!EP5<>\"\",'ШАБЛОН для ЗАПОЛНЕНИЯ'!EP5,\"\")","v":""}]
["Классный руководитель",null,{"$f":"IF('ШАБЛОН для ЗАПОЛНЕНИЯ'!C6<>\"\",'ШАБЛОН для ЗАПОЛНЕНИЯ'!C6,\"\")","v":"Гараева Г.И."},{"$nulls":3},{"$f":"IF('ШАБЛОН для ЗАПОЛНЕНИЯ'!G6<>\"\",'ШАБЛОН для ЗАПОЛНЕНИЯ'!G6,\"\")","v":"Гатауллина Г.К."},{"$nulls":3},{"$f":"IF('ШАБЛОН для ЗАПОЛНЕНИЯ'!K6<>\"\",'ШАБЛОН для ЗАПОЛНЕНИЯ'!K6,\"\")","v":"Гараева Г.И."},{"$nulls":3},{"$f":"IF('ШАБЛОН для ЗАПОЛНЕНИЯ'!O6<>\"\",'ШАБЛОН для ЗАПОЛНЕНИЯ'!O6,\"\")","v":"Гатауллина Г.К."},{"$nulls":3},{"$f":"IF('ШАБЛОН для ЗАПОЛНЕНИЯ'!S6<>\"\",'ШАБЛОН для ЗАПОЛНЕНИЯ'!S6,\"\")","v":"Андронова Е.А."},{"$nulls":3},{"$f":"IF('ШАБЛОН для ЗАПОЛНЕНИЯ'!W6<>\"\",'ШАБЛОН для ЗАПОЛНЕНИЯ'!W6,\"\")","v":"Нургалиева Р.А."},{"$nulls":3},{"$f":"IF('ШАБЛОН для ЗАПОЛНЕНИЯ'!AA6<>\"\",'ШАБЛОН для ЗАПОЛНЕНИЯ'!AA6,\"\")","v":"Гатауллина Г.Р."},{"$nulls":3},{"$f":"IF('ШАБЛОН для ЗАПОЛНЕНИЯ'!AE6<>\"\",'ШАБЛОН для ЗАПОЛНЕНИЯ'!AE6,\"\")","v":"Шакирова Т.Х."},{"$nulls":3},{"$f":"IF('ШАБЛОН для ЗАПОЛНЕНИЯ'!AI6<>\"\",'ШАБЛОН для ЗАПОЛНЕНИЯ'!AI6,\"\")","v":"Сафина Л.И."},{"$nulls":3},{"$f":"IF('ШАБЛОН для ЗАПОЛНЕНИЯ'!AM6<>\"\",'ШАБЛОН для ЗАПОЛНЕНИЯ'!AM6,\"\")","v":""},{"$nulls":3},{"$f":"IF('ШАБЛОН для ЗАПОЛНЕНИЯ'!AQ6<>\"\",'ШАБЛОН для ЗАПОЛНЕНИЯ'!AQ6,\"\")","v":""},{"$nulls":3},{"$f":"IF('ШАБЛОН для ЗАПОЛНЕНИЯ'!AU6<>\"\",'ШАБЛОН для ЗАПОЛНЕНИЯ'!AU6,\"\")","v":""},{"$nulls":3},{"$f":"IF('ШАБЛОН для ЗАПОЛНЕНИЯ'!AY6<>\"\",'ШАБЛОН для ЗАПОЛНЕНИЯ'!AY6,\"\")","v":""},{"$nulls":3},{"$f":"IF('ШАБЛОН для ЗАПОЛНЕНИЯ'!BC6<>\"\",'ШАБЛОН для ЗАПОЛНЕНИЯ'!BC6,\"\")","v":""},{"$nulls":3},{"$f":"IF('ШАБЛОН для ЗАПОЛНЕНИЯ'!BG6<>\"\",'ШАБЛОН для ЗАПОЛНЕНИЯ'!BG6,\"\")","v":""},{"$nulls":3},{"$f":"IF('ШАБЛОН для ЗАПОЛНЕНИЯ'!BK6<>\"\",'ШАБЛОН для ЗАПОЛНЕНИЯ'!BK6,\"\")","v":""},{"$nulls":3},{"$f":"IF('ШАБЛОН для ЗАПОЛНЕНИЯ'!BO6<>\"\",'ШАБЛОН для ЗАПОЛНЕНИЯ'!BO6,\"\")","v":""},{"$nulls":3},{"$f":"IF('ШАБЛОН для ЗАПОЛНЕНИЯ'!BS6<>\"\",'ШАБЛОН для ЗАПОЛНЕНИЯ'!BS6,\"\")","v":""},{"$nulls":3},{"$f":"IF('ШАБЛОН для ЗАПОЛНЕНИЯ'!BW6<>\"\",'ШАБЛОН для ЗАПОЛНЕНИЯ'!BW6,\"\")","v":""},{"$nulls":3},{"$f":"IF('ШАБЛОН для ЗАПОЛНЕНИЯ'!CA6<>\"\",'ШАБЛОН для ЗАПОЛНЕНИЯ'!CA6,\"\")","v":""},{"$nulls":3},{"$f":"IF('ШАБЛОН для ЗАПОЛНЕНИЯ'!CE6<>\"\",'ШАБЛОН для ЗАПОЛНЕНИЯ'!CE6,\"\")","v":""},{"$nulls":3},{"$f":"IF('ШАБЛОН для ЗАПОЛНЕНИЯ'!CI6<>\"\",'ШАБЛОН для ЗАПОЛНЕНИЯ'!CI6,\"\")","v":""},{"$nulls":3},{"$f":"IF('ШАБЛОН для ЗАПОЛНЕНИЯ'!CM6<>\"\",'ШАБЛОН для ЗАПОЛНЕНИЯ'!CM6,\"\")","v":""},{"$nulls":3},{"$f":"IF('ШАБЛОН для ЗАПОЛНЕНИЯ'!CQ6<>\"\",'ШАБЛОН для ЗАПОЛНЕНИЯ'!CQ6,\"\")","v":""}]
[]
["Закреп. каб.",null,{"$f":"IF('ШАБЛОН для ЗАПОЛНЕНИЯ'!C8<>\"\",'ШАБЛОН для ЗАПОЛНЕНИЯ'!C8,\"\")","v":""},{"$nulls":3},{"$f":"IF('ШАБЛОН для ЗАПОЛНЕНИЯ'!G8<>\"\",'ШАБЛОН для ЗАПОЛНЕНИЯ'!G8,\"\")","v":""},{"$nulls":3},{"$f":"IF('ШАБЛОН для ЗАПОЛНЕНИЯ'!K8<>\"\",'ШАБЛОН для ЗАПОЛНЕНИЯ'!K8,\"\")","v":""},{"$nulls":3},{"$f":"IF('ШАБЛОН для ЗАПОЛНЕНИЯ'!O8<>\"\",'ШАБЛОН для ЗАПОЛНЕНИЯ'!O8,\"\")","v":""},{"$nulls":3},{"$f":"IF('ШАБЛОН для ЗАПОЛНЕНИЯ'!S8<>\"\",'ШАБЛОН для ЗАПОЛНЕНИЯ'!S8,\"\")","v":""},{"$nulls":3},{"$f":"IF('ШАБЛОН для ЗАПОЛНЕНИЯ'!W8<>\"\",'ШАБЛОН для ЗАПОЛНЕНИЯ'!W8,\"\")","v":""},{"$nulls":3},{"$f":"IF('ШАБЛОН для ЗАПОЛНЕНИЯ'!AA8<>\"\",'ШАБЛОН для ЗАПОЛНЕНИЯ'!AA8,\"\")","v":""},{"$nulls":3},{"$f":"IF('ШАБЛОН для ЗАПОЛНЕНИЯ'!AE8<>\"\",'ШАБЛОН для ЗАПОЛНЕНИЯ'!AE8,\"\")","v":""},{"$nulls":3},{"$f":"IF('ШАБЛОН для ЗАПОЛНЕНИЯ'!AI8<>\"\",'ШАБЛОН для ЗАПОЛНЕНИЯ'!AI8,\"\")","v":""},{"$nulls":3},{"$f":"IF('ШАБЛОН для ЗАПОЛНЕНИЯ'!AM8<>\"\",'ШАБЛОН для ЗАПОЛНЕНИЯ'!AM8,\"\")","v":""},{"$nulls":3},{"$f":"IF('ШАБЛОН для ЗАПОЛНЕНИЯ'!AQ8<>\"\",'ШАБЛОН для ЗАПОЛНЕНИЯ'!AQ8,\"\")","v":""},{"$nulls":3},{"$f":"IF('ШАБЛОН для ЗАПОЛНЕНИЯ'!AU8<>\"\",'ШАБЛОН для ЗАПОЛНЕНИЯ'!AU8,\"\")","v":""},{"$nulls":3},{"$f":"IF('ШАБЛОН для ЗАПОЛНЕНИЯ'!AY8<>\"\",'ШАБЛОН для ЗАПОЛНЕНИЯ'!AY8,\"\")","v":""},{"$nulls":3},{"$f":"IF('ШАБЛОН для ЗАПОЛНЕНИЯ'!BC8<>\"\",'ШАБЛОН для ЗАПОЛНЕНИЯ'!BC8,\"\")","v":""},{"$nulls":3},{"$f":"IF('ШАБЛОН для ЗАПОЛНЕНИЯ'!BG8<>\"\",'ШАБЛОН для ЗАПОЛНЕНИЯ'!BG8,\"\")","v":""},{"$nulls":3},{"$f":"IF('ШАБЛОН для ЗАПОЛНЕНИЯ'!BK8<>\"\",'ШАБЛОН для ЗАПОЛНЕНИЯ'!BK8,\"\")","v":""},{"$nulls":3},{"$f":"IF('ШАБЛОН для ЗАПОЛНЕНИЯ'!BO8<>\"\",'ШАБЛОН для ЗАПОЛНЕНИЯ'!BO8,\"\")","v":""},{"$nulls":3},{"$f":"IF('ШАБЛОН для ЗАПОЛНЕНИЯ'!BS8<>\"\",'ШАБЛОН для ЗАПОЛНЕНИЯ'!BS8,\"\")","v":""},{"$nulls":3},{"$f":"IF('ШАБЛОН для ЗАПОЛНЕНИЯ'!BW8<>\"\",'ШАБЛОН для ЗАПОЛНЕНИЯ'!BW8,\"\")","v":""},{"$nulls":3},{"$f":"IF('ШАБЛОН для ЗАПОЛНЕНИЯ'!CA8<>\"\",'ШАБЛОН для ЗАПОЛНЕНИЯ'!CA8,\"\")","v":""},{"$nulls":3},{"$f":"IF('ШАБЛОН для ЗАПОЛНЕНИЯ'!CE8<>\"\",'ШАБЛОН для ЗАПОЛНЕНИЯ'!CE8,\"\")","v":""},{"$nulls":3},{"$f":"IF('ШАБЛОН для ЗАПОЛНЕНИЯ'!CI8<>\"\",'ШАБЛОН для ЗАПОЛНЕНИЯ'!CI8,\"\")","v":""},{"$nulls":3},{"$f":"IF('ШАБЛОН для ЗАПОЛНЕНИЯ'!CM8<>\"\",'ШАБЛОН для ЗАПОЛНЕНИЯ'!CM8,\"\")","v":""},{"$nulls":3},{"$f":"IF('ШАБЛОН для ЗАПОЛНЕНИЯ'!CQ8<>\"\",'ШАБЛОН для ЗАПОЛНЕНИЯ'!CQ8,\"\")","v":""}]
["День","Урок"]
["ПОНЕДЕЛЬНИК",1,{"$f":"IF('ШАБЛОН для ЗАПОЛНЕНИЯ'!C10<>\"\",'ШАБЛОН для ЗАПОЛНЕНИЯ'!C10,\"\")","v":"Родной язык"},null,{"$f":"IF('ШАБЛОН для ЗАПОЛНЕНИЯ'!E10<>\"\",'ШАБЛОН для ЗАПОЛНЕНИЯ'!E10,\"\")","v":""},{"$f":"IF('ШАБЛОН для ЗАПОЛНЕНИЯ'!F10<>\"\",'ШАБЛОН для ЗАПОЛНЕНИЯ'!F10,\"\")","v":""},{"$f":"IF('ШАБЛОН для ЗАПОЛНЕНИЯ'!G10<>\"\",'ШАБЛОН для ЗАПОЛНЕНИЯ'!G10,\"\")","v":"Англ.язык"},{"$f":"IF('ШАБЛОН для ЗАПОЛНЕНИЯ'!H10<>\"\",'ШАБЛОН для ЗАПОЛНЕНИЯ'!H10,\"\")","v":""},{"$f":"IF('ШАБЛОН для ЗАПОЛНЕНИЯ'!I10<>\"\",'ШАБЛОН для ЗАПОЛНЕНИЯ'!I10,\"\")","v":""},{"$f":"IF('ШАБЛОН для ЗАПОЛНЕНИЯ'!J10<>\"\",'ШАБЛОН для ЗАПОЛНЕНИЯ'!J10,\"\")","v":""},{"$f":"IF('ШАБЛОН для ЗАПОЛНЕНИЯ'!K10<>\"\",'ШАБЛОН для ЗАПОЛНЕНИЯ'!K10,\"\")","v":"Родной язык"},{"$f":"IF('ШАБЛОН для ЗАПОЛНЕНИЯ'!L10<>\"\",'ШАБЛОН для ЗАПОЛНЕНИЯ'!L10,\"\")","v":""},{"$f":"IF('ШАБЛОН для ЗАПОЛНЕНИЯ'!M10<>\"\",'ШАБЛОН для ЗАПОЛНЕНИЯ'!M10,\"\")","v":""},{"$f":"IF('ШАБЛОН для ЗАПОЛНЕНИЯ'!N10<>\"\",'ШАБЛОН для ЗАПОЛНЕНИЯ'!N10,\"\")","v":""},{"$f":"IF('ШАБЛОН для ЗАПОЛНЕНИЯ'!O10<>\"\",'ШАБЛОН для ЗАПОЛНЕНИЯ'!O10,\"\")","v":"Англ.язык"},{"$f":"IF('ШАБЛОН для ЗАПОЛНЕНИЯ'!P10<>\"\",'ШАБЛОН для ЗАПОЛНЕНИЯ'!P10,\"\")","v":""},{"$f":"IF('ШАБЛОН для ЗАПОЛНЕНИЯ'!Q10<>\"\",'ШАБЛОН для ЗАПОЛНЕНИЯ'!Q10,\"\")","v":""},{"$f":"IF('ШАБЛОН для ЗАПОЛНЕНИЯ'!R10<>\"\",'ШАБЛОН для ЗАПОЛНЕНИЯ'!R10,\"\")","v":""},{"$f":"IF('ШАБЛОН для ЗАПОЛНЕНИЯ'!S10<>\"\",'ШАБЛОН для ЗАПОЛНЕНИЯ'!S10,\"\")","v":"История"},{"$f":"IF('ШАБЛОН для ЗАПОЛНЕНИЯ'!T10<>\"\",'ШАБЛОН для ЗАПОЛНЕНИЯ'!T10,\"\")","v":""},{"$f":"IF('ШАБЛОН для ЗАПОЛНЕНИЯ'!U10<>\"\",'ШАБЛОН для ЗАПОЛНЕНИЯ'!U10,\"\")","v":""},{"$f":"IF('ШАБЛОН для ЗАПОЛНЕНИЯ'!V10<>\"\",'ШАБЛОН для ЗАПОЛНЕНИЯ'!V10,\"\")","v":""},{"$f":"IF('ШАБЛОН для ЗАПОЛНЕНИЯ'!W10<>\"\",'ШАБЛОН для ЗАПОЛНЕНИЯ'!W10,\"\")","v":"Англ.язык"},{"$f":"IF('ШАБЛОН для ЗАПОЛНЕНИЯ'!X10<>\"\",'ШАБЛОН для ЗАПОЛНЕНИЯ'!X10,\"\")","v":""},{"$f":"IF('ШАБЛОН для ЗАПОЛНЕНИЯ'!Y10<>\"\",'ШАБЛОН для ЗАПОЛНЕНИЯ'!Y10,\"\")","v":""},{"$f":"IF('ШАБЛОН для ЗАПОЛНЕНИЯ'!Z10<>\"\",'ШАБЛОН для ЗАПОЛНЕНИЯ'!Z10,\"\")","v":""},{"$f":"IF('ШАБЛОН для ЗАПОЛНЕНИЯ'!AA10<>\"\",'ШАБЛОН для ЗАПОЛНЕНИЯ'!AA10,\"\")","v":"Физика"},{"$f":"IF('ШАБЛОН для ЗАПОЛНЕНИЯ'!AB10<>\"\",'ШАБЛОН для ЗАПОЛНЕНИЯ'!AB10,\"\")","v":""},{"$f":"IF('ШАБЛОН для ЗАПОЛНЕНИЯ'!AC10<>\"\",'ШАБЛОН для ЗАПОЛНЕНИЯ'!AC10,\"\")","v":""},{"$f":"IF('ШАБЛОН для ЗАПОЛНЕНИЯ'!AD10<>\"\",'ШАБЛОН для ЗАПОЛНЕНИЯ'!AD10,\"\")","v":""},{"$f":"IF('ШАБЛОН для ЗАПОЛНЕНИЯ'!AE10<>\"\",'ШАБЛОН для ЗАПОЛНЕНИЯ'!AE10,\"\")","v":"ОБЖ"},{"$f":"IF('ШАБЛОН для ЗАПОЛНЕНИЯ'!AF10<>\"\",'ШАБЛОН для ЗАПОЛНЕНИЯ'!AF10,\"\")","v":""},{"$f":"IF('ШАБЛОН для ЗАПОЛНЕНИЯ'!AG10<>\"\",'ШАБЛОН для ЗАПОЛНЕНИЯ'!AG10,\"\")","v":""},{"$f":"IF('ШАБЛОН для ЗАПОЛНЕНИЯ'!AH10<>\"\",'ШАБЛОН для ЗАПОЛНЕНИЯ'!AH10,\"\")","v":""},{"$f":"IF('ШАБЛОН для ЗАПОЛНЕНИЯ'!AI10<>\"\",'ШАБЛОН для ЗАПОЛНЕНИЯ'!AI10,\"\")","v":"Рус.язык"},{"$f":"IF('ШАБЛОН для ЗАПОЛНЕНИЯ'!AJ10<>\"\",'ШАБЛОН для ЗАПОЛНЕНИЯ'!AJ10,\"\")","v":""},{"$f":"IF('ШАБЛОН для ЗАПОЛНЕНИЯ'!AK10<>\"\",'ШАБЛОН для ЗАПОЛНЕНИЯ'!AK10,\"\")","v":""},{"$f":"IF('ШАБЛОН для ЗАПОЛНЕНИЯ'!AL10<>\"\",'ШАБЛОН для ЗАПОЛНЕНИЯ'!AL10,\"\")","v":""},{"$f":"IF('ШАБЛОН для ЗАПОЛНЕНИЯ'!AM10<>\"\",'ШАБЛОН для ЗАПОЛНЕНИЯ'!AM10,\"\")","v":""},{"$f":"IF('ШАБЛОН для ЗАПОЛНЕНИЯ'!AN10<>\"\",'ШАБЛОН для ЗАПОЛНЕНИЯ'!AN10,\"\")","v":"---"},{"$f":"IF('ШАБЛОН для ЗАПОЛНЕНИЯ'!AO10<>\"\",'ШАБЛОН для ЗАПОЛНЕНИЯ'!AO10,\"\")","v":""},{"$f":"IF('ШАБЛОН для ЗАПОЛНЕНИЯ'!AP10<>\"\",'ШАБЛОН для ЗАПОЛНЕНИЯ'!AP10,\"\")","v":""},{"$f":"IF('ШАБЛОН для ЗАПОЛНЕНИЯ'!AQ10<>\"\",'ШАБЛОН для ЗАПОЛНЕНИЯ'!AQ10,\"\")","v":""},{"$f":"IF('ШАБЛОН для ЗАПОЛНЕНИЯ'!AR10<>\"\",'ШАБЛОН для ЗАПОЛНЕНИЯ'!AR10,\"\")","v":"---"},{"$f":"IF('ШАБЛОН для ЗАПОЛНЕНИЯ'!AS10<>\"\",'ШАБЛОН для ЗАПОЛНЕНИЯ'!AS10,\"\")","v":""},{"$f":"IF('ШАБЛОН для ЗАПОЛНЕНИЯ'!AT10<>\"\",'ШАБЛОН для ЗАПОЛНЕНИЯ'!AT10,\"\")","v":""},{"$f":"IF('ШАБЛОН для ЗАПОЛНЕНИЯ'!AU10<>\"\",'ШАБЛОН для ЗАПОЛНЕНИЯ'!AU10,\"\")","v":""},{"$f":"IF('ШАБЛОН для ЗАПОЛНЕНИЯ'!AV10<>\"\",'ШАБЛОН для ЗАПОЛНЕНИЯ'!AV10,\"\")","v":"---"},{"$f":"IF('ШАБЛОН для ЗАПОЛНЕНИЯ'!AW10<>\"\",'ШАБЛОН для ЗАПОЛНЕНИЯ'!AW10,\"\")","v":""},{"$f":"IF('ШАБЛОН для ЗАПОЛНЕНИЯ'!AX10<>\"\",'ШАБЛОН для ЗАПОЛНЕНИЯ'!AX10,\"\")","v":""},{"$f":"IF('ШАБЛОН для ЗАПОЛНЕНИЯ'!AY10<>\"\",'ШАБЛОН для ЗАПОЛНЕНИЯ'!AY10,\"\")","v":""},{"$f":"IF('ШАБЛОН для ЗАПОЛНЕНИЯ'!AZ10<>\"\",'ШАБЛОН для ЗАПОЛНЕНИЯ'!AZ10,\"\")","v":"---"},{"$f":"IF('ШАБЛОН для ЗАПОЛНЕНИЯ'!BA10<>\"\",'ШАБЛОН для ЗАПОЛНЕНИЯ'!BA10,\"\")","v":""},{"$f":"IF('ШАБЛОН для ЗАПОЛНЕНИЯ'!BB10<>\"\",'ШАБЛОН для ЗАПОЛНЕНИЯ'!BB10,\"\")","v":""},{"$f":"IF('ШАБЛОН для ЗАПОЛНЕНИЯ'!BC10<>\"\",'ШАБЛОН для ЗАПОЛНЕНИЯ'!BC10,\"\")","v":""},{"$f":"IF('ШАБЛОН для ЗАПОЛНЕНИЯ'!BD10<>\"\",'ШАБЛОН для ЗАПОЛНЕНИЯ'!BD10,\"\")","v":"---"},{"$f":"IF('ШАБЛОН для ЗАПОЛНЕНИЯ'!BE10<>\"\",'ШАБЛОН для ЗАПОЛНЕНИЯ'!BE10,\"\")","v":""},{"$f":"IF('ШАБЛОН для ЗАПОЛНЕНИЯ'!BF10<>\"\",'ШАБЛОН для ЗАПОЛНЕНИЯ'!BF10,\"\")","v":""},{"$f":"IF('ШАБЛОН для ЗАПОЛНЕНИЯ'!BG10<>\"\",'ШАБЛОН для ЗАПОЛНЕНИЯ'!BG10,\"\")","v":""},{"$f":"IF('ШАБЛОН для ЗАПОЛНЕНИЯ'!BH10<>\"\",'ШАБЛОН для ЗАПОЛНЕНИЯ'!BH10,\"\")","v":"---"},{"$f":"IF('ШАБЛОН для ЗАПОЛНЕНИЯ'!BI10<>\"\",'ШАБЛОН для ЗАПОЛНЕНИЯ'!BI10,\"\")","v":""},{"$f":"IF('ШАБЛОН для ЗАПОЛНЕНИЯ'!BJ10<>\"\",'ШАБЛОН для ЗАПОЛНЕНИЯ'!BJ10,\"\")","v":""},{"$f":"IF('ШАБЛОН для ЗАПОЛНЕНИЯ'!BK10<>\"\",'ШАБЛОН для ЗАПОЛНЕНИЯ'!BK10,\"\")","v":""},{"$f":"IF('ШАБЛОН для ЗАПОЛНЕНИЯ'!BL10<>\"\",'ШАБЛОН для ЗАПОЛНЕНИЯ'!BL10,\"\")","v":"---"},{"$f":"IF('ШАБЛОН для ЗАПОЛНЕНИЯ'!BM10<>\"\",'ШАБЛОН для ЗАПОЛНЕНИЯ'!BM10,\"\")","v":""},{"$f":"IF('ШАБЛОН для ЗАПОЛНЕНИЯ'!BN10<>\"\",'ШАБЛОН для ЗАПОЛНЕНИЯ'!BN10,\"\")","v":""},{"$f":"IF('ШАБЛОН для ЗАПОЛНЕНИЯ'!BO10<>\"\",'ШАБЛОН для ЗАПОЛНЕНИЯ'!BO10,\"\")","v":""},{"$f":"IF('ШАБЛОН для ЗАПОЛНЕНИЯ'!BP10<>\"\",'ШАБЛОН для ЗАПОЛНЕНИЯ'!BP10,\"\")","v":"---"},{"$f":"IF('ШАБЛОН для ЗАПОЛНЕНИЯ'!BQ10<>\"\",'ШАБЛОН для ЗАПОЛНЕНИЯ'!BQ10,\"\")","v":""},{"$f":"IF('ШАБЛОН для ЗАПОЛНЕНИЯ'!BR10<>\"\",'ШАБЛОН для ЗАПОЛНЕНИЯ'!BR10,\"\")","v":""},{"$f":"IF('ШАБЛОН для ЗАПОЛНЕНИЯ'!BS10<>\"\",'ШАБЛОН для ЗАПОЛНЕНИЯ'!BS10,\"\")","v":""},{"$f":"IF('ШАБЛОН для ЗАПОЛНЕНИЯ'!BT10<>\"\",'ШАБЛОН для ЗАПОЛНЕНИЯ'!BT10,\"\")","v":"---"},{"$f":"IF('ШАБЛОН для ЗАПОЛНЕНИЯ'!BU10<>\"\",'ШАБЛОН для ЗАПОЛНЕНИЯ'!BU10,\"\")","v":""},{"$f":"IF('ШАБЛОН для ЗАПОЛНЕНИЯ'!BV10<>\"\",'ШАБЛОН для ЗАПОЛНЕНИЯ'!BV10,\"\")","v":""},{"$f":"IF('ШАБЛОН для ЗАПОЛНЕНИЯ'!BW10<>\"\",'ШАБЛОН для ЗАПОЛНЕНИЯ'!BW10,\"\")","v":""},{"$f":"IF('ШАБЛОН для ЗАПОЛНЕНИЯ'!BX10<>\"\",'ШАБЛОН для ЗАПОЛНЕНИЯ'!BX10,\"\")","v":"---"},{"$f":"IF('ШАБЛОН для ЗАПОЛНЕНИЯ'!BY10<>\"\",'ШАБЛОН для ЗАПОЛНЕНИЯ'!BY10,\"\")","v":""},{"$f":"IF('ШАБЛОН для ЗАПОЛНЕНИЯ'!BZ10<>\"\",'ШАБЛОН для ЗАПОЛНЕНИЯ'!BZ10,\"\")","v":""},{"$f":"IF('ШАБЛОН для ЗАПОЛНЕНИЯ'!CA10<>\"\",'ШАБЛОН для ЗАПОЛНЕНИЯ'!CA10,\"\")","v":""},{"$f":"IF('ШАБЛОН для ЗАПОЛНЕНИЯ'!CB10<>\"\",'ШАБЛОН для ЗАПОЛНЕНИЯ'!CB10,\"\")","v":"---"},{"$f":"IF('ШАБЛОН для ЗАПОЛНЕНИЯ'!CC10<>\"\",'ШАБЛОН для ЗАПОЛНЕНИЯ'!CC10,\"\")","v":""},{"$f":"IF('ШАБЛОН для ЗАПОЛНЕНИЯ'!CD10<>\"\",'ШАБЛОН для ЗАПОЛНЕНИЯ'!CD10,\"\")","v":""},{"$f":"IF('ШАБЛОН для ЗАПОЛНЕНИЯ'!CE10<>\"\",'ШАБЛОН для ЗАПОЛНЕНИЯ'!CE10,\"\")","v":""},{"$f":"IF('ШАБЛОН для ЗАПОЛНЕНИЯ'!CF10<>\"\",'ШАБЛОН для ЗАПОЛНЕНИЯ'!CF10,\"\")","v":"---"},{"$f":"IF('ШАБЛОН для ЗАПОЛНЕНИЯ'!CG10<>\"\",'ШАБЛОН для ЗАПОЛНЕНИЯ'!CG10,\"\")","v":""},{"$f":"IF('ШАБЛОН для ЗАПОЛНЕНИЯ'!CH10<>\"\",'ШАБЛОН для ЗАПОЛНЕНИЯ'!CH10,\"\")","v":""},{"$f":"IF('ШАБЛОН для ЗАПОЛНЕНИЯ'!CI10<>\"\",'ШАБЛОН для ЗАПОЛНЕНИЯ'!CI10,\"\")","v":""},{"$f":"IF('ШАБЛОН для ЗАПОЛНЕНИЯ'!CJ10<>\"\",'ШАБЛОН для ЗАПОЛНЕНИЯ'!CJ10,\"\")","v":"---"},{"$f":"IF('ШАБЛОН для ЗАПОЛНЕНИЯ'!CK10<>\"\",'ШАБЛОН для ЗАПОЛНЕНИЯ'!CK10,\"\")","v":""},{"$f":"IF('ШАБЛОН для ЗАПОЛНЕНИЯ'!CL10<>\"\",'ШАБЛОН для ЗАПОЛНЕНИЯ'!CL10,\"\")","v":""},{"$f":"IF('ШАБЛОН для ЗАПОЛНЕНИЯ'!CM10<>\"\",'ШАБЛОН для ЗАПОЛНЕНИЯ'!CM10,\"\")","v":""},{"$f":"IF('ШАБЛОН для ЗАПОЛНЕНИЯ'!CN10<>\"\",'ШАБЛОН для ЗАПОЛНЕНИЯ'!CN10,\"\")","v":"---"},{"$f":"IF('ШАБЛОН для ЗАПОЛНЕНИЯ'!CO10<>\"\",'ШАБЛОН для ЗАПОЛНЕНИЯ'!CO10,\"\")","v":""},{"$f":"IF('ШАБЛОН для ЗАПОЛНЕНИЯ'!CP10<>\"\",'ШАБЛОН для ЗАПОЛНЕНИЯ'!CP10,\"\")","v":""},{"$f":"IF('ШАБЛОН для ЗАПОЛНЕНИЯ'!CQ10<>\"\",'ШАБЛОН для ЗАПОЛНЕНИЯ'!CQ10,\"\")","v":""},{"$f":"IF('ШАБЛОН для ЗАПОЛНЕНИЯ'!CR10<>\"\",'ШАБЛОН для ЗАПОЛНЕНИЯ'!CR10,\"\")","v":"---"},{"$f":"IF('ШАБЛОН для ЗАПОЛНЕНИЯ'!CS10<>\"\",'ШАБЛОН для ЗАПОЛНЕНИЯ'!CS10,\"\")","v":""},{"$f":"IF('ШАБЛОН для ЗАПОЛНЕНИЯ'!CT10<>\"\",'ШАБЛОН для ЗАПОЛНЕНИЯ'!CT10,\"\")","v":""}]
[null,2,{"$f":"IF('ШАБЛОН для ЗАПОЛНЕНИЯ'!C11<>\"\",'ШАБЛОН для ЗАПОЛНЕНИЯ'!C11,\"\")","v":"Чт.на род.языке"},{"$f":"IF('ШАБЛОН для ЗАПОЛНЕНИЯ'!D11<>\"\",'ШАБЛОН для ЗАПОЛНЕНИЯ'!D11,\"\")","v":""},{"$f":"IF('ШАБЛОН для ЗАПОЛНЕНИЯ'!E11<>\"\",'ШАБЛОН для ЗАПОЛНЕНИЯ'!E11,\"\")","v":""},{"$f":"IF('ШАБЛОН для ЗАПОЛНЕНИЯ'!F11<>\"\",'ШАБЛОН для ЗАПОЛНЕНИЯ'!F11,\"\")","v":""},{"$f":"IF('ШАБЛОН для ЗАПОЛНЕНИЯ'!G11<>\"\",'ШАБЛОН для ЗАПОЛНЕНИЯ'!G11,\"\")","v":"Русский язык"},{"$f":"IF('ШАБЛОН для ЗАПОЛНЕНИЯ'!H11<>\"\",'ШАБЛОН для ЗАПОЛНЕНИЯ'!H11,\"\")","v":""},{"$f":"IF('ШАБЛОН для ЗАПОЛНЕНИЯ'!I11<>\"\",'ШАБЛОН для ЗАПОЛНЕНИЯ'!I11,\"\")","v":""},{"$f":"IF('ШАБЛОН для ЗАПОЛНЕНИЯ'!J11<>\"\",'ШАБЛОН для ЗАПОЛНЕНИЯ'!J11,\"\")","v":""},{"$f":"IF('ШАБЛОН для ЗАПОЛНЕНИЯ'!K11<>\"\",'ШАБЛОН для ЗАПОЛНЕНИЯ'!K11,\"\")","v":"Чт. на родном языке"},{"$f":"IF('ШАБЛОН для ЗАПОЛНЕНИЯ'!L11<>\"\",'ШАБЛОН для ЗАПОЛНЕНИЯ'!L11,\"\")","v":""},{"$f":"IF('ШАБЛОН для ЗАПОЛНЕНИЯ'!M11<>\"\",'ШАБЛОН для ЗАПОЛНЕНИЯ'!M11,\"\")","v":""},{"$f":"IF('ШАБЛОН для ЗАПОЛНЕНИЯ'!N11<>\"\",'ШАБЛОН для ЗАПОЛНЕНИЯ'!N11,\"\")","v":""},{"$f":"IF('ШАБЛОН для ЗАПОЛНЕНИЯ'!O11<>\"\",'ШАБЛОН для ЗАПОЛНЕНИЯ'!O11,\"\")","v":"Русский язык"},{"$f":"IF('ШАБЛОН для ЗАПОЛНЕНИЯ'!P11<>\"\",'ШАБЛОН для ЗАПОЛНЕНИЯ'!P11,\"\")","v":""},{"$f":"IF('ШАБЛОН для ЗАПОЛНЕНИЯ'!Q11<>\"\",'ШАБЛОН для ЗАПОЛНЕНИЯ'!Q11,\"\")","v":""},{"$f":"IF('ШАБЛОН для ЗАПОЛНЕНИЯ'!R11<>\"\",'ШАБЛОН для ЗАПОЛНЕНИЯ'!R11,\"\")","v":""},{"$f":"IF('ШАБЛОН для ЗАПОЛНЕНИЯ'!S11<>\"\",'ШАБЛОН для ЗАПОЛНЕНИЯ'!S11,\"\")","v":"Рус.язык"},{"$f":"IF('ШАБЛОН для ЗАПОЛНЕНИЯ'!T11<>\"\",'ШАБЛОН для ЗАПОЛНЕНИЯ'!T11,\"\")","v":""},{"$f":"IF('ШАБЛОН для ЗАПОЛНЕНИЯ'!U11<>\"\",'ШАБЛОН для ЗАПОЛНЕНИЯ'!U11,\"\")","v":""},{"$f":"IF('ШАБЛОН для ЗАПОЛНЕНИЯ'!V11<>\"\",'ШАБЛОН для ЗАПОЛНЕНИЯ'!V11,\"\")","v":""},{"$f":"IF('ШАБЛОН для ЗАПОЛНЕНИЯ'!W11<>\"\",'ШАБЛОН для ЗАПОЛНЕНИЯ'!W11,\"\")","v":"Математика"},{"$f":"IF('ШАБЛОН для ЗАПОЛНЕНИЯ'!X11<>\"\",'ШАБЛОН для ЗАПОЛНЕНИЯ'!X11,\"\")","v":""},{"$f":"IF('ШАБЛОН для ЗАПОЛНЕНИЯ'!Y11<>\"\",'ШАБЛОН для ЗАПОЛНЕНИЯ'!Y11,\"\")","v":""},{"$f":"IF('ШАБЛОН для ЗАПОЛНЕНИЯ'!Z11<>\"\",'ШАБЛОН для ЗАПОЛНЕНИЯ'!Z11,\"\")","v":""},{"$f":"IF('ШАБЛОН для ЗАПОЛНЕНИЯ'!AA11<>\"\",'ШАБЛОН для ЗАПОЛНЕНИЯ'!AA11,\"\")","v":"Алгебра"},{"$f":"IF('ШАБЛОН для ЗАПОЛНЕНИЯ'!AB11<>\"\",'ШАБЛОН для ЗАПОЛНЕНИЯ'!AB11,\"\")","v":""},{"$f":"IF('ШАБЛОН для ЗАПОЛНЕНИЯ'!AC11<>\"\",'ШАБЛОН для ЗАПОЛНЕНИЯ'!AC11,\"\")","v":""},{"$f":"IF('ШАБЛОН для ЗАПОЛНЕНИЯ'!AD11<>\"\",'ШАБЛОН для ЗАПОЛНЕНИЯ'!AD11,\"\")","v":""},{"$f":"IF('ШАБЛОН для ЗАПОЛНЕНИЯ'!AE11<>\"\",'ШАБЛОН для ЗАПОЛНЕНИЯ'!AE11,\"\")","v":"Технология"},{"$f":"IF('ШАБЛОН для ЗАПОЛНЕНИЯ'!AF11<>\"\",'ШАБЛОН для ЗАПОЛНЕНИЯ'!AF11,\"\")","v":""},{"$f":"IF('ШАБЛОН для ЗАПОЛНЕНИЯ'!AG11<>\"\",'ШАБЛОН для ЗАПОЛНЕНИЯ'!AG11,\"\")","v":""},{"$f":"IF('ШАБЛОН для ЗАПОЛНЕНИЯ'!AH11<>\"\",'ШАБЛОН для ЗАПОЛНЕНИЯ'!AH11,\"\")","v":""},{"$f":"IF('ШАБЛОН для ЗАПОЛНЕНИЯ'!AI11<>\"\",'ШАБЛОН для ЗАПОЛНЕНИЯ'!AI11,\"\")","v":"Англ.язык"},{"$f":"IF('ШАБЛОН для ЗАПОЛНЕНИЯ'!AJ11<>\"\",'ШАБЛОН для ЗАПОЛНЕНИЯ'!AJ11,\"\")","v":""},{"$f":"IF('ШАБЛОН для ЗАПОЛНЕНИЯ'!AK11<>\"\",'ШАБЛОН для ЗАПОЛНЕНИЯ'!AK11,\"\")","v":""},{"$f":"IF('ШАБЛОН для ЗАПОЛНЕНИЯ'!AL11<>\"\",'ШАБЛОН для ЗАПОЛНЕНИЯ'!AL11,\"\")","v":""},{"$f":"IF('ШАБЛОН для ЗАПОЛНЕНИЯ'!AM11<>\"\",'ШАБЛОН для ЗАПОЛНЕНИЯ'!AM11,\"\")","v":""},{"$f":"IF('ШАБЛОН для ЗАПОЛНЕНИЯ'!AN11<>\"\",'ШАБЛОН для ЗАПОЛНЕНИЯ'!AN11,\"\")","v":""},{"$f":"IF('ШАБЛОН для ЗАПОЛНЕНИЯ'!AO11<>\"\",'ШАБЛОН для ЗАПОЛНЕНИЯ'!AO11,\"\")","v":""},{"$f":"IF('ШАБЛОН для ЗАПОЛНЕНИЯ'!AP11<>\"\",'ШАБЛОН для ЗАПОЛНЕНИЯ'!AP11,\"\")","v":""},{"$f":"IF('ШАБЛОН для ЗАПОЛНЕНИЯ'!AQ11<>\"\",'ШАБЛОН для ЗАПОЛНЕНИЯ'!AQ11,\"\")","v":""},{"$f":"IF('ШАБЛОН для ЗАПОЛНЕНИЯ'!AR11<>\"\",'ШАБЛОН для ЗАПОЛНЕНИЯ'!AR11,\"\")","v":""},{"$f":"IF('ШАБЛОН для ЗАПОЛНЕНИЯ'!AS11<>\"\",'ШАБЛОН для ЗАПОЛНЕНИЯ'!AS11,\"\")","v":""},{"$f":"IF('ШАБЛОН для ЗАПОЛНЕНИЯ'!AT11<>\"\",'ШАБЛОН для ЗАПОЛНЕНИЯ'!AT11,\"\")","v":""},{"$f":"IF('ШАБЛОН для ЗАПОЛНЕНИЯ'!AU11<>\"\",'ШАБЛОН для ЗАПОЛНЕНИЯ'!AU11,\"\")","v":""},{"$f":"IF('ШАБЛОН для ЗАПОЛНЕНИЯ'!AV11<>\"\",'ШАБЛОН для ЗАПОЛНЕНИЯ'!AV11,\"\")","v":""},{"$f":"IF('ШАБЛОН для ЗАПОЛНЕНИЯ'!AW11<>\"\",'ШАБЛОН для ЗАПОЛНЕНИЯ'!AW11,\"\")","v":""},{"$f":"IF('ШАБЛОН для ЗАПОЛНЕНИЯ'!AX11<>\"\",'ШАБЛОН для ЗАПОЛНЕНИЯ'!AX11,\"\")","v":""},{"$f":"IF('ШАБЛОН для ЗАПОЛНЕНИЯ'!AY11<>\"\",'ШАБЛОН для ЗАПОЛНЕНИЯ'!AY11,\"\")","v":""},{"$f":"IF('ШАБЛОН для ЗАПОЛНЕНИЯ'!AZ11<>\"\",'ШАБЛОН для ЗАПОЛНЕНИЯ'!AZ11,\"\")","v":""},{"$f":"IF('ШАБЛОН для ЗАПОЛНЕНИЯ'!BA11<>\"\",'ШАБЛОН для ЗАПОЛНЕНИЯ'!BA11,\"\")","v":""},{"$f":"IF('ШАБЛОН для ЗАПОЛНЕНИЯ'!BB11<>\"\",'ШАБЛОН для ЗАПОЛНЕНИЯ'!BB11,\"\")","v":""},{"$f":"IF('ШАБЛОН для ЗАПОЛНЕНИЯ'!BC11<>\"\",'ШАБЛОН для ЗАПОЛНЕНИЯ'!BC11,\"\")","v":""},{"$f":"IF('ШАБЛОН для ЗАПОЛНЕНИЯ'!BD11<>\"\",'ШАБЛОН для ЗАПОЛНЕНИЯ'!BD11,\"\")","v":""},{"$f":"IF('ШАБЛОН для ЗАПОЛНЕНИЯ'!BE11<>\"\",'ШАБЛОН для ЗАПОЛНЕНИЯ'!BE11,\"\")","v":""},{"$f":"IF('ШАБЛОН для ЗАПОЛНЕНИЯ'!BF11<>\"\",'ШАБЛОН для ЗАПОЛНЕНИЯ'!BF11,\"\")","v":""},{"$f":"IF('ШАБЛОН для ЗАПОЛНЕНИЯ'!BG11<>\"\",'ШАБЛОН для ЗАПОЛНЕНИЯ'!BG11,\"\")","v":""},{"$f":"IF('ШАБЛОН для ЗАПОЛНЕНИЯ'!BH11<>\"\",'ШАБЛОН для ЗАПОЛНЕНИЯ'!BH11,\"\")","v":""},{"$f":"IF('ШАБЛОН для ЗАПОЛНЕНИЯ'!BI11<>\"\",'ШАБЛОН для ЗАПОЛНЕНИЯ'!BI11,\"\")","v":""},{"$f":"IF('ШАБЛОН для ЗАПОЛНЕНИЯ'!BJ11<>\"\",'ШАБЛОН для ЗАПОЛНЕНИЯ'!BJ11,\"\")","v":""},{"$f":"IF('ШАБЛОН для ЗАПОЛНЕНИЯ'!BK11<>\"\",'ШАБЛОН для ЗАПОЛНЕНИЯ'!BK11,\"\")","v":""},{"$f":"IF('ШАБЛОН для ЗАПОЛНЕНИЯ'!BL11<>\"\",'ШАБЛОН для ЗАПОЛНЕНИЯ'!BL11,\"\")","v":""},{"$f":"IF('ШАБЛОН для ЗАПОЛНЕНИЯ'!BM11<>\"\",'ШАБЛОН для ЗАПОЛНЕНИЯ'!BM11,\"\")","v":""},{"$f":"IF('ШАБЛОН для ЗАПОЛНЕНИЯ'!BN11<>\"\",'ШАБЛОН для ЗАПОЛНЕНИЯ'!BN11,\"\")","v":""},{"$f":"IF('ШАБЛОН для ЗАПОЛНЕНИЯ'!BO11<>\"\",'ШАБЛОН для ЗАПОЛНЕНИЯ'!BO11,\"\")","v":""},{"$f":"IF('ШАБЛОН для ЗАПОЛНЕНИЯ'!BP11<>\"\",'ШАБЛОН для ЗАПОЛНЕНИЯ'!BP11,\"\")","v":""},{"$f":"IF('ШАБЛОН для ЗАПОЛНЕНИЯ'!BQ11<>\"\",'ШАБЛОН для ЗАПОЛНЕНИЯ'!BQ11,\"\")","v":""},{"$f":"IF('ШАБЛОН для ЗАПОЛНЕНИЯ'!BR11<>\"\",'ШАБЛОН для ЗАПОЛНЕНИЯ'!BR11,\"\")","v":""},{"$f":"IF('ШАБЛОН для ЗАПОЛНЕНИЯ'!BS11<>\"\",'ШАБЛОН для ЗАПОЛНЕНИЯ'!BS11,\"\")","v":""},{"$f":"IF('ШАБЛОН для ЗАПОЛНЕНИЯ'!BT11<>\"\",'ШАБЛОН для ЗАПОЛНЕНИЯ'!BT11,\"\")","v":""},{"$f":"IF('ШАБЛОН для ЗАПОЛНЕНИЯ'!BU11<>\"\",'ШАБЛОН для ЗАПОЛНЕНИЯ'!BU11,\"\")","v":""},{"$f":"IF('ШАБЛОН для ЗАПОЛНЕНИЯ'!BV11<>\"\",'ШАБЛОН для ЗАПОЛНЕНИЯ'!BV11,\"\")","v":""},{"$f":"IF('ШАБЛОН для ЗАПОЛНЕНИЯ'!BW11<>\"\",'ШАБЛОН для ЗАПОЛНЕНИЯ'!BW11,\"\")","v":""},{"$f":"IF('ШАБЛОН для ЗАПОЛНЕНИЯ'!BX11<>\"\",'ШАБЛОН для ЗАПОЛНЕНИЯ'!BX11,\"\")","v":""},{"$f":"IF('ШАБЛОН для ЗАПОЛНЕНИЯ'!BY11<>\"\",'ШАБЛОН для ЗАПОЛНЕНИЯ'!BY11,\"\")","v":""},{"$f":"IF('ШАБЛОН для ЗАПОЛНЕНИЯ'!BZ11<>\"\",'ШАБЛОН для ЗАПОЛНЕНИЯ'!BZ11,\"\")","v":""},{"$f":"IF('ШАБЛОН для ЗАПОЛНЕНИЯ'!CA11<>\"\",'ШАБЛОН для ЗАПОЛНЕНИЯ'!CA11,\"\")","v":""},{"$f":"IF('ШАБЛОН для ЗАПОЛНЕНИЯ'!CB11<>\"\",'ШАБЛОН для ЗАПОЛНЕНИЯ'!CB11,\"\")","v":""},{"$f":"IF('ШАБЛОН для ЗАПОЛНЕНИЯ'!CC11<>\"\",'ШАБЛОН для ЗАПОЛНЕНИЯ'!CC11,\"\")","v":""},{"$f":"IF('ШАБЛОН для ЗАПОЛНЕНИЯ'!CD11<>\"\",'ШАБЛОН для ЗАПОЛНЕНИЯ'!CD11,\"\")","v":""},{"$f":"IF('ШАБЛОН для ЗАПОЛНЕНИЯ'!CE11<>\"\",'ШАБЛОН для ЗАПОЛНЕНИЯ'!CE11,\"\")","v":""},{"$f":"IF('ШАБЛОН для ЗАПОЛНЕНИЯ'!CF11<>\"\",'ШАБЛОН для ЗАПОЛНЕНИЯ'!CF11,\"\")","v":""},{"$f":"IF('ШАБЛОН для ЗАПОЛНЕНИЯ'!CG11<>\"\",'ШАБЛОН для ЗАПОЛНЕНИЯ'!CG11,\"\")","v":""},{"$f":"IF('ШАБЛОН для ЗАПОЛНЕНИЯ'!CH11<>\"\",'ШАБЛОН для ЗАПОЛНЕНИЯ'!CH11,\"\")","v":""},{"$f":"IF('ШАБЛОН для ЗАПОЛНЕНИЯ'!CI11<>\"\",'ШАБЛОН для ЗАПОЛНЕНИЯ'!CI11,\"\")","v":""},{"$f":"IF('ШАБЛОН для ЗАПОЛНЕНИЯ'!CJ11<>\"\",'ШАБЛОН для ЗАПОЛНЕНИЯ'!CJ11,\"\")","v":""},{"$f":"IF('ШАБЛОН для ЗАПОЛНЕНИЯ'!CK11<>\"\",'ШАБЛОН для ЗАПОЛНЕНИЯ'!CK11,\"\")","v":""},{"$f":"IF('ШАБЛОН для ЗАПОЛНЕНИЯ'!CL11<>\"\",'ШАБЛОН для ЗАПОЛНЕНИЯ'!CL11,\"\")","v":""},{"$f":"IF('ШАБЛОН для ЗАПОЛНЕНИЯ'!CM11<>\"\",'ШАБЛОН для ЗАПОЛНЕНИЯ'!CM11,\"\")","v":""},{"$f":"IF('ШАБЛОН для ЗАПОЛНЕНИЯ'!CN11<>\"\",'ШАБЛОН для ЗАПОЛНЕНИЯ'!CN11,\"\")","v":""},{"$f":"IF('ШАБЛОН для ЗАПОЛНЕНИЯ'!CO11<>\"\",'ШАБЛОН для ЗАПОЛНЕНИЯ'!CO11,\"\")","v":""},{"$f":"IF('ШАБЛОН для ЗАПОЛНЕНИЯ'!CP11<>\"\",'ШАБЛОН для ЗАПОЛНЕНИЯ'!CP11,\"\")","v":""},{"$f":"IF('ШАБЛОН для ЗАПОЛНЕНИЯ'!CQ11<>\"\",'ШАБЛОН для ЗАПОЛНЕНИЯ'!CQ11,\"\")","v":""},{"$f":"IF('ШАБЛОН для ЗАПОЛНЕНИЯ'!CR11<>\"\",'ШАБЛОН для ЗАПОЛНЕНИЯ'!CR11,\"\")","v":""},{"$f":"IF('ШАБЛОН для ЗАПОЛНЕНИЯ'!CS11<>\"\",'ШАБЛОН для ЗАПОЛНЕНИЯ'!CS11,\"\")","v":""},{"$f":"IF('ШАБЛОН для ЗАПОЛНЕНИЯ'!CT11<>\"\",'ШАБЛОН для ЗАПОЛНЕНИЯ'!CT11,\"\")","v":""}]
[null,3,{"$f":"IF('ШАБЛОН для ЗАПОЛНЕНИЯ'!C12<>\"\",'ШАБЛОН для ЗАПОЛНЕНИЯ'!C12,\"\")","v":"Музыка"},{"$f":"IF('ШАБЛОН для ЗАПОЛНЕНИЯ'!D12<>\"\",'ШАБЛОН для ЗАПОЛНЕНИЯ'!D12,\"\")","v":""},{"$f":"IF('ШАБЛОН для ЗАПОЛНЕНИЯ'!E12<>\"\",'ШАБЛОН для ЗАПОЛНЕНИЯ'!E12,\"\")","v":""},{"$f":"IF('ШАБЛОН для ЗАПОЛНЕНИЯ'!F12<>\"\",'ШАБЛОН для ЗАПОЛНЕНИЯ'!F12,\"\")","v":""},{"$f":"IF('ШАБЛОН для ЗАПОЛНЕНИЯ'!G12<>\"\",'ШАБЛОН для ЗАПОЛНЕНИЯ'!G12,\"\")","v":"Родной язык"},{"$f":"IF('ШАБЛОН для ЗАПОЛНЕНИЯ'!H12<>\"\",'ШАБЛОН для ЗАПОЛНЕНИЯ'!H12,\"\")","v":""},{"$f":"IF('ШАБЛОН для ЗАПОЛНЕНИЯ'!I12<>\"\",'ШАБЛОН для ЗАПОЛНЕНИЯ'!I12,\"\")","v":""},{"$f":"IF('ШАБЛОН для ЗАПОЛНЕНИЯ'!J12<>\"\",'ШАБЛОН для ЗАПОЛНЕНИЯ'!J12,\"\")","v":""},{"$f":"IF('ШАБЛОН для ЗАПОЛНЕНИЯ'!K12<>\"\",'ШАБЛОН для ЗАПОЛНЕНИЯ'!K12,\"\")","v":"Музыка"},{"$f":"IF('ШАБЛОН для ЗАПОЛНЕНИЯ'!L12<>\"\",'ШАБЛОН для ЗАПОЛНЕНИЯ'!L12,\"\")","v":""},{"$f":"IF('ШАБЛОН для ЗАПОЛНЕНИЯ'!M12<>\"\",'ШАБЛОН для ЗАПОЛНЕНИЯ'!M12,\"\")","v":""},{"$f":"IF('ШАБЛОН для ЗАПОЛНЕНИЯ'!N12<>\"\",'ШАБЛОН для ЗАПОЛНЕНИЯ'!N12,\"\")","v":""},{"$f":"IF('ШАБЛОН для ЗАПОЛНЕНИЯ'!O12<>\"\",'ШАБЛОН для ЗАПОЛНЕНИЯ'!O12,\"\")","v":"Родной язык"},{"$f":"IF('ШАБЛОН для ЗАПОЛНЕНИЯ'!P12<>\"\",'ШАБЛОН для ЗАПОЛНЕНИЯ'!P12,\"\")","v":""},{"$f":"IF('ШАБЛОН для ЗАПОЛНЕНИЯ'!Q12<>\"\",'ШАБЛОН для ЗАПОЛНЕНИЯ'!Q12,\"\")","v":""},{"$f":"IF('ШАБЛОН для ЗАПОЛНЕНИЯ'!R12<>\"\",'ШАБЛОН для ЗАПОЛНЕНИЯ'!R12,\"\")","v":""},{"$f":"IF('ШАБЛОН для ЗАПОЛНЕНИЯ'!S12<>\"\",'ШАБЛОН для ЗАПОЛНЕНИЯ'!S12,\"\")","v":"Физкультура"},{"$f":"IF('ШАБЛОН для ЗАПОЛНЕНИЯ'!T12<>\"\",'ШАБЛОН для ЗАПОЛНЕНИЯ'!T12,\"\")","v":""},{"$f":"IF('ШАБЛОН для ЗАПОЛНЕНИЯ'!U12<>\"\",'ШАБЛОН для ЗАПОЛНЕНИЯ'!U12,\"\")","v":""},{"$f":"IF('ШАБЛОН для ЗАПОЛНЕНИЯ'!V12<>\"\",'ШАБЛОН для ЗАПОЛНЕНИЯ'!V12,\"\")","v":""},{"$f":"IF('ШАБЛОН для ЗАПОЛНЕНИЯ'!W12<>\"\",'ШАБЛОН для ЗАПОЛНЕНИЯ'!W12,\"\")","v":"Рус.язык"},{"$f":"IF('ШАБЛОН для ЗАПОЛНЕНИЯ'!X12<>\"\",'ШАБЛОН для ЗАПОЛНЕНИЯ'!X12,\"\")","v":""},{"$f":"IF('ШАБЛОН для ЗАПОЛНЕНИЯ'!Y12<>\"\",'ШАБЛОН для ЗАПОЛНЕНИЯ'!Y12,\"\")","v":""},{"$f":"IF('ШАБЛОН для ЗАПОЛНЕНИЯ'!Z12<>\"\",'ШАБЛОН для ЗАПОЛНЕНИЯ'!Z12,\"\")","v":""},{"$f":"IF('ШАБЛОН для ЗАПОЛНЕНИЯ'!AA12<>\"\",'ШАБЛОН для ЗАПОЛНЕНИЯ'!AA12,\"\")","v":"Англ.язык"},{"$f":"IF('ШАБЛОН для ЗАПОЛНЕНИЯ'!AB12<>\"\",'ШАБЛОН для ЗАПОЛНЕНИЯ'!AB12,\"\")","v":""},{"$f":"IF('ШАБЛОН для ЗАПОЛНЕНИЯ'!AC12<>\"\",'ШАБЛОН для ЗАПОЛНЕНИЯ'!AC12,\"\")","v":""},{"$f":"IF('ШАБЛОН для ЗАПОЛНЕНИЯ'!AD12<>\"\",'ШАБЛОН для ЗАПОЛНЕНИЯ'!AD12,\"\")","v":""},{"$f":"IF('ШАБЛОН для ЗАПОЛНЕНИЯ'!AE12<>\"\",'ШАБЛОН для ЗАПОЛНЕНИЯ'!AE12,\"\")","v":"Алгебра"},{"$f":"IF('ШАБЛОН для ЗАПОЛНЕНИЯ'!AF12<>\"\",'ШАБЛОН для ЗАПОЛНЕНИЯ'!AF12,\"\")","v":""},{"$f":"IF('ШАБЛОН для ЗАПОЛНЕНИЯ'!AG12<>\"\",'ШАБЛОН для ЗАПОЛНЕНИЯ'!AG12,\"\")","v":""},{"$f":"IF('ШАБЛОН для ЗАПОЛНЕНИЯ'!AH12<>\"\",'ШАБЛОН для ЗАПОЛНЕНИЯ'!AH12,\"\")","v":""},{"$f":"IF('ШАБЛОН для ЗАПОЛНЕНИЯ'!AI12<>\"\",'ШАБЛОН для ЗАПОЛНЕНИЯ'!AI12,\"\")","v":"История"},{"$f":"IF('ШАБЛОН для ЗАПОЛНЕНИЯ'!AJ12<>\"\",'ШАБЛОН для ЗАПОЛНЕНИЯ'!AJ12,\"\")","v":""},{"$f":"IF('ШАБЛОН для ЗАПОЛНЕНИЯ'!AK12<>\"\",'ШАБЛОН для ЗАПОЛНЕНИЯ'!AK12,\"\")","v":""},{"$f":"IF('ШАБЛОН для ЗАПОЛНЕНИЯ'!AL12<>\"\",'ШАБЛОН для ЗАПОЛНЕНИЯ'!AL12,\"\")","v":""},{"$f":"IF('ШАБЛОН для ЗАПОЛНЕНИЯ'!AM12<>\"\",'ШАБЛОН для ЗАПОЛНЕНИЯ'!AM12,\"\")","v":""},{"$f":"IF('ШАБЛОН для ЗАПОЛНЕНИЯ'!AN12<>\"\",'ШАБЛОН для ЗАПОЛНЕНИЯ'!AN12,\"\")","v":""},{"$f":"IF('ШАБЛОН для ЗАПОЛНЕНИЯ'!AO12<>\"\",'ШАБЛОН для ЗАПОЛНЕНИЯ'!AO12,\"\")","v":""},{"$f":"IF('ШАБЛОН для ЗАПОЛНЕНИЯ'!AP12<>\"\",'ШАБЛОН для ЗАПОЛНЕНИЯ'!AP12,\"\")","v":""},{"$f":"IF('ШАБЛОН для ЗАПОЛНЕНИЯ'!AQ12<>\"\",'ШАБЛОН для ЗАПОЛНЕНИЯ'!AQ12,\"\")","v":""},{"$f":"IF('ШАБЛОН для ЗАПОЛНЕНИЯ'!AR12<>\"\",'ШАБЛОН для ЗАПОЛНЕНИЯ'!AR12,\"\")","v":""},{"$f":"IF('ШАБЛОН для ЗАПОЛНЕНИЯ'!AS12<>\"\",'ШАБЛОН для ЗАПОЛНЕНИЯ'!AS12,\"\")","v":""},{"$f":"IF('ШАБЛОН для ЗАПОЛНЕНИЯ'!AT12<>\"\",'ШАБЛОН для ЗАПОЛНЕНИЯ'!AT12,\"\")","v":""},{"$f":"IF('ШАБЛОН для ЗАПОЛНЕНИЯ'!AU12<>\"\",'ШАБЛОН для ЗАПОЛНЕНИЯ'!AU12,\"\")","v":""},{"$f":"IF('ШАБЛОН для ЗАПОЛНЕНИЯ'!AV12<>\"\",'ШАБЛОН для ЗАПОЛНЕНИЯ'!AV12,\"\")","v":""},{"$f":"IF('ШАБЛОН для ЗАПОЛНЕНИЯ'!AW12<>\"\",'ШАБЛОН для ЗАПОЛНЕНИЯ'!AW12,\"\")","v":""},{"$f":"IF('ШАБЛОН для ЗАПОЛНЕНИЯ'!AX12<>\"\",'ШАБЛОН для ЗАПОЛНЕНИЯ'!AX12,\"\")","v":""},{"$f":"IF('ШАБЛОН для ЗАПОЛНЕНИЯ'!AY12<>\"\",'ШАБЛОН для ЗАПОЛНЕНИЯ'!AY12,\"\")","v":""},{"$f":"IF('ШАБЛОН для ЗАПОЛНЕНИЯ'!AZ12<>\"\",'ШАБЛОН для ЗАПОЛНЕНИЯ'!AZ12,\"\")","v":""},{"$f":"IF('ШАБЛОН для ЗАПОЛНЕНИЯ'!BA12<>\"\",'ШАБЛОН для ЗАПОЛНЕНИЯ'!BA12,\"\")","v":""},{"$f":"IF('ШАБЛОН для ЗАПОЛНЕНИЯ'!BB12<>\"\",'ШАБЛОН для ЗАПОЛНЕНИЯ'!BB12,\"\")","v":""},{"$f":"IF('ШАБЛОН для ЗАПОЛНЕНИЯ'!BC12<>\"\",'ШАБЛОН для ЗАПОЛНЕНИЯ'!BC12,\"\")","v":""},{"$f":"IF('ШАБЛОН для ЗАПОЛНЕНИЯ'!BD12<>\"\",'ШАБЛОН для ЗАПОЛНЕНИЯ'!BD12,\"\")","v":""},{"$f":"IF('ШАБЛОН для ЗАПОЛНЕНИЯ'!BE12<>\"\",'ШАБЛОН для ЗАПОЛНЕНИЯ'!BE12,\"\")","v":""},{"$f":"IF('ШАБЛОН для ЗАПОЛНЕНИЯ'!BF12<>\"\",'ШАБЛОН для ЗАПОЛНЕНИЯ'!BF12,\"\")","v":""},{"$f":"IF('ШАБЛОН для ЗАПОЛНЕНИЯ'!BG12<>\"\",'ШАБЛОН для ЗАПОЛНЕНИЯ'!BG12,\"\")","v":""},{"$f":"IF('ШАБЛОН для ЗАПОЛНЕНИЯ'!BH12<>\"\",'ШАБЛОН для ЗАПОЛНЕНИЯ'!BH12,\"\")","v":""},{"$f":"IF('ШАБЛОН для ЗАПОЛНЕНИЯ'!BI12<>\"\",'ШАБЛОН для ЗАПОЛНЕНИЯ'!BI12,\"\")","v":""},{"$f":"IF('ШАБЛОН для ЗАПОЛНЕНИЯ'!BJ12<>\"\",'ШАБЛОН для ЗАПОЛНЕНИЯ'!BJ12,\"\")","v":""},{"$f":"IF('ШАБЛОН для ЗАПОЛНЕНИЯ'!BK12<>\"\",'ШАБЛОН для ЗАПОЛНЕНИЯ'!BK12,\"\")","v":""},{"$f":"IF('ШАБЛОН для ЗАПОЛНЕНИЯ'!BL12<>\"\",'ШАБЛОН для ЗАПОЛНЕНИЯ'!BL12,\"\")","v":""},{"$f":"IF('ШАБЛОН для ЗАПОЛНЕНИЯ'!BM12<>\"\",'ШАБЛОН для ЗАПОЛНЕНИЯ'!BM12,\"\")","v":""},{"$f":"IF('ШАБЛОН для ЗАПОЛНЕНИЯ'!BN12<>\"\",'ШАБЛОН для ЗАПОЛНЕНИЯ'!BN12,\"\")","v":""},{"$f":"IF('ШАБЛОН для ЗАПОЛНЕНИЯ'!BO12<>\"\",'ШАБЛОН для ЗАПОЛНЕНИЯ'!BO12,\"\")","v":""},{"$f":"IF('ШАБЛОН для ЗАПОЛНЕНИЯ'!BP12<>\"\",'ШАБЛОН для ЗАПОЛНЕНИЯ'!BP12,\"\")","v":""},{"$f":"IF('ШАБЛОН для ЗАПОЛНЕНИЯ'!BQ12<>\"\",'ШАБЛОН для ЗАПОЛНЕНИЯ'!BQ12,\"\")","v":""},{"$f":"IF('ШАБЛОН для ЗАПОЛНЕНИЯ'!BR12<>\"\",'ШАБЛОН для ЗАПОЛНЕНИЯ'!BR12,\"\")","v":""},{"$f":"IF('ШАБЛОН для ЗАПОЛНЕНИЯ'!BS12<>\"\",'ШАБЛОН для ЗАПОЛНЕНИЯ'!BS12,\"\")","v":""},{"$f":"IF('ШАБЛОН для ЗАПОЛНЕНИЯ'!BT12<>\"\",'ШАБЛОН для ЗАПОЛНЕНИЯ'!BT12,\"\")","v":""},{"$f":"IF('ШАБЛОН для ЗАПОЛНЕНИЯ'!BU12<>\"\",'ШАБЛОН для ЗАПОЛНЕНИЯ'!BU12,\"\")","v":""},{"$f":"IF('ШАБЛОН для ЗАПОЛНЕНИЯ'!BV12<>\"\",'ШАБЛОН для ЗАПОЛНЕНИЯ'!BV12,\"\")","v":""},{"$f":"IF('ШАБЛОН для ЗАПОЛНЕНИЯ'!BW12<>\"\",'ШАБЛОН для ЗАПОЛНЕНИЯ'!BW12,\"\")","v":""},{"$f":"IF('ШАБЛОН для ЗАПОЛНЕНИЯ'!BX12<>\"\",'ШАБЛОН для ЗАПОЛНЕНИЯ'!BX12,\"\")","v":""},{"$f":"IF('ШАБЛОН для ЗАПОЛНЕНИЯ'!BY12<>\"\",'ШАБЛОН для ЗАПОЛНЕНИЯ'!BY12,\"\")","v":""},{"$f":"IF('ШАБЛОН для ЗАПОЛНЕНИЯ'!BZ12<>\"\",'ШАБЛОН для ЗАПОЛНЕНИЯ'!BZ12,\"\")","v":""},{"$f":"IF('ШАБЛОН для ЗАПОЛНЕНИЯ'!CA12<>\"\",'ШАБЛОН для ЗАПОЛНЕНИЯ'!CA12,\"\")","v":""},{"$f":"IF('ШАБЛОН для ЗАПОЛНЕНИЯ'!CB12<>\"\",'ШАБЛОН для ЗАПОЛНЕНИЯ'!CB12,\"\")","v":""},{"$f":"IF('ШАБЛОН для ЗАПОЛНЕНИЯ'!CC12<>\"\",'ШАБЛОН для ЗАПОЛНЕНИЯ'!CC12,\"\")","v":""},{"$f":"IF('ШАБЛОН для ЗАПОЛНЕНИЯ'!CD12<>\"\",'ШАБЛОН для ЗАПОЛНЕНИЯ'!CD12,\"\")","v":""},{"$f":"IF('ШАБЛОН для ЗАПОЛНЕНИЯ'!CE12<>\"\",'ШАБЛОН для ЗАПОЛНЕНИЯ'!CE12,\"\")","v":""},{"$f":"IF('ШАБЛОН для ЗАПОЛНЕНИЯ'!CF12<>\"\",'ШАБЛОН для ЗАПОЛНЕНИЯ'!CF12,\"\")","v":""},{"$f":"IF('ШАБЛОН для ЗАПОЛНЕНИЯ'!CG12<>\"\",'ШАБЛОН для ЗАПОЛНЕНИЯ'!CG12,\"\")","v":""},{"$f":"IF('ШАБЛОН для ЗАПОЛНЕНИЯ'!CH12<>\"\",'ШАБЛОН для ЗАПОЛНЕНИЯ'!CH12,\"\")","v":""},{"$f":"IF('ШАБЛОН для ЗАПОЛНЕНИЯ'!CI12<>\"\",'ШАБЛОН для ЗАПОЛНЕНИЯ'!CI12,\"\")","v":""},{"$f":"IF('ШАБЛОН для ЗАПОЛНЕНИЯ'!CJ12<>\"\",'ШАБЛОН для ЗАПОЛНЕНИЯ'!CJ12,\"\")","v":""},{"$f":"IF('ШАБЛОН для ЗАПОЛНЕНИЯ'!CK12<>\"\",'ШАБЛОН для ЗАПОЛНЕНИЯ'!CK12,\"\")","v":""},{"$f":"IF('ШАБЛОН для ЗАПОЛНЕНИЯ'!CL12<>\"\",'ШАБЛОН для ЗАПОЛНЕНИЯ'!CL12,\"\")","v":""},{"$f":"IF('ШАБЛОН для ЗАПОЛНЕНИЯ'!CM12<>\"\",'ШАБЛОН для ЗАПОЛНЕНИЯ'!CM12,\"\")","v":""},{"$f":"IF('ШАБЛОН для ЗАПОЛНЕНИЯ'!CN12<>\"\",'ШАБЛОН для ЗАПОЛНЕНИЯ'!CN12,\"\")","v":""},{"$f":"IF('ШАБЛОН для ЗАПОЛНЕНИЯ'!CO12<>\"\",'ШАБЛОН для ЗАПОЛНЕНИЯ'!CO12,\"\")","v":""},{"$f":"IF('ШАБЛОН для ЗАПОЛНЕНИЯ'!CP12<>\"\",'ШАБЛОН для ЗАПОЛНЕНИЯ'!CP12,\"\")","v":""},{"$f":"IF('ШАБЛОН для ЗАПОЛНЕНИЯ'!CQ12<>\"\",'ШАБЛОН для ЗАПОЛНЕНИЯ'!CQ12,\"\")","v":""},{"$f":"IF('ШАБЛОН для ЗАПОЛНЕНИЯ'!CR12<>\"\",'ШАБЛОН для ЗАПОЛНЕНИЯ'!CR12,\"\")","v":""},{"$f":"IF('ШАБЛОН для ЗАПОЛНЕНИЯ'!CS12<>\"\",'ШАБЛОН для ЗАПОЛНЕНИЯ'!CS12,\"\")","v":""},{"$f":"IF('ШАБЛОН для ЗАПОЛНЕНИЯ'!CT12<>\"\",'ШАБЛОН для ЗАПОЛНЕНИЯ'!CT12,\"\")","v":""}]
[null,4,{"$f":"IF('ШАБЛОН для ЗАПОЛНЕНИЯ'!C13<>\"\",'ШАБЛОН для ЗАПОЛНЕНИЯ'!C13,\"\")","v":"Англ.яз"},{"$f":"IF('ШАБЛОН для ЗАПОЛНЕНИЯ'!D13<>\"\",'ШАБЛОН для ЗАПОЛНЕНИЯ'!D13,\"\")","v":""},{"$f":"IF('ШАБЛОН для ЗАПОЛНЕНИЯ'!E13<>\"\",'ШАБЛОН для ЗАПОЛНЕНИЯ'!E13,\"\")","v":""},{"$f":"IF('ШАБЛОН для ЗАПОЛНЕНИЯ'!F13<>\"\",'ШАБЛОН для ЗАПОЛНЕНИЯ'!F13,\"\")","v":""},{"$f":"IF('ШАБЛОН для ЗАПОЛНЕНИЯ'!G13<>\"\",'ШАБЛОН для ЗАПОЛНЕНИЯ'!G13,\"\")","v":"Математика"},{"$f":"IF('ШАБЛОН для ЗАПОЛНЕНИЯ'!H13<>\"\",'ШАБЛОН для ЗАПОЛНЕНИЯ'!H13,\"\")","v":""},{"$f":"IF('ШАБЛОН для ЗАПОЛНЕНИЯ'!I13<>\"\",'ШАБЛОН для ЗАПОЛНЕНИЯ'!I13,\"\")","v":""},{"$f":"IF('ШАБЛОН для ЗАПОЛНЕНИЯ'!J13<>\"\",'ШАБЛОН для ЗАПОЛНЕНИЯ'!J13,\"\")","v":""},{"$f":"IF('ШАБЛОН для ЗАПОЛНЕНИЯ'!K13<>\"\",'ШАБЛОН для ЗАПОЛНЕНИЯ'!K13,\"\")","v":"Англ.язык"},{"$f":"IF('ШАБЛОН для ЗАПОЛНЕНИЯ'!L13<>\"\",'ШАБЛОН для ЗАПОЛНЕНИЯ'!L13,\"\")","v":""},{"$f":"IF('ШАБЛОН для ЗАПОЛНЕНИЯ'!M13<>\"\",'ШАБЛОН для ЗАПОЛНЕНИЯ'!M13,\"\")","v":""},{"$f":"IF('ШАБЛОН для ЗАПОЛНЕНИЯ'!N13<>\"\",'ШАБЛОН для ЗАПОЛНЕНИЯ'!N13,\"\")","v":""},{"$f":"IF('ШАБЛОН для ЗАПОЛНЕНИЯ'!O13<>\"\",'ШАБЛОН для ЗАПОЛНЕНИЯ'!O13,\"\")","v":"Математика"},{"$f":"IF('ШАБЛОН для ЗАПОЛНЕНИЯ'!P13<>\"\",'ШАБЛОН для ЗАПОЛНЕНИЯ'!P13,\"\")","v":""},{"$f":"IF('ШАБЛОН для ЗАПОЛНЕНИЯ'!Q13<>\"\",'ШАБЛОН для ЗАПОЛНЕНИЯ'!Q13,\"\")","v":""},{"$f":"IF('ШАБЛОН для ЗАПОЛНЕНИЯ'!R13<>\"\",'ШАБЛОН для ЗАПОЛНЕНИЯ'!R13,\"\")","v":""},{"$f":"IF('ШАБЛОН для ЗАПОЛНЕНИЯ'!S13<>\"\",'ШАБЛОН для ЗАПОЛНЕНИЯ'!S13,\"\")","v":"Математика"},{"$f":"IF('ШАБЛОН для ЗАПОЛНЕНИЯ'!T13<>\"\",'ШАБЛОН для ЗАПОЛНЕНИЯ'!T13,\"\")","v":""},{"$f":"IF('ШАБЛОН для ЗАПОЛНЕНИЯ'!U13<>\"\",'ШАБЛОН для ЗАПОЛНЕНИЯ'!U13,\"\")","v":""},{"$f":"IF('ШАБЛОН для ЗАПОЛНЕНИЯ'!V13<>\"\",'ШАБЛОН для ЗАПОЛНЕНИЯ'!V13,\"\")","v":""},{"$f":"IF('ШАБЛОН для ЗАПОЛНЕНИЯ'!W13<>\"\",'ШАБЛОН для ЗАПОЛНЕНИЯ'!W13,\"\")","v":"Физкультура"},{"$f":"IF('ШАБЛОН для ЗАПОЛНЕНИЯ'!X13<>\"\",'ШАБЛОН для ЗАПОЛНЕНИЯ'!X13,\"\")","v":""},{"$f":"IF('ШАБЛОН для ЗАПОЛНЕНИЯ'!Y13<>\"\",'ШАБЛОН для ЗАПОЛНЕНИЯ'!Y13,\"\")","v":""},{"$f":"IF('ШАБЛОН для ЗАПОЛНЕНИЯ'!Z13<>\"\",'ШАБЛОН для ЗАПОЛНЕНИЯ'!Z13,\"\")","v":""},{"$f":"IF('ШАБЛОН для ЗАПОЛНЕНИЯ'!AA13<>\"\",'ШАБЛОН для ЗАПОЛНЕНИЯ'!AA13,\"\")","v":"Родной язык"},{"$f":"IF('ШАБЛОН для ЗАПОЛНЕНИЯ'!AB13<>\"\",'ШАБЛОН для ЗАПОЛНЕНИЯ'!AB13,\"\")","v":""},{"$f":"IF('ШАБЛОН для ЗАПОЛНЕНИЯ'!AC13<>\"\",'ШАБЛОН для ЗАПОЛНЕНИЯ'!AC13,\"\")","v":""},{"$f":"IF('ШАБЛОН для ЗАПОЛНЕНИЯ'!AD13<>\"\",'ШАБЛОН для ЗАПОЛНЕНИЯ'!AD13,\"\")","v":""},{"$f":"IF('ШАБЛОН для ЗАПОЛНЕНИЯ'!AE13<>\"\",'ШАБЛОН для ЗАПОЛНЕНИЯ'!AE13,\"\")","v":"Биология"},{"$f":"IF('ШАБЛОН для ЗАПОЛНЕНИЯ'!AF13<>\"\",'ШАБЛОН для ЗАПОЛНЕНИЯ'!AF13,\"\")","v":""},{"$f":"IF('ШАБЛОН для ЗАПОЛНЕНИЯ'!AG13<>\"\",'ШАБЛОН для ЗАПОЛНЕНИЯ'!AG13,\"\")","v":""},{"$f":"IF('ШАБЛОН для ЗАПОЛНЕНИЯ'!AH13<>\"\",'ШАБЛОН для ЗАПОЛНЕНИЯ'!AH13,\"\")","v":""},{"$f":"IF('ШАБЛОН для ЗАПОЛНЕНИЯ'!AI13<>\"\",'ШАБЛОН для ЗАПОЛНЕНИЯ'!AI13,\"\")","v":"Алгебра"},{"$f":"IF('ШАБЛОН для ЗАПОЛНЕНИЯ'!AJ13<>\"\",'ШАБЛОН для ЗАПОЛНЕНИЯ'!AJ13,\"\")","v":""},{"$f":"IF('ШАБЛОН для ЗАПОЛНЕНИЯ'!AK13<>\"\",'ШАБЛОН для ЗАПОЛНЕНИЯ'!AK13,\"\")","v":""},{"$f":"IF('ШАБЛОН для ЗАПОЛНЕНИЯ'!AL13<>\"\",'ШАБЛОН для ЗАПОЛНЕНИЯ'!AL13,\"\")","v":""},{"$f":"IF('ШАБЛОН для ЗАПОЛНЕНИЯ'!AM13<>\"\",'ШАБЛОН для ЗАПОЛНЕНИЯ'!AM13,\"\")","v":""},{"$f":"IF('ШАБЛОН для ЗАПОЛНЕНИЯ'!AN13<>\"\",'ШАБЛОН для ЗАПОЛНЕНИЯ'!AN13,\"\")","v":""},{"$f":"IF('ШАБЛОН для ЗАПОЛНЕНИЯ'!AO13<>\"\",'ШАБЛОН для ЗАПОЛНЕНИЯ'!AO13,\"\")","v":""},{"$f":"IF('ШАБЛОН для ЗАПОЛНЕНИЯ'!AP13<>\"\",'ШАБЛОН для ЗАПОЛНЕНИЯ'!AP13,\"\")","v":""},{"$f":"IF('ШАБЛОН для ЗАПОЛНЕНИЯ'!AQ13<>\"\",'ШАБЛОН для ЗАПОЛНЕНИЯ'!AQ13,\"\")","v":""},{"$f":"IF('ШАБЛОН для ЗАПОЛНЕНИЯ'!AR13<>\"\",'ШАБЛОН для ЗАПОЛНЕНИЯ'!AR13,\"\")","v":""},{"$f":"IF('ШАБЛОН для ЗАПОЛНЕНИЯ'!AS13<>\"\",'ШАБЛОН для ЗАПОЛНЕНИЯ'!AS13,\"\")","v":""},{"$f":"IF('ШАБЛОН для ЗАПОЛНЕНИЯ'!AT13<>\"\",'ШАБЛОН для ЗАПОЛНЕНИЯ'!AT13,\"\")","v":""},{"$f":"IF('ШАБЛОН для ЗАПОЛНЕНИЯ'!AU13<>\"\",'ШАБЛОН для ЗАПОЛНЕНИЯ'!AU13,\"\")","v":""},{"$f":"IF('ШАБЛОН для ЗАПОЛНЕНИЯ'!AV13<>\"\",'ШАБЛОН для ЗАПОЛНЕНИЯ'!AV13,\"\")","v":""},{"$f":"IF('ШАБЛОН для ЗАПОЛНЕНИЯ'!AW13<>\"\",'ШАБЛОН для ЗАПОЛНЕНИЯ'!AW13,\"\")","v":""},{"$f":"IF('ШАБЛОН для ЗАПОЛНЕНИЯ'!AX13<>\"\",'ШАБЛОН для ЗАПОЛНЕНИЯ'!AX13,\"\")","v":""},{"$f":"IF('ШАБЛОН для ЗАПОЛНЕНИЯ'!AY13<>\"\",'ШАБЛОН для ЗАПОЛНЕНИЯ'!AY13,\"\")","v":""},{"$f":"IF('ШАБЛОН для ЗАПОЛНЕНИЯ'!AZ13<>\"\",'ШАБЛОН для ЗАПОЛНЕНИЯ'!AZ13,\"\")","v":""},{"$f":"IF('ШАБЛОН для ЗАПОЛНЕНИЯ'!BA13<>\"\",'ШАБЛОН для ЗАПОЛНЕНИЯ'!BA13,\"\")","v":""},{"$f":"IF('ШАБЛОН для ЗАПОЛНЕНИЯ'!BB13<>\"\",'ШАБЛОН для ЗАПОЛНЕНИЯ'!BB13,\"\")","v":""},{"$f":"IF('ШАБЛОН для ЗАПОЛНЕНИЯ'!BC13<>\"\",'ШАБЛОН для ЗАПОЛНЕНИЯ'!BC13,\"\")","v":""},{"$f":"IF('ШАБЛОН для ЗАПОЛНЕНИЯ'!BD13<>\"\",'ШАБЛОН для ЗАПОЛНЕНИЯ'!BD13,\"\")","v":""},{"$f":"IF('ШАБЛОН для ЗАПОЛНЕНИЯ'!BE13<>\"\",'ШАБЛОН для ЗАПОЛНЕНИЯ'!BE13,\"\")","v":""},{"$f":"IF('ШАБЛОН для ЗАПОЛНЕНИЯ'!BF13<>\"\",'ШАБЛОН для ЗАПОЛНЕНИЯ'!BF13,\"\")","v":""},{"$f":"IF('ШАБЛОН для ЗАПОЛНЕНИЯ'!BG13<>\"\",'ШАБЛОН для ЗАПОЛНЕНИЯ'!BG13,\"\")","v":""},{"$f":"IF('ШАБЛОН для ЗАПОЛНЕНИЯ'!BH13<>\"\",'ШАБЛОН для ЗАПОЛНЕНИЯ'!BH13,\"\")","v":""},{"$f":"IF('ШАБЛОН для ЗАПОЛНЕНИЯ'!BI13<>\"\",'ШАБЛОН для ЗАПОЛНЕНИЯ'!BI13,\"\")","v":""},{"$f":"IF('ШАБЛОН для ЗАПОЛНЕНИЯ'!BJ13<>\"\",'ШАБЛОН для ЗАПОЛНЕНИЯ'!BJ13,\"\")","v":""},{"$f":"IF('ШАБЛОН для ЗАПОЛНЕНИЯ'!BK13<>\"\",'ШАБЛОН для ЗАПОЛНЕНИЯ'!BK13,\"\")","v":""},{"$f":"IF('ШАБЛОН для ЗАПОЛНЕНИЯ'!BL13<>\"\",'ШАБЛОН для ЗАПОЛНЕНИЯ'!BL13,\"\")","v":""},{"$f":"IF('ШАБЛОН для ЗАПОЛНЕНИЯ'!BM13<>\"\",'ШАБЛОН для ЗАПОЛНЕНИЯ'!BM13,\"\")","v":""},{"$f":"IF('ШАБЛОН для ЗАПОЛНЕНИЯ'!BN13<>\"\",'ШАБЛОН для ЗАПОЛНЕНИЯ'!BN13,\"\")","v":""},{"$f":"IF('ШАБЛОН для ЗАПОЛНЕНИЯ'!BO13<>\"\",'ШАБЛОН для ЗАПОЛНЕНИЯ'!BO13,\"\")","v":""},{"$f":"IF('ШАБЛОН для ЗАПОЛНЕНИЯ'!BP13<>\"\",'ШАБЛОН для ЗАПОЛНЕНИЯ'!BP13,\"\")","v":""},{"$f":"IF('ШАБЛОН для ЗАПОЛНЕНИЯ'!BQ13<>\"\",'ШАБЛОН для ЗАПОЛНЕНИЯ'!BQ13,\"\")","v":""},{"$f":"IF('ШАБЛОН для ЗАПОЛНЕНИЯ'!BR13<>\"\",'ШАБЛОН для ЗАПОЛНЕНИЯ'!BR13,\"\")","v":""},{"$f":"IF('ШАБЛОН для ЗАПОЛНЕНИЯ'!BS13<>\"\",'ШАБЛОН для ЗАПОЛНЕНИЯ'!BS13,\"\")","v":""},{"$f":"IF('ШАБЛОН для ЗАПОЛНЕНИЯ'!BT13<>\"\",'ШАБЛОН для ЗАПОЛНЕНИЯ'!BT13,\"\")","v":""},{"$f":"IF('ШАБЛОН для ЗАПОЛНЕНИЯ'!BU13<>\"\",'ШАБЛОН для ЗАПОЛНЕНИЯ'!BU13,\"\")","v":""},{"$f":"IF('ШАБЛОН для ЗАПОЛНЕНИЯ'!BV13<>\"\",'ШАБЛОН для ЗАПОЛНЕНИЯ'!BV13,\"\")","v":""},{"$f":"IF('ШАБЛОН для ЗАПОЛНЕНИЯ'!BW13<>\"\",'ШАБЛОН для ЗАПОЛНЕНИЯ'!BW13,\"\")","v":""},{"$f":"IF('ШАБЛОН для ЗАПОЛНЕНИЯ'!BX13<>\"\",'ШАБЛОН для ЗАПОЛНЕНИЯ'!BX13,\"\")","v":""},{"$f":"IF('ШАБЛОН для ЗАПОЛНЕНИЯ'!BY13<>\"\",'ШАБЛОН для ЗАПОЛНЕНИЯ'!BY13,\"\")","v":""},{"$f":"IF('ШАБЛОН для ЗАПОЛНЕНИЯ'!BZ13<>\"\",'ШАБЛОН для ЗАПОЛНЕНИЯ'!BZ13,\"\")","v":""},{"$f":"IF('ШАБЛОН для ЗАПОЛНЕНИЯ'!CA13<>\"\",'ШАБЛОН для ЗАПОЛНЕНИЯ'!CA13,\"\")","v":""},{"$f":"IF('ШАБЛОН для ЗАПОЛНЕНИЯ'!CB13<>\"\",'ШАБЛОН для ЗАПОЛНЕНИЯ'!CB13,\"\")","v":""},{"$f":"IF('ШАБЛОН для ЗАПОЛНЕНИЯ'!CC13<>\"\",'ШАБЛОН для ЗАПОЛНЕНИЯ'!CC13,\"\")","v":""},{"$f":"IF('ШАБЛОН для ЗАПОЛНЕНИЯ'!CD13<>\"\",'ШАБЛОН для ЗАПОЛНЕНИЯ'!CD13,\"\")","v":""},{"$f":"IF('ШАБЛОН для ЗАПОЛНЕНИЯ'!CE13<>\"\",'ШАБЛОН для ЗАПОЛНЕНИЯ'!CE13,\"\")","v":""},{"$f":"IF('ШАБЛОН для ЗАПОЛНЕНИЯ'!CF13<>\"\",'ШАБЛОН для ЗАПОЛНЕНИЯ'!CF13,\"\")","v":""},{"$f":"IF('ШАБЛОН для ЗАПОЛНЕНИЯ'!CG13<>\"\",'ШАБЛОН для ЗАПОЛНЕНИЯ'!CG13,\"\")","v":""},{"$f":"IF('ШАБЛОН для ЗАПОЛНЕНИЯ'!CH13<>\"\",'ШАБЛОН для ЗАПОЛНЕНИЯ'!CH13,\"\")","v":""},{"$f":"IF('ШАБЛОН для ЗАПОЛНЕНИЯ'!CI13<>\"\",'ШАБЛОН для ЗАПОЛНЕНИЯ'!CI13,\"\")","v":""},{"$f":"IF('ШАБЛОН для ЗАПОЛНЕНИЯ'!CJ13<>\"\",'ШАБЛОН для ЗАПОЛНЕНИЯ'!CJ13,\"\")","v":""},{"$f":"IF('ШАБЛОН для ЗАПОЛНЕНИЯ'!CK13<>\"\",'ШАБЛОН для ЗАПОЛНЕНИЯ'!CK13,\"\")","v":""},{"$f":"IF('ШАБЛОН для ЗАПОЛНЕНИЯ'!CL13<>\"\",'ШАБЛОН для ЗАПОЛНЕНИЯ'!CL13,\"\")","v":""},{"$f":"IF('ШАБЛОН для ЗАПОЛНЕНИЯ'!CM13<>\"\",'ШАБЛОН для ЗАПОЛНЕНИЯ'!CM13,\"\")","v":""},{"$f":"IF('ШАБЛОН для ЗАПОЛНЕНИЯ'!CN13<>\"\",'ШАБЛОН для ЗАПОЛНЕНИЯ'!CN13,\"\")","v":""},{"$f":"IF('ШАБЛОН для ЗАПОЛНЕНИЯ'!CO13<>\"\",'ШАБЛОН для ЗАПОЛНЕНИЯ'!CO13,\"\")","v":""},{"$f":"IF('ШАБЛОН для ЗАПОЛНЕНИЯ'!CP13<>\"\",'ШАБЛОН для ЗАПОЛНЕНИЯ'!CP13,\"\")","v":""},{"$f":"IF('ШАБЛОН для ЗАПОЛНЕНИЯ'!CQ13<>\"\",'ШАБЛОН для ЗАПОЛНЕНИЯ'!CQ13,\"\")","v":""},{"$f":"IF('ШАБЛОН для ЗАПОЛНЕНИЯ'!CR13<>\"\",'ШАБЛОН для ЗАПОЛНЕНИЯ'!CR13,\"\")","v":""},{"$f":"IF('ШАБЛОН для ЗАПОЛНЕНИЯ'!CS13<>\"\",'ШАБЛОН для ЗАПОЛНЕНИЯ'!CS13,\"\")","v":""},{"$f":"IF('ШАБЛОН для ЗАПОЛНЕНИЯ'!CT13<>\"\",'ШАБЛОН для ЗАПОЛНЕНИЯ'!CT13,\"\")","v":""}]
[null,5,{"$f":"IF('ШАБЛОН для ЗАПОЛНЕНИЯ'!C14<>\"\",'ШАБЛОН для ЗАПОЛНЕНИЯ'!C14,\"\")","v":""},{"$f":"IF('ШАБЛОН для ЗАПОЛНЕНИЯ'!D14<>\"\",'ШАБЛОН для ЗАПОЛНЕНИЯ'!D14,\"\")","v":""},{"$f":"IF('ШАБЛОН для ЗАПОЛНЕНИЯ'!E14<>\"\",'ШАБЛОН для ЗАПОЛНЕНИЯ'!E14,\"\")","v":""},{"$f":"IF('ШАБЛОН для ЗАПОЛНЕНИЯ'!F14<>\"\",'ШАБЛОН для ЗАПОЛНЕНИЯ'!F14,\"\")","v":""},{"$f":"IF('ШАБЛОН для ЗАПОЛНЕНИЯ'!G14<>\"\",'ШАБЛОН для ЗАПОЛНЕНИЯ'!G14,\"\")","v":"Лит.чтение"},{"$f":"IF('ШАБЛОН для ЗАПОЛНЕНИЯ'!H14<>\"\",'ШАБЛОН для ЗАПОЛНЕНИЯ'!H14,\"\")","v":""},{"$f":"IF('ШАБЛОН для ЗАПОЛНЕНИЯ'!I14<>\"\",'ШАБЛОН для ЗАПОЛНЕНИЯ'!I14,\"\")","v":""},{"$f":"IF('ШАБЛОН для ЗАПОЛНЕНИЯ'!J14<>\"\",'ШАБЛОН для ЗАПОЛНЕНИЯ'!J14,\"\")","v":""},{"$f":"IF('ШАБЛОН для ЗАПОЛНЕНИЯ'!K14<>\"\",'ШАБЛОН для ЗАПОЛНЕНИЯ'!K14,\"\")","v":""},{"$f":"IF('ШАБЛОН для ЗАПОЛНЕНИЯ'!L14<>\"\",'ШАБЛОН для ЗАПОЛНЕНИЯ'!L14,\"\")","v":""},{"$f":"IF('ШАБЛОН для ЗАПОЛНЕНИЯ'!M14<>\"\",'ШАБЛОН для ЗАПОЛНЕНИЯ'!M14,\"\")","v":""},{"$f":"IF('ШАБЛОН для ЗАПОЛНЕНИЯ'!N14<>\"\",'ШАБЛОН для ЗАПОЛНЕНИЯ'!N14,\"\")","v":""},{"$f":"IF('ШАБЛОН для ЗАПОЛНЕНИЯ'!O14<>\"\",'ШАБЛОН для ЗАПОЛНЕНИЯ'!O14,\"\")","v":"Лит.чтение"},{"$f":"IF('ШАБЛОН для ЗАПОЛНЕНИЯ'!P14<>\"\",'ШАБЛОН для ЗАПОЛНЕНИЯ'!P14,\"\")","v":""},{"$f":"IF('ШАБЛОН для ЗАПОЛНЕНИЯ'!Q14<>\"\",'ШАБЛОН для ЗАПОЛНЕНИЯ'!Q14,\"\")","v":""},{"$f":"IF('ШАБЛОН для ЗАПОЛНЕНИЯ'!R14<>\"\",'ШАБЛОН для ЗАПОЛНЕНИЯ'!R14,\"\")","v":""},{"$f":"IF('ШАБЛОН для ЗАПОЛНЕНИЯ'!S14<>\"\",'ШАБЛОН для ЗАПОЛНЕНИЯ'!S14,\"\")","v":"Англ.язык"},{"$f":"IF('ШАБЛОН для ЗАПОЛНЕНИЯ'!T14<>\"\",'ШАБЛОН для ЗАПОЛНЕНИЯ'!T14,\"\")","v":""},{"$f":"IF('ШАБЛОН для ЗАПОЛНЕНИЯ'!U14<>\"\",'ШАБЛОН для ЗАПОЛНЕНИЯ'!U14,\"\")","v":""},{"$f":"IF('ШАБЛОН для ЗАПОЛНЕНИЯ'!V14<>\"\",'ШАБЛОН для ЗАПОЛНЕНИЯ'!V14,\"\")","v":""},{"$f":"IF('ШАБЛОН для ЗАПОЛНЕНИЯ'!W14<>\"\",'ШАБЛОН для ЗАПОЛНЕНИЯ'!W14,\"\")","v":"Литература"},{"$f":"IF('ШАБЛОН для ЗАПОЛНЕНИЯ'!X14<>\"\",'ШАБЛОН для ЗАПОЛНЕНИЯ'!X14,\"\")","v":""},{"$f":"IF('ШАБЛОН для ЗАПОЛНЕНИЯ'!Y14<>\"\",'ШАБЛОН для ЗАПОЛНЕНИЯ'!Y14,\"\")","v":""},{"$f":"IF('ШАБЛОН для ЗАПОЛНЕНИЯ'!Z14<>\"\",'ШАБЛОН для ЗАПОЛНЕНИЯ'!Z14,\"\")","v":""},{"$f":"IF('ШАБЛОН для ЗАПОЛНЕНИЯ'!AA14<>\"\",'ШАБЛОН для ЗАПОЛНЕНИЯ'!AA14,\"\")","v":"Физкультура"},{"$f":"IF('ШАБЛОН для ЗАПОЛНЕНИЯ'!AB14<>\"\",'ШАБЛОН для ЗАПОЛНЕНИЯ'!AB14,\"\")","v":""},{"$f":"IF('ШАБЛОН для ЗАПОЛНЕНИЯ'!AC14<>\"\",'ШАБЛОН для ЗАПОЛНЕНИЯ'!AC14,\"\")","v":""},{"$f":"IF('ШАБЛОН для ЗАПОЛНЕНИЯ'!AD14<>\"\",'ШАБЛОН для ЗАПОЛНЕНИЯ'!AD14,\"\")","v":""},{"$f":"IF('ШАБЛОН для ЗАПОЛНЕНИЯ'!AE14<>\"\",'ШАБЛОН для ЗАПОЛНЕНИЯ'!AE14,\"\")","v":"География"},{"$f":"IF('ШАБЛОН для ЗАПОЛНЕНИЯ'!AF14<>\"\",'ШАБЛОН для ЗАПОЛНЕНИЯ'!AF14,\"\")","v":""},{"$f":"IF('ШАБЛОН для ЗАПОЛНЕНИЯ'!AG14<>\"\",'ШАБЛОН для ЗАПОЛНЕНИЯ'!AG14,\"\")","v":""},{"$f":"IF('ШАБЛОН для ЗАПОЛНЕНИЯ'!AH14<>\"\",'ШАБЛОН для ЗАПОЛНЕНИЯ'!AH14,\"\")","v":""},{"$f":"IF('ШАБЛОН для ЗАПОЛНЕНИЯ'!AI14<>\"\",'ШАБЛОН для ЗАПОЛНЕНИЯ'!AI14,\"\")","v":"Родной язык"},{"$f":"IF('ШАБЛОН для ЗАПОЛНЕНИЯ'!AJ14<>\"\",'ШАБЛОН для ЗАПОЛНЕНИЯ'!AJ14,\"\")","v":""},{"$f":"IF('ШАБЛОН для ЗАПОЛНЕНИЯ'!AK14<>\"\",'ШАБЛОН для ЗАПОЛНЕНИЯ'!AK14,\"\")","v":""},{"$f":"IF('ШАБЛОН для ЗАПОЛНЕНИЯ'!AL14<>\"\",'ШАБЛОН для ЗАПОЛНЕНИЯ'!AL14,\"\")","v":""},{"$f":"IF('ШАБЛОН для ЗАПОЛНЕНИЯ'!AM14<>\"\",'ШАБЛОН для ЗАПОЛНЕНИЯ'!AM14,\"\")","v":""},{"$f":"IF('ШАБЛОН для ЗАПОЛНЕНИЯ'!AN14<>\"\",'ШАБЛОН для ЗАПОЛНЕНИЯ'!AN14,\"\")","v":""},{"$f":"IF('ШАБЛОН для ЗАПОЛНЕНИЯ'!AO14<>\"\",'ШАБЛОН для ЗАПОЛНЕНИЯ'!AO14,\"\")","v":""},{"$f":"IF('ШАБЛОН для ЗАПОЛНЕНИЯ'!AP14<>\"\",'ШАБЛОН для ЗАПОЛНЕНИЯ'!AP14,\"\")","v":""},{"$f":"IF('ШАБЛОН для ЗАПОЛНЕНИЯ'!AQ14<>\"\",'ШАБЛОН для ЗАПОЛНЕНИЯ'!AQ14,\"\")","v":""},{"$f":"IF('ШАБЛОН для ЗАПОЛНЕНИЯ'!AR14<>\"\",'ШАБЛОН для ЗАПОЛНЕНИЯ'!AR14,\"\")","v":""},{"$f":"IF('ШАБЛОН для ЗАПОЛНЕНИЯ'!AS14<>\"\",'ШАБЛОН для ЗАПОЛНЕНИЯ'!AS14,\"\")","v":""},{"$f":"IF('ШАБЛОН для ЗАПОЛНЕНИЯ'!AT14<>\"\",'ШАБЛОН для ЗАПОЛНЕНИЯ'!AT14,\"\")","v":""},{"$f":"IF('ШАБЛОН для ЗАПОЛНЕНИЯ'!AU14<>\"\",'ШАБЛОН для ЗАПОЛНЕНИЯ'!AU14,\"\")","v":""},{"$f":"IF('ШАБЛОН для ЗАПОЛНЕНИЯ'!AV14<>\"\",'ШАБЛОН для ЗАПОЛНЕНИЯ'!AV14,\"\")","v":""},{"$f":"IF('ШАБЛОН для ЗАПОЛНЕНИЯ'!AW14<>\"\",'ШАБЛОН для ЗАПОЛНЕНИЯ'!AW14,\"\")","v":""},{"$f":"IF('ШАБЛОН для ЗАПОЛНЕНИЯ'!AX14<>\"\",'ШАБЛОН для ЗАПОЛНЕНИЯ'!AX14,\"\")","v":""},{"$f":"IF('ШАБЛОН для ЗАПОЛНЕНИЯ'!AY14<>\"\",'ШАБЛОН для ЗАПОЛНЕНИЯ'!AY14,\"\")","v":""},{"$f":"IF('ШАБЛОН для ЗАПОЛНЕНИЯ'!AZ14<>\"\",'ШАБЛОН для ЗАПОЛНЕНИЯ'!AZ14,\"\")","v":""},{"$f":"IF('ШАБЛОН для ЗАПОЛНЕНИЯ'!BA14<>\"\",'ШАБЛОН для ЗАПОЛНЕНИЯ'!BA14,\"\")","v":""},{"$f":"IF('ШАБЛОН для ЗАПОЛНЕНИЯ'!BB14<>\"\",'ШАБЛОН для ЗАПОЛНЕНИЯ'!BB14,\"\")","v":""},{"$f":"IF('ШАБЛОН для ЗАПОЛНЕНИЯ'!BC14<>\"\",'ШАБЛОН для ЗАПОЛНЕНИЯ'!BC14,\"\")","v":""},{"$f":"IF('ШАБЛОН для ЗАПОЛНЕНИЯ'!BD14<>\"\",'ШАБЛОН для ЗАПОЛНЕНИЯ'!BD14,\"\")","v":""},{"$f":"IF('ШАБЛОН для ЗАПОЛНЕНИЯ'!BE14<>\"\",'ШАБЛОН для ЗАПОЛНЕНИЯ'!BE14,\"\")","v":""},{"$f":"IF('ШАБЛОН для ЗАПОЛНЕНИЯ'!BF14<>\"\",'ШАБЛОН для ЗАПОЛНЕНИЯ'!BF14,\"\")","v":""},{"$f":"IF('ШАБЛОН для ЗАПОЛНЕНИЯ'!BG14<>\"\",'ШАБЛОН для ЗАПОЛНЕНИЯ'!BG14,\"\")","v":""},{"$f":"IF('ШАБЛОН для ЗАПОЛНЕНИЯ'!BH14<>\"\",'ШАБЛОН для ЗАПОЛНЕНИЯ'!BH14,\"\")","v":""},{"$f":"IF('ШАБЛОН для ЗАПОЛНЕНИЯ'!BI14<>\"\",'ШАБЛОН для ЗАПОЛНЕНИЯ'!BI14,\"\")","v":""},{"$f":"IF('ШАБЛОН для ЗАПОЛНЕНИЯ'!BJ14<>\"\",'ШАБЛОН для ЗАПОЛНЕНИЯ'!BJ14,\"\")","v":""},{"$f":"IF('ШАБЛОН для ЗАПОЛНЕНИЯ'!BK14<>\"\",'ШАБЛОН для ЗАПОЛНЕНИЯ'!BK14,\"\")","v":""},{"$f":"IF('ШАБЛОН для ЗАПОЛНЕНИЯ'!BL14<>\"\",'ШАБЛОН для ЗАПОЛНЕНИЯ'!BL14,\"\")","v":""},{"$f":"IF('ШАБЛОН для ЗАПОЛНЕНИЯ'!BM14<>\"\",'ШАБЛОН для ЗАПОЛНЕНИЯ'!BM14,\"\")","v":""},{"$f":"IF('ШАБЛОН для ЗАПОЛНЕНИЯ'!BN14<>\"\",'ШАБЛОН для ЗАПОЛНЕНИЯ'!BN14,\"\")","v":""},{"$f":"IF('ШАБЛОН для ЗАПОЛНЕНИЯ'!BO14<>\"\",'ШАБЛОН для ЗАПОЛНЕНИЯ'!BO14,\"\")","v":""},{"$f":"IF('ШАБЛОН для ЗАПОЛНЕНИЯ'!BP14<>\"\",'ШАБЛОН для ЗАПОЛНЕНИЯ'!BP14,\"\")","v":""},{"$f":"IF('ШАБЛОН для ЗАПОЛНЕНИЯ'!BQ14<>\"\",'ШАБЛОН для ЗАПОЛНЕНИЯ'!BQ14,\"\")","v":""},{"$f":"IF('ШАБЛОН для ЗАПОЛНЕНИЯ'!BR14<>\"\",'ШАБЛОН для ЗАПОЛНЕНИЯ'!BR14,\"\")","v":""},{"$f":"IF('ШАБЛОН для ЗАПОЛНЕНИЯ'!BS14<>\"\",'ШАБЛОН для ЗАПОЛНЕНИЯ'!BS14,\"\")","v":""},{"$f":"IF('ШАБЛОН для ЗАПОЛНЕНИЯ'!BT14<>\"\",'ШАБЛОН для ЗАПОЛНЕНИЯ'!BT14,\"\")","v":""},{"$f":"IF('ШАБЛОН для ЗАПОЛНЕНИЯ'!BU14<>\"\",'ШАБЛОН для ЗАПОЛНЕНИЯ'!BU14,\"\")","v":""},{"$f":"IF('ШАБЛОН для ЗАПОЛНЕНИЯ'!BV14<>\"\",'ШАБЛОН для ЗАПОЛНЕНИЯ'!BV14,\"\")","v":""},{"$f":"IF('ШАБЛОН для ЗАПОЛНЕНИЯ'!BW14<>\"\",'ШАБЛОН для ЗАПОЛНЕНИЯ'!BW14,\"\")","v":""},{"$f":"IF('ШАБЛОН для ЗАПОЛНЕНИЯ'!BX14<>\"\",'ШАБЛОН для ЗАПОЛНЕНИЯ'!BX14,\"\")","v":""},{"$f":"IF('ШАБЛОН для ЗАПОЛНЕНИЯ'!BY14<>\"\",'ШАБЛОН для ЗАПОЛНЕНИЯ'!BY14,\"\")","v":""},{"$f":"IF('ШАБЛОН для ЗАПОЛНЕНИЯ'!BZ14<>\"\",'ШАБЛОН для ЗАПОЛНЕНИЯ'!BZ14,\"\")","v":""},{"$f":"IF('ШАБЛОН для ЗАПОЛНЕНИЯ'!CA14<>\"\",'ШАБЛОН для ЗАПОЛНЕНИЯ'!CA14,\"\")","v":""},{"$f":"IF('ШАБЛОН для ЗАПОЛНЕНИЯ'!CB14<>\"\",'ШАБЛОН для ЗАПОЛНЕНИЯ'!CB14,\"\")","v":""},{"$f":"IF('ШАБЛОН для ЗАПОЛНЕНИЯ'!CC14<>\"\",'ШАБЛОН для ЗАПОЛНЕНИЯ'!CC14,\"\")","v":""},{"$f":"IF('ШАБЛОН для ЗАПОЛНЕНИЯ'!CD14<>\"\",'ШАБЛОН для ЗАПОЛНЕНИЯ'!CD14,\"\")","v":""},{"$f":"IF('ШАБЛОН для ЗАПОЛНЕНИЯ'!CE14<>\"\",'ШАБЛОН для ЗАПОЛНЕНИЯ'!CE14,\"\")","v":""},{"$f":"IF('ШАБЛОН для ЗАПОЛНЕНИЯ'!CF14<>\"\",'ШАБЛОН для ЗАПОЛНЕНИЯ'!CF14,\"\")","v":""},{"$f":"IF('ШАБЛОН для ЗАПОЛНЕНИЯ'!CG14<>\"\",'ШАБЛОН для ЗАПОЛНЕНИЯ'!CG14,\"\")","v":""},{"$f":"IF('ШАБЛОН для ЗАПОЛНЕНИЯ'!CH14<>\"\",'ШАБЛОН для ЗАПОЛНЕНИЯ'!CH14,\"\")","v":""},{"$f":"IF('ШАБЛОН для ЗАПОЛНЕНИЯ'!CI14<>\"\",'ШАБЛОН для ЗАПОЛНЕНИЯ'!CI14,\"\")","v":""},{"$f":"IF('ШАБЛОН для ЗАПОЛНЕНИЯ'!CJ14<>\"\",'ШАБЛОН для ЗАПОЛНЕНИЯ'!CJ14,\"\")","v":""},{"$f":"IF('ШАБЛОН для ЗАПОЛНЕНИЯ'!CK14<>\"\",'ШАБЛОН для ЗАПОЛНЕНИЯ'!CK14,\"\")","v":""},{"$f":"IF('ШАБЛОН для ЗАПОЛНЕНИЯ'!CL14<>\"\",'ШАБЛОН для ЗАПОЛНЕНИЯ'!CL14,\"\")","v":""},{"$f":"IF('ШАБЛОН для ЗАПОЛНЕНИЯ'!CM14<>\"\",'ШАБЛОН для ЗАПОЛНЕНИЯ'!CM14,\"\")","v":""},{"$f":"IF('ШАБЛОН для ЗАПОЛНЕНИЯ'!CN14<>\"\",'ШАБЛОН для ЗАПОЛНЕНИЯ'!CN14,\"\")","v":""},{"$f":"IF('ШАБЛОН для ЗАПОЛНЕНИЯ'!CO14<>\"\",'ШАБЛОН для ЗАПОЛНЕНИЯ'!CO14,\"\")","v":""},{"$f":"IF('ШАБЛОН для ЗАПОЛНЕНИЯ'!CP14<>\"\",'ШАБЛОН для ЗАПОЛНЕНИЯ'!CP14,\"\")","v":""},{"$f":"IF('ШАБЛОН для ЗАПОЛНЕНИЯ'!CQ14<>\"\",'ШАБЛОН для ЗАПОЛНЕНИЯ'!CQ14,\"\")","v":""},{"$f":"IF('ШАБЛОН для ЗАПОЛНЕНИЯ'!CR14<>\"\",'ШАБЛОН для ЗАПОЛНЕНИЯ'!CR14,\"\")","v":""},{"$f":"IF('ШАБЛОН для ЗАПОЛНЕНИЯ'!CS14<>\"\",'ШАБЛОН для ЗАПОЛНЕНИЯ'!CS14,\"\")","v":""},{"$f":"IF('ШАБЛОН для ЗАПОЛНЕНИЯ'!CT14<>\"\",'ШАБЛОН для ЗАПОЛНЕНИЯ'!CT14,\"\")","v":""}]
[null,6,{"$f":"IF('ШАБЛОН для ЗАПОЛНЕНИЯ'!C15<>\"\",'ШАБЛОН для ЗАПОЛНЕНИЯ'!C15,\"\")","v":""},{"$f":"IF('ШАБЛОН для ЗАПОЛНЕНИЯ'!D15<>\"\",'ШАБЛОН для ЗАПОЛНЕНИЯ'!D15,\"\")","v":""},{"$f":"IF('ШАБЛОН для ЗАПОЛНЕНИЯ'!E15<>\"\",'ШАБЛОН для ЗАПОЛНЕНИЯ'!E15,\"\")","v":""},{"$f":"IF('ШАБЛОН для ЗАПОЛНЕНИЯ'!F15<>\"\",'ШАБЛОН для ЗАПОЛНЕНИЯ'!F15,\"\")","v":""},{"$f":"IF('ШАБЛОН для ЗАПОЛНЕНИЯ'!G15<>\"\",'ШАБЛОН для ЗАПОЛНЕНИЯ'!G15,\"\")","v":""},{"$f":"IF('ШАБЛОН для ЗАПОЛНЕНИЯ'!H15<>\"\",'ШАБЛОН для ЗАПОЛНЕНИЯ'!H15,\"\")","v":""},{"$f":"IF('ШАБЛОН для ЗАПОЛНЕНИЯ'!I15<>\"\",'ШАБЛОН для ЗАПОЛНЕНИЯ'!I15,\"\")","v":""},{"$f":"IF('ШАБЛОН для ЗАПОЛНЕНИЯ'!J15<>\"\",'ШАБЛОН для ЗАПОЛНЕНИЯ'!J15,\"\")","v":""},{"$f":"IF('ШАБЛОН для ЗАПОЛНЕНИЯ'!K15<>\"\",'ШАБЛОН для ЗАПОЛНЕНИЯ'!K15,\"\")","v":""},{"$f":"IF('ШАБЛОН для ЗАПОЛНЕНИЯ'!L15<>\"\",'ШАБЛОН для ЗАПОЛНЕНИЯ'!L15,\"\")","v":""},{"$f":"IF('ШАБЛОН для ЗАПОЛНЕНИЯ'!M15<>\"\",'ШАБЛОН для ЗАПОЛНЕНИЯ'!M15,\"\")","v":""},{"$f":"IF('ШАБЛОН для ЗАПОЛНЕНИЯ'!N15<>\"\",'ШАБЛОН для ЗАПОЛНЕНИЯ'!N15,\"\")","v":""},{"$f":"IF('ШАБЛОН для ЗАПОЛНЕНИЯ'!O15<>\"\",'ШАБЛОН для ЗАПОЛНЕНИЯ'!O15,\"\")","v":""},{"$f":"IF('ШАБЛОН для ЗАПОЛНЕНИЯ'!P15<>\"\",'ШАБЛОН для ЗАПОЛНЕНИЯ'!P15,\"\")","v":""},{"$f":"IF('ШАБЛОН для ЗАПОЛНЕНИЯ'!Q15<>\"\",'ШАБЛОН для ЗАПОЛНЕНИЯ'!Q15,\"\")","v":""},{"$f":"IF('ШАБЛОН для ЗАПОЛНЕНИЯ'!R15<>\"\",'ШАБЛОН для ЗАПОЛНЕНИЯ'!R15,\"\")","v":""},{"$f":"IF('ШАБЛОН для ЗАПОЛНЕНИЯ'!S15<>\"\",'ШАБЛОН для ЗАПОЛНЕНИЯ'!S15,\"\")","v":"Литература"},{"$f":"IF('ШАБЛОН для ЗАПОЛНЕНИЯ'!T15<>\"\",'ШАБЛОН для ЗАПОЛНЕНИЯ'!T15,\"\")","v":""},{"$f":"IF('ШАБЛОН для ЗАПОЛНЕНИЯ'!U15<>\"\",'ШАБЛОН для ЗАПОЛНЕНИЯ'!U15,\"\")","v":""},{"$f":"IF('ШАБЛОН для ЗАПОЛНЕНИЯ'!V15<>\"\",'ШАБЛОН для ЗАПОЛНЕНИЯ'!V15,\"\")","v":""},{"$f":"IF('ШАБЛОН для ЗАПОЛНЕНИЯ'!W15<>\"\",'ШАБЛОН для ЗАПОЛНЕНИЯ'!W15,\"\")","v":"Математика"},{"$f":"IF('ШАБЛОН для ЗАПОЛНЕНИЯ'!X15<>\"\",'ШАБЛОН для ЗАПОЛНЕНИЯ'!X15,\"\")","v":""},{"$f":"IF('ШАБЛОН для ЗАПОЛНЕНИЯ'!Y15<>\"\",'ШАБЛОН для ЗАПОЛНЕНИЯ'!Y15,\"\")","v":""},{"$f":"IF('ШАБЛОН для ЗАПОЛНЕНИЯ'!Z15<>\"\",'ШАБЛОН для ЗАПОЛНЕНИЯ'!Z15,\"\")","v":""},{"$f":"IF('ШАБЛОН для ЗАПОЛНЕНИЯ'!AA15<>\"\",'ШАБЛОН для ЗАПОЛНЕНИЯ'!AA15,\"\")","v":"География"},{"$f":"IF('ШАБЛОН для ЗАПОЛНЕНИЯ'!AB15<>\"\",'ШАБЛОН для ЗАПОЛНЕНИЯ'!AB15,\"\")","v":""},{"$f":"IF('ШАБЛОН для ЗАПОЛНЕНИЯ'!AC15<>\"\",'ШАБЛОН для ЗАПОЛНЕНИЯ'!AC15,\"\")","v":""},{"$f":"IF('ШАБЛОН для ЗАПОЛНЕНИЯ'!AD15<>\"\",'ШАБЛОН для ЗАПОЛНЕНИЯ'!AD15,\"\")","v":""},{"$f":"IF('ШАБЛОН для ЗАПОЛНЕНИЯ'!AE15<>\"\",'ШАБЛОН для ЗАПОЛНЕНИЯ'!AE15,\"\")","v":"Физкультура"},{"$f":"IF('ШАБЛОН для ЗАПОЛНЕНИЯ'!AF15<>\"\",'ШАБЛОН для ЗАПОЛНЕНИЯ'!AF15,\"\")","v":""},{"$f":"IF('ШАБЛОН для ЗАПОЛНЕНИЯ'!AG15<>\"\",'ШАБЛОН для ЗАПОЛНЕНИЯ'!AG15,\"\")","v":""},{"$f":"IF('ШАБЛОН для ЗАПОЛНЕНИЯ'!AH15<>\"\",'ШАБЛОН для ЗАПОЛНЕНИЯ'!AH15,\"\")","v":""},{"$f":"IF('ШАБЛОН для ЗАПОЛНЕНИЯ'!AI15<>\"\",'ШАБЛОН для ЗАПОЛНЕНИЯ'!AI15,\"\")","v":"Нем.язык"},{"$f":"IF('ШАБЛОН для ЗАПОЛНЕНИЯ'!AJ15<>\"\",'ШАБЛОН для ЗАПОЛНЕНИЯ'!AJ15,\"\")","v":""},{"$f":"IF('ШАБЛОН для ЗАПОЛНЕНИЯ'!AK15<>\"\",'ШАБЛОН для ЗАПОЛНЕНИЯ'!AK15,\"\")","v":""},{"$f":"IF('ШАБЛОН для ЗАПОЛНЕНИЯ'!AL15<>\"\",'ШАБЛОН для ЗАПОЛНЕНИЯ'!AL15,\"\")","v":""},{"$f":"IF('ШАБЛОН для ЗАПОЛНЕНИЯ'!AM15<>\"\",'ШАБЛОН для ЗАПОЛНЕНИЯ'!AM15,\"\")","v":""},{"$f":"IF('ШАБЛОН для ЗАПОЛНЕНИЯ'!AN15<>\"\",'ШАБЛОН для ЗАПОЛНЕНИЯ'!AN15,\"\")","v":""},{"$f":"IF('ШАБЛОН для ЗАПОЛНЕНИЯ'!AO15<>\"\",'ШАБЛОН для ЗАПОЛНЕНИЯ'!AO15,\"\")","v":""},{"$f":"IF('ШАБЛОН для ЗАПОЛНЕНИЯ'!AP15<>\"\",'ШАБЛОН для ЗАПОЛНЕНИЯ'!AP15,\"\")","v":""},{"$f":"IF('ШАБЛОН для ЗАПОЛНЕНИЯ'!AQ15<>\"\",'ШАБЛОН для ЗАПОЛНЕНИЯ'!AQ15,\"\")","v":""},{"$f":"IF('ШАБЛОН для ЗАПОЛНЕНИЯ'!AR15<>\"\",'ШАБЛОН для ЗАПОЛНЕНИЯ'!AR15,\"\")","v":""},{"$f":"IF('ШАБЛОН для ЗАПОЛНЕНИЯ'!AS15<>\"\",'ШАБЛОН для ЗАПОЛНЕНИЯ'!AS15,\"\")","v":""},{"$f":"IF('ШАБЛОН для ЗАПОЛНЕНИЯ'!AT15<>\"\",'ШАБЛОН для ЗАПОЛНЕНИЯ'!AT15,\"\")","v":""},{"$f":"IF('ШАБЛОН для ЗАПОЛНЕНИЯ'!AU15<>\"\",'ШАБЛОН для ЗАПОЛНЕНИЯ'!AU15,\"\")","v":""},{"$f":"IF('ШАБЛОН для ЗАПОЛНЕНИЯ'!AV15<>\"\",'ШАБЛОН для ЗАПОЛНЕНИЯ'!AV15,\"\")","v":""},{"$f":"IF('ШАБЛОН для ЗАПОЛНЕНИЯ'!AW15<>\"\",'ШАБЛОН для ЗАПОЛНЕНИЯ'!AW15,\"\")","v":""},{"$f":"IF('ШАБЛОН для ЗАПОЛНЕНИЯ'!AX15<>\"\",'ШАБЛОН для ЗАПОЛНЕНИЯ'!AX15,\"\")","v":""},{"$f":"IF('ШАБЛОН для ЗАПОЛНЕНИЯ'!AY15<>\"\",'ШАБЛОН для ЗАПОЛНЕНИЯ'!AY15,\"\")","v":""},{"$f":"IF('ШАБЛОН для ЗАПОЛНЕНИЯ'!AZ15<>\"\",'ШАБЛОН для ЗАПОЛНЕНИЯ'!AZ15,\"\")","v":""},{"$f":"IF('ШАБЛОН для ЗАПОЛНЕНИЯ'!BA15<>\"\",'ШАБЛОН для ЗАПОЛНЕНИЯ'!BA15,\"\")","v":""},{"$f":"IF('ШАБЛОН для ЗАПОЛНЕНИЯ'!BB15<>\"\",'ШАБЛОН для ЗАПОЛНЕНИЯ'!BB15,\"\")","v":""},{"$f":"IF('ШАБЛОН для ЗАПОЛНЕНИЯ'!BC15<>\"\",'ШАБЛОН для ЗАПОЛНЕНИЯ'!BC15,\"\")","v":""},{"$f":"IF('ШАБЛОН для ЗАПОЛНЕНИЯ'!BD15<>\"\",'ШАБЛОН для ЗАПОЛНЕНИЯ'!BD15,\"\")","v":""},{"$f":"IF('ШАБЛОН для ЗАПОЛНЕНИЯ'!BE15<>\"\",'ШАБЛОН для ЗАПОЛНЕНИЯ'!BE15,\"\")","v":""},{"$f":"IF('ШАБЛОН для ЗАПОЛНЕНИЯ'!BF15<>\"\",'ШАБЛОН для ЗАПОЛНЕНИЯ'!BF15,\"\")","v":""},{"$f":"IF('ШАБЛОН для ЗАПОЛНЕНИЯ'!BG15<>\"\",'ШАБЛОН для ЗАПОЛНЕНИЯ'!BG15,\"\")","v":""},{"$f":"IF('ШАБЛОН для ЗАПОЛНЕНИЯ'!BH15<>\"\",'ШАБЛОН для ЗАПОЛНЕНИЯ'!BH15,\"\")","v":""},{"$f":"IF('ШАБЛОН для ЗАПОЛНЕНИЯ'!BI15<>\"\",'ШАБЛОН для ЗАПОЛНЕНИЯ'!BI15,\"\")","v":""},{"$f":"IF('ШАБЛОН для ЗАПОЛНЕНИЯ'!BJ15<>\"\",'ШАБЛОН для ЗАПОЛНЕНИЯ'!BJ15,\"\")","v":""},{"$f":"IF('ШАБЛОН для ЗАПОЛНЕНИЯ'!BK15<>\"\",'ШАБЛОН для ЗАПОЛНЕНИЯ'!BK15,\"\")","v":""},{"$f":"IF('ШАБЛОН для ЗАПОЛНЕНИЯ'!BL15<>\"\",'ШАБЛОН для ЗАПОЛНЕНИЯ'!BL15,\"\")","v":""},{"$f":"IF('ШАБЛОН для ЗАПОЛНЕНИЯ'!BM15<>\"\",'ШАБЛОН для ЗАПОЛНЕНИЯ'!BM15,\"\")","v":""},{"$f":"IF('ШАБЛОН для ЗАПОЛНЕНИЯ'!BN15<>\"\",'ШАБЛОН для ЗАПОЛНЕНИЯ'!BN15,\"\")","v":""},{"$f":"IF('ШАБЛОН для ЗАПОЛНЕНИЯ'!BO15<>\"\",'ШАБЛОН для ЗАПОЛНЕНИЯ'!BO15,\"\")","v":""},{"$f":"IF('ШАБЛОН для ЗАПОЛНЕНИЯ'!BP15<>\"\",'ШАБЛОН для ЗАПОЛНЕНИЯ'!BP15,\"\")","v":""},{"$f":"IF('ШАБЛОН для ЗАПОЛНЕНИЯ'!BQ15<>\"\",'ШАБЛОН для ЗАПОЛНЕНИЯ'!BQ15,\"\")","v":""},{"$f":"IF('ШАБЛОН для ЗАПОЛНЕНИЯ'!BR15<>\"\",'ШАБЛОН для ЗАПОЛНЕНИЯ'!BR15,\"\")","v":""},{"$f":"IF('ШАБЛОН для ЗАПОЛНЕНИЯ'!BS15<>\"\",'ШАБЛОН для ЗАПОЛНЕНИЯ'!BS15,\"\")","v":""},{"$f":"IF('ШАБЛОН для ЗАПОЛНЕНИЯ'!BT15<>\"\",'ШАБЛОН для ЗАПОЛНЕНИЯ'!BT15,\"\")","v":""},{"$f":"IF('ШАБЛОН для ЗАПОЛНЕНИЯ'!BU15<>\"\",'ШАБЛОН для ЗАПОЛНЕНИЯ'!BU15,\"\")","v":""},{"$f":"IF('ШАБЛОН для ЗАПОЛНЕНИЯ'!BV15<>\"\",'ШАБЛОН для ЗАПОЛНЕНИЯ'!BV15,\"\")","v":""},{"$f":"IF('ШАБЛОН для ЗАПОЛНЕНИЯ'!BW15<>\"\",'ШАБЛОН для ЗАПОЛНЕНИЯ'!BW15,\"\")","v":""},{"$f":"IF('ШАБЛОН для ЗАПОЛНЕНИЯ'!BX15<>\"\",'ШАБЛОН для ЗАПОЛНЕНИЯ'!BX15,\"\")","v":""},{"$f":"IF('ШАБЛОН для ЗАПОЛНЕНИЯ'!BY15<>\"\",'ШАБЛОН для ЗАПОЛНЕНИЯ'!BY15,\"\")","v":""},{"$f":"IF('ШАБЛОН для ЗАПОЛНЕНИЯ'!BZ15<>\"\",'ШАБЛОН для ЗАПОЛНЕНИЯ'!BZ15,\"\")","v":""},{"$f":"IF('ШАБЛОН для ЗАПОЛНЕНИЯ'!CA15<>\"\",'ШАБЛОН для ЗАПОЛНЕНИЯ'!CA15,\"\")","v":""},{"$f":"IF('ШАБЛОН для ЗАПОЛНЕНИЯ'!CB15<>\"\",'ШАБЛОН для ЗАПОЛНЕНИЯ'!CB15,\"\")","v":""},{"$f":"IF('ШАБЛОН для ЗАПОЛНЕНИЯ'!CC15<>\"\",'ШАБЛОН для ЗАПОЛНЕНИЯ'!CC15,\"\")","v":""},{"$f":"IF('ШАБЛОН для ЗАПОЛНЕНИЯ'!CD15<>\"\",'ШАБЛОН для ЗАПОЛНЕНИЯ'!CD15,\"\")","v":""},{"$f":"IF('ШАБЛОН для ЗАПОЛНЕНИЯ'!CE15<>\"\",'ШАБЛОН для ЗАПОЛНЕНИЯ'!CE15,\"\")","v":""},{"$f":"IF('ШАБЛОН для ЗАПОЛНЕНИЯ'!CF15<>\"\",'ШАБЛОН для ЗАПОЛНЕНИЯ'!CF15,\"\")","v":""},{"$f":"IF('ШАБЛОН для ЗАПОЛНЕНИЯ'!CG15<>\"\",'ШАБЛОН для ЗАПОЛНЕНИЯ'!CG15,\"\")","v":""},{"$f":"IF('ШАБЛОН для ЗАПОЛНЕНИЯ'!CH15<>\"\",'ШАБЛОН для ЗАПОЛНЕНИЯ'!CH15,\"\")","v":""},{"$f":"IF('ШАБЛОН для ЗАПОЛНЕНИЯ'!CI15<>\"\",'ШАБЛОН для ЗАПОЛНЕНИЯ'!CI15,\"\")","v":""},{"$f":"IF('ШАБЛОН для ЗАПОЛНЕНИЯ'!CJ15<>\"\",'ШАБЛОН для ЗАПОЛНЕНИЯ'!CJ15,\"\")","v":""},{"$f":"IF('ШАБЛОН для ЗАПОЛНЕНИЯ'!CK15<>\"\",'ШАБЛОН для ЗАПОЛНЕНИЯ'!CK15,\"\")","v":""},{"$f":"IF('ШАБЛОН для ЗАПОЛНЕНИЯ'!CL15<>\"\",'ШАБЛОН для ЗАПОЛНЕНИЯ'!CL15,\"\")","v":""},{"$f":"IF('ШАБЛОН для ЗАПОЛНЕНИЯ'!CM15<>\"\",'ШАБЛОН для ЗАПОЛНЕНИЯ'!CM15,\"\")","v":""},{"$f":"IF('ШАБЛОН для ЗАПОЛНЕНИЯ'!CN15<>\"\",'ШАБЛОН для ЗАПОЛНЕНИЯ'!CN15,\"\")","v":""},{"$f":"IF('ШАБЛОН для ЗАПОЛНЕНИЯ'!CO15<>\"\",'ШАБЛОН для ЗАПОЛНЕНИЯ'!CO15,\"\")","v":""},{"$f":"IF('ШАБЛОН для ЗАПОЛНЕНИЯ'!CP15<>\"\",'ШАБЛОН для ЗАПОЛНЕНИЯ'!CP15,\"\")","v":""},{"$f":"IF('ШАБЛОН для ЗАПОЛНЕНИЯ'!CQ15<>\"\",'ШАБЛОН для ЗАПОЛНЕНИЯ'!CQ15,\"\")","v":""},{"$f":"IF('ШАБЛОН для ЗАПОЛНЕНИЯ'!CR15<>\"\",'ШАБЛОН для ЗАПОЛНЕНИЯ'!CR15,\"\")","v":""},{"$f":"IF('ШАБЛОН для ЗАПОЛНЕНИЯ'!CS15<>\"\",'ШАБЛОН для ЗАПОЛНЕНИЯ'!CS15,\"\")","v":""},{"$f":"IF('ШАБЛОН для ЗАПОЛНЕНИЯ'!CT15<>\"\",'ШАБЛОН для ЗАПОЛНЕНИЯ'!CT15,\"\")","v":""}]
[null,7,{"$f":"IF('ШАБЛОН для ЗАПОЛНЕНИЯ'!C16<>\"\",'ШАБЛОН для ЗАПОЛНЕНИЯ'!C16,\"\")","v":""},{"$f":"IF('ШАБЛОН для ЗАПОЛНЕНИЯ'!D16<>\"\",'ШАБЛОН для ЗАПОЛНЕНИЯ'!D16,\"\")","v":""},{"$f":"IF('ШАБЛОН для ЗАПОЛНЕНИЯ'!E16<>\"\",'ШАБЛОН для ЗАПОЛНЕНИЯ'!E16,\"\")","v":""},{"$f":"IF('ШАБЛОН для ЗАПОЛНЕНИЯ'!F16<>\"\",'ШАБЛОН для ЗАПОЛНЕНИЯ'!F16,\"\")","v":""},{"$f":"IF('ШАБЛОН для ЗАПОЛНЕНИЯ'!G16<>\"\",'ШАБЛОН для ЗАПОЛНЕНИЯ'!G16,\"\")","v":""},{"$f":"IF('ШАБЛОН для ЗАПОЛНЕНИЯ'!H16<>\"\",'ШАБЛОН для ЗАПОЛНЕНИЯ'!H16,\"\")","v":""},{"$f":"IF('ШАБЛОН для ЗАПОЛНЕНИЯ'!I16<>\"\",'ШАБЛОН для ЗАПОЛНЕНИЯ'!I16,\"\")","v":""},{"$f":"IF('ШАБЛОН для ЗАПОЛНЕНИЯ'!J16<>\"\",'ШАБЛОН для ЗАПОЛНЕНИЯ'!J16,\"\")","v":""},{"$f":"IF('ШАБЛОН для ЗАПОЛНЕНИЯ'!K16<>\"\",'ШАБЛОН для ЗАПОЛНЕНИЯ'!K16,\"\")","v":""},{"$f":"IF('ШАБЛОН для ЗАПОЛНЕНИЯ'!L16<>\"\",'ШАБЛОН для ЗАПОЛНЕНИЯ'!L16,\"\")","v":""},{"$f":"IF('ШАБЛОН для ЗАПОЛНЕНИЯ'!M16<>\"\",'ШАБЛОН для ЗАПОЛНЕНИЯ'!M16,\"\")","v":""},{"$f":"IF('ШАБЛОН для ЗАПОЛНЕНИЯ'!N16<>\"\",'ШАБЛОН для ЗАПОЛНЕНИЯ'!N16,\"\")","v":""},{"$f":"IF('ШАБЛОН для ЗАПОЛНЕНИЯ'!O16<>\"\",'ШАБЛОН для ЗАПОЛНЕНИЯ'!O16,\"\")","v":""},{"$f":"IF('ШАБЛОН для ЗАПОЛНЕНИЯ'!P16<>\"\",'ШАБЛОН для ЗАПОЛНЕНИЯ'!P16,\"\")","v":""},{"$f":"IF('ШАБЛОН для ЗАПОЛНЕНИЯ'!Q16<>\"\",'ШАБЛОН для ЗАПОЛНЕНИЯ'!Q16,\"\")","v":""},{"$f":"IF('ШАБЛОН для ЗАПОЛНЕНИЯ'!R16<>\"\",'ШАБЛОН для ЗАПОЛНЕНИЯ'!R16,\"\")","v":""},{"$f":"IF('ШАБЛОН для ЗАПОЛНЕНИЯ'!S16<>\"\",'ШАБЛОН для ЗАПОЛНЕНИЯ'!S16,\"\")","v":""},{"$f":"IF('ШАБЛОН для ЗАПОЛНЕНИЯ'!T16<>\"\",'ШАБЛОН для ЗАПОЛНЕНИЯ'!T16,\"\")","v":""},{"$f":"IF('ШАБЛОН для ЗАПОЛНЕНИЯ'!U16<>\"\",'ШАБЛОН для ЗАПОЛНЕНИЯ'!U16,\"\")","v":""},{"$f":"IF('ШАБЛОН для ЗАПОЛНЕНИЯ'!V16<>\"\",'ШАБЛОН для ЗАПОЛНЕНИЯ'!V16,\"\")","v":""},{"$f":"IF('ШАБЛОН для ЗАПОЛНЕНИЯ'!W16<>\"\",'ШАБЛОН для ЗАПОЛНЕНИЯ'!W16,\"\")","v":""},{"$f":"IF('ШАБЛОН для ЗАПОЛНЕНИЯ'!X16<>\"\",'ШАБЛОН для ЗАПОЛНЕНИЯ'!X16,\"\")","v":""},{"$f":"IF('ШАБЛОН для ЗАПОЛНЕНИЯ'!Y16<>\"\",'ШАБЛОН для ЗАПОЛНЕНИЯ'!Y16,\"\")","v":""},{"$f":"IF('ШАБЛОН для ЗАПОЛНЕНИЯ'!Z16<>\"\",'ШАБЛОН для ЗАПОЛНЕНИЯ'!Z16,\"\")","v":""},{"$f":"IF('ШАБЛОН для ЗАПОЛНЕНИЯ'!AA16<>\"\",'ШАБЛОН для ЗАПОЛНЕНИЯ'!AA16,\"\")","v":""},{"$f":"IF('ШАБЛОН для ЗАПОЛНЕНИЯ'!AB16<>\"\",'ШАБЛОН для ЗАПОЛНЕНИЯ'!AB16,\"\")","v":""},{"$f":"IF('ШАБЛОН для ЗАПОЛНЕНИЯ'!AC16<>\"\",'ШАБЛОН для ЗАПОЛНЕНИЯ'!AC16,\"\")","v":""},{"$f":"IF('ШАБЛОН для ЗАПОЛНЕНИЯ'!AD16<>\"\",'ШАБЛОН для ЗАПОЛНЕНИЯ'!AD16,\"\")","v":""},{"$f":"IF('ШАБЛОН для ЗАПОЛНЕНИЯ'!AE16<>\"\",'ШАБЛОН для ЗАПОЛНЕНИЯ'!AE16,\"\")","v":""},{"$f":"IF('ШАБЛОН для ЗАПОЛНЕНИЯ'!AF16<>\"\",'ШАБЛОН для ЗАПОЛНЕНИЯ'!AF16,\"\")","v":""},{"$f":"IF('ШАБЛОН для ЗАПОЛНЕНИЯ'!AG16<>\"\",'ШАБЛОН для ЗАПОЛНЕНИЯ'!AG16,\"\")","v":""},{"$f":"IF('ШАБЛОН для ЗАПОЛНЕНИЯ'!AH16<>\"\",'ШАБЛОН для ЗАПОЛНЕНИЯ'!AH16,\"\")","v":""},{"$f":"IF('ШАБЛОН для ЗАПОЛНЕНИЯ'!AI16<>\"\",'ШАБЛОН для ЗАПОЛНЕНИЯ'!AI16,\"\")","v":""},{"$f":"IF('ШАБЛОН для ЗАПОЛНЕНИЯ'!AJ16<>\"\",'ШАБЛОН для ЗАПОЛНЕНИЯ'!AJ16,\"\")","v":""},{"$f":"IF('ШАБЛОН для ЗАПОЛНЕНИЯ'!AK16<>\"\",'ШАБЛОН для ЗАПОЛНЕНИЯ'!AK16,\"\")","v":""},{"$f":"IF('ШАБЛОН для ЗАПОЛНЕНИЯ'!AL16<>\"\",'ШАБЛОН для ЗАПОЛНЕНИЯ'!AL16,\"\")","v":""},{"$f":"IF('ШАБЛОН для ЗАПОЛНЕНИЯ'!AM16<>\"\",'ШАБЛОН для ЗАПОЛНЕНИЯ'!AM16,\"\")","v":""},{"$f":"IF('ШАБЛОН для ЗАПОЛНЕНИЯ'!AN16<>\"\",'ШАБЛОН для ЗАПОЛНЕНИЯ'!AN16,\"\")","v":""},{"$f":"IF('ШАБЛОН для ЗАПОЛНЕНИЯ'!AO16<>\"\",'ШАБЛОН для ЗАПОЛНЕНИЯ'!AO16,\"\")","v":""},{"$f":"IF('ШАБЛОН для ЗАПОЛНЕНИЯ'!AP16<>\"\",'ШАБЛОН для ЗАПОЛНЕНИЯ'!AP16,\"\")","v":""},{"$f":"IF('ШАБЛОН для ЗАПОЛНЕНИЯ'!AQ16<>\"\",'ШАБЛОН для ЗАПОЛНЕНИЯ'!AQ16,\"\")","v":""},{"$f":"IF('ШАБЛОН для ЗАПОЛНЕНИЯ'!AR16<>\"\",'ШАБЛОН для ЗАПОЛНЕНИЯ'!AR16,\"\")","v":""},{"$f":"IF('ШАБЛОН для ЗАПОЛНЕНИЯ'!AS16<>\"\",'ШАБЛОН для ЗАПОЛНЕНИЯ'!AS16,\"\")","v":""},{"$f":"IF('ШАБЛОН для ЗАПОЛНЕНИЯ'!AT16<>\"\",'ШАБЛОН для ЗАПОЛНЕНИЯ'!AT16,\"\")","v":""},{"$f":"IF('ШАБЛОН для ЗАПОЛНЕНИЯ'!AU16<>\"\",'ШАБЛОН для ЗАПОЛНЕНИЯ'!AU16,\"\")","v":""},{"$f":"IF('ШАБЛОН для ЗАПОЛНЕНИЯ'!AV16<>\"\",'ШАБЛОН для ЗАПОЛНЕНИЯ'!AV16,\"\")","v":""},{"$f":"IF('ШАБЛОН для ЗАПОЛНЕНИЯ'!AW16<>\"\",'ШАБЛОН для ЗАПОЛНЕНИЯ'!AW16,\"\")","v":""},{"$f":"IF('ШАБЛОН для ЗАПОЛНЕНИЯ'!AX16<>\"\",'ШАБЛОН для ЗАПОЛНЕНИЯ'!AX16,\"\")","v":""},{"$f":"IF('ШАБЛОН для ЗАПОЛНЕНИЯ'!AY16<>\"\",'ШАБЛОН для ЗАПОЛНЕНИЯ'!AY16,\"\")","v":""},{"$f":"IF('ШАБЛОН для ЗАПОЛНЕНИЯ'!AZ16<>\"\",'ШАБЛОН для ЗАПОЛНЕНИЯ'!AZ16,\"\")","v":""},{"$f":"IF('ШАБЛОН для ЗАПОЛНЕНИЯ'!BA16<>\"\",'ШАБЛОН для ЗАПОЛНЕНИЯ'!BA16,\"\")","v":""},{"$f":"IF('ШАБЛОН для ЗАПОЛНЕНИЯ'!BB16<>\"\",'ШАБЛОН для ЗАПОЛНЕНИЯ'!BB16,\"\")","v":""},{"$f":"IF('ШАБЛОН для ЗАПОЛНЕНИЯ'!BC16<>\"\",'ШАБЛОН для ЗАПОЛНЕНИЯ'!BC16,\"\")","v":""},{"$f":"IF('ШАБЛОН для ЗАПОЛНЕНИЯ'!BD16<>\"\",'ШАБЛОН для ЗАПОЛНЕНИЯ'!BD16,\"\")","v":""},{"$f":"IF('ШАБЛОН для ЗАПОЛНЕНИЯ'!BE16<>\"\",'ШАБЛОН для ЗАПОЛНЕНИЯ'!BE16,\"\")","v":""},{"$f":"IF('ШАБЛОН для ЗАПОЛНЕНИЯ'!BF16<>\"\",'ШАБЛОН для ЗАПОЛНЕНИЯ'!BF16,\"\")","v":""},{"$f":"IF('ШАБЛОН для ЗАПОЛНЕНИЯ'!BG16<>\"\",'ШАБЛОН для ЗАПОЛНЕНИЯ'!BG16,\"\")","v":""},{"$f":"IF('ШАБЛОН для ЗАПОЛНЕНИЯ'!BH16<>\"\",'ШАБЛОН для ЗАПОЛНЕНИЯ'!BH16,\"\")","v":""},{"$f":"IF('ШАБЛОН для ЗАПОЛНЕНИЯ'!BI16<>\"\",'ШАБЛОН для ЗАПОЛНЕНИЯ'!BI16,\"\")","v":""},{"$f":"IF('ШАБЛОН для ЗАПОЛНЕНИЯ'!BJ16<>\"\",'ШАБЛОН для ЗАПОЛНЕНИЯ'!BJ16,\"\")","v":""},{"$f":"IF('ШАБЛОН для ЗАПОЛНЕНИЯ'!BK16<>\"\",'ШАБЛОН для ЗАПОЛНЕНИЯ'!BK16,\"\")","v":""},{"$f":"IF('ШАБЛОН для ЗАПОЛНЕНИЯ'!BL16<>\"\",'ШАБЛОН для ЗАПОЛНЕНИЯ'!BL16,\"\")","v":""},{"$f":"IF('ШАБЛОН для ЗАПОЛНЕНИЯ'!BM16<>\"\",'ШАБЛОН для ЗАПОЛНЕНИЯ'!BM16,\"\")","v":""},{"$f":"IF('ШАБЛОН для ЗАПОЛНЕНИЯ'!BN16<>\"\",'ШАБЛОН для ЗАПОЛНЕНИЯ'!BN16,\"\")","v":""},{"$f":"IF('ШАБЛОН для ЗАПОЛНЕНИЯ'!BO16<>\"\",'ШАБЛОН для ЗАПОЛНЕНИЯ'!BO16,\"\")","v":""},{"$f":"IF('ШАБЛОН для ЗАПОЛНЕНИЯ'!BP16<>\"\",'ШАБЛОН для ЗАПОЛНЕНИЯ'!BP16,\"\")","v":""},{"$f":"IF('ШАБЛОН для ЗАПОЛНЕНИЯ'!BQ16<>\"\",'ШАБЛОН для ЗАПОЛНЕНИЯ'!BQ16,\"\")","v":""},{"$f":"IF('ШАБЛОН для ЗАПОЛНЕНИЯ'!BR16<>\"\",'ШАБЛОН для ЗАПОЛНЕНИЯ'!BR16,\"\")","v":""},{"$f":"IF('ШАБЛОН для ЗАПОЛНЕНИЯ'!BS16<>\"\",'ШАБЛОН для ЗАПОЛНЕНИЯ'!BS16,\"\")","v":""},{"$f":"IF('ШАБЛОН для ЗАПОЛНЕНИЯ'!BT16<>\"\",'ШАБЛОН для ЗАПОЛНЕНИЯ'!BT16,\"\")","v":""},{"$f":"IF('ШАБЛОН для ЗАПОЛНЕНИЯ'!BU16<>\"\",'ШАБЛОН для ЗАПОЛНЕНИЯ'!BU16,\"\")","v":""},{"$f":"IF('ШАБЛОН для ЗАПОЛНЕНИЯ'!BV16<>\"\",'ШАБЛОН для ЗАПОЛНЕНИЯ'!BV16,\"\")","v":""},{"$f":"IF('ШАБЛОН для ЗАПОЛНЕНИЯ'!BW16<>\"\",'ШАБЛОН для ЗАПОЛНЕНИЯ'!BW16,\"\")","v":""},{"$f":"IF('ШАБЛОН для ЗАПОЛНЕНИЯ'!BX16<>\"\",'ШАБЛОН для ЗАПОЛНЕНИЯ'!BX16,\"\")","v":""},{"$f":"IF('ШАБЛОН для ЗАПОЛНЕНИЯ'!BY16<>\"\",'ШАБЛОН для ЗАПОЛНЕНИЯ'!BY16,\"\")","v":""},{"$f":"IF('ШАБЛОН для ЗАПОЛНЕНИЯ'!BZ16<>\"\",'ШАБЛОН для ЗАПОЛНЕНИЯ'!BZ16,\"\")","v":""},{"$f":"IF('ШАБЛОН для ЗАПОЛНЕНИЯ'!CA16<>\"\",'ШАБЛОН для ЗАПОЛНЕНИЯ'!CA16,\"\")","v":""},{"$f":"IF('ШАБЛОН для ЗАПОЛНЕНИЯ'!CB16<>\"\",'ШАБЛОН для ЗАПОЛНЕНИЯ'!CB16,\"\")","v":""},{"$f":"IF('ШАБЛОН для ЗАПОЛНЕНИЯ'!CC16<>\"\",'ШАБЛОН для ЗАПОЛНЕНИЯ'!CC16,\"\")","v":""},{"$f":"IF('ШАБЛОН для ЗАПОЛНЕНИЯ'!CD16<>\"\",'ШАБЛОН для ЗАПОЛНЕНИЯ'!CD16,\"\")","v":""},{"$f":"IF('ШАБЛОН для ЗАПОЛНЕНИЯ'!CE16<>\"\",'ШАБЛОН для ЗАПОЛНЕНИЯ'!CE16,\"\")","v":""},{"$f":"IF('ШАБЛОН для ЗАПОЛНЕНИЯ'!CF16<>\"\",'ШАБЛОН для ЗАПОЛНЕНИЯ'!CF16,\"\")","v":""},{"$f":"IF('ШАБЛОН для ЗАПОЛНЕНИЯ'!CG16<>\"\",'ШАБЛОН для ЗАПОЛНЕНИЯ'!CG16,\"\")","v":""},{"$f":"IF('ШАБЛОН для ЗАПОЛНЕНИЯ'!CH16<>\"\",'ШАБЛОН для ЗАПОЛНЕНИЯ'!CH16,\"\")","v":""},{"$f":"IF('ШАБЛОН для ЗАПОЛНЕНИЯ'!CI16<>\"\",'ШАБЛОН для ЗАПОЛНЕНИЯ'!CI16,\"\")","v":""},{"$f":"IF('ШАБЛОН для ЗАПОЛНЕНИЯ'!CJ16<>\"\",'ШАБЛОН для ЗАПОЛНЕНИЯ'!CJ16,\"\")","v":""},{"$f":"IF('ШАБЛОН для ЗАПОЛНЕНИЯ'!CK16<>\"\",'ШАБЛОН для ЗАПОЛНЕНИЯ'!CK16,\"\")","v":""},{"$f":"IF('ШАБЛОН для ЗАПОЛНЕНИЯ'!CL16<>\"\",'ШАБЛОН для ЗАПОЛНЕНИЯ'!CL16,\"\")","v":""},{"$f":"IF('ШАБЛОН для ЗАПОЛНЕНИЯ'!CM16<>\"\",'ШАБЛОН для ЗАПОЛНЕНИЯ'!CM16,\"\")","v":""},{"$f":"IF('ШАБЛОН для ЗАПОЛНЕНИЯ'!CN16<>\"\",'ШАБЛОН для ЗАПОЛНЕНИЯ'!CN16,\"\")","v":""},{"$f":"IF('ШАБЛОН для ЗАПОЛНЕНИЯ'!CO16<>\"\",'ШАБЛОН для ЗАПОЛНЕНИЯ'!CO16,\"\")","v":""},{"$f":"IF('ШАБЛОН для ЗАПОЛНЕНИЯ'!CP16<>\"\",'ШАБЛОН для ЗАПОЛНЕНИЯ'!CP16,\"\")","v":""},{"$f":"IF('ШАБЛОН для ЗАПОЛНЕНИЯ'!CQ16<>\"\",'ШАБЛОН для ЗАПОЛНЕНИЯ'!CQ16,\"\")","v":""},{"$f":"IF('ШАБЛОН для ЗАПОЛНЕНИЯ'!CR16<>\"\",'ШАБЛОН для ЗАПОЛНЕНИЯ'!CR16,\"\")","v":""},{"$f":"IF('ШАБЛОН для ЗАПОЛНЕНИЯ'!CS16<>\"\",'ШАБЛОН для ЗАПОЛНЕНИЯ'!CS16,\"\")","v":""},{"$f":"IF('ШАБЛОН для ЗАПОЛНЕНИЯ'!CT16<>\"\",'ШАБЛОН для ЗАПОЛНЕНИЯ'!CT16,\"\")","v":""}]
["ВТОРНИК",1,{"$f":"IF('ШАБЛОН для ЗАПОЛНЕНИЯ'!C17<>\"\",'ШАБЛОН для ЗАПОЛНЕНИЯ'!C17,\"\")","v":"Родной язык"},{"$f":"IF('ШАБЛОН для ЗАПОЛНЕНИЯ'!D17<>\"\",'ШАБЛОН для ЗАПОЛНЕНИЯ'!D17,\"\")","v":""},{"$f":"IF('ШАБЛОН для ЗАПОЛНЕНИЯ'!E17<>\"\",'ШАБЛОН для ЗАПОЛНЕНИЯ'!E17,\"\")","v":""},{"$f":"IF('ШАБЛОН для ЗАПОЛНЕНИЯ'!F17<>\"\",'ШАБЛОН для ЗАПОЛНЕНИЯ'!F17,\"\")","v":""},{"$f":"IF('ШАБЛОН для ЗАПОЛНЕНИЯ'!G17<>\"\",'ШАБЛОН для ЗАПОЛНЕНИЯ'!G17,\"\")","v":"Физкультура"},{"$f":"IF('ШАБЛОН для ЗАПОЛНЕНИЯ'!H17<>\"\",'ШАБЛОН для ЗАПОЛНЕНИЯ'!H17,\"\")","v":""},{"$f":"IF('ШАБЛОН для ЗАПОЛНЕНИЯ'!I17<>\"\",'ШАБЛОН для ЗАПОЛНЕНИЯ'!I17,\"\")","v":""},{"$f":"IF('ШАБЛОН для ЗАПОЛНЕНИЯ'!J17<>\"\",'ШАБЛОН для ЗАПОЛНЕНИЯ'!J17,\"\")","v":""},{"$f":"IF('ШАБЛОН для ЗАПОЛНЕНИЯ'!K17<>\"\",'ШАБЛОН для ЗАПОЛНЕНИЯ'!K17,\"\")","v":"Родной язык"},{"$f":"IF('ШАБЛОН для ЗАПОЛНЕНИЯ'!L17<>\"\",'ШАБЛОН для ЗАПОЛНЕНИЯ'!L17,\"\")","v":""},{"$f":"IF('ШАБЛОН для ЗАПОЛНЕНИЯ'!M17<>\"\",'ШАБЛОН для ЗАПОЛНЕНИЯ'!M17,\"\")","v":""},{"$f":"IF('ШАБЛОН для ЗАПОЛНЕНИЯ'!N17<>\"\",'ШАБЛОН для ЗАПОЛНЕНИЯ'!N17,\"\")","v":""},{"$f":"IF('ШАБЛОН для ЗАПОЛНЕНИЯ'!O17<>\"\",'ШАБЛОН для ЗАПОЛНЕНИЯ'!O17,\"\")","v":"Физкультура"},{"$f":"IF('ШАБЛОН для ЗАПОЛНЕНИЯ'!P17<>\"\",'ШАБЛОН для ЗАПОЛНЕНИЯ'!P17,\"\")","v":""},{"$f":"IF('ШАБЛОН для ЗАПОЛНЕНИЯ'!Q17<>\"\",'ШАБЛОН для ЗАПОЛНЕНИЯ'!Q17,\"\")","v":""},{"$f":"IF('ШАБЛОН для ЗАПОЛНЕНИЯ'!R17<>\"\",'ШАБЛОН для ЗАПОЛНЕНИЯ'!R17,\"\")","v":""},{"$f":"IF('ШАБЛОН для ЗАПОЛНЕНИЯ'!S17<>\"\",'ШАБЛОН для ЗАПОЛНЕНИЯ'!S17,\"\")","v":"Музыка"},{"$f":"IF('ШАБЛОН для ЗАПОЛНЕНИЯ'!T17<>\"\",'ШАБЛОН для ЗАПОЛНЕНИЯ'!T17,\"\")","v":""},{"$f":"IF('ШАБЛОН для ЗАПОЛНЕНИЯ'!U17<>\"\",'ШАБЛОН для ЗАПОЛНЕНИЯ'!U17,\"\")","v":""},{"$f":"IF('ШАБЛОН для ЗАПОЛНЕНИЯ'!V17<>\"\",'ШАБЛОН для ЗАПОЛНЕНИЯ'!V17,\"\")","v":""},{"$f":"IF('ШАБЛОН для ЗАПОЛНЕНИЯ'!W17<>\"\",'ШАБЛОН для ЗАПОЛНЕНИЯ'!W17,\"\")","v":"Математика"},{"$f":"IF('ШАБЛОН для ЗАПОЛНЕНИЯ'!X17<>\"\",'ШАБЛОН для ЗАПОЛНЕНИЯ'!X17,\"\")","v":""},{"$f":"IF('ШАБЛОН для ЗАПОЛНЕНИЯ'!Y17<>\"\",'ШАБЛОН для ЗАПОЛНЕНИЯ'!Y17,\"\")","v":""},{"$f":"IF('ШАБЛОН для ЗАПОЛНЕНИЯ'!Z17<>\"\",'ШАБЛОН для ЗАПОЛНЕНИЯ'!Z17,\"\")","v":""},{"$f":"IF('ШАБЛОН для ЗАПОЛНЕНИЯ'!AA17<>\"\",'ШАБЛОН для ЗАПОЛНЕНИЯ'!AA17,\"\")","v":"Алгебра"},{"$f":"IF('ШАБЛОН для ЗАПОЛНЕНИЯ'!AB17<>\"\",'ШАБЛОН для ЗАПОЛНЕНИЯ'!AB17,\"\")","v":""},{"$f":"IF('ШАБЛОН для ЗАПОЛНЕНИЯ'!AC17<>\"\",'ШАБЛОН для ЗАПОЛНЕНИЯ'!AC17,\"\")","v":""},{"$f":"IF('ШАБЛОН для ЗАПОЛНЕНИЯ'!AD17<>\"\",'ШАБЛОН для ЗАПОЛНЕНИЯ'!AD17,\"\")","v":""},{"$f":"IF('ШАБЛОН для ЗАПОЛНЕНИЯ'!AE17<>\"\",'ШАБЛОН для ЗАПОЛНЕНИЯ'!AE17,\"\")","v":"ИЗО"},{"$f":"IF('ШАБЛОН для ЗАПОЛНЕНИЯ'!AF17<>\"\",'ШАБЛОН для ЗАПОЛНЕНИЯ'!AF17,\"\")","v":""},{"$f":"IF('ШАБЛОН для ЗАПОЛНЕНИЯ'!AG17<>\"\",'ШАБЛОН для ЗАПОЛНЕНИЯ'!AG17,\"\")","v":""},{"$f":"IF('ШАБЛОН для ЗАПОЛНЕНИЯ'!AH17<>\"\",'ШАБЛОН для ЗАПОЛНЕНИЯ'!AH17,\"\")","v":""},{"$f":"IF('ШАБЛОН для ЗАПОЛНЕНИЯ'!AI17<>\"\",'ШАБЛОН для ЗАПОЛНЕНИЯ'!AI17,\"\")","v":"Биология"},{"$f":"IF('ШАБЛОН для ЗАПОЛНЕНИЯ'!AJ17<>\"\",'ШАБЛОН для ЗАПОЛНЕНИЯ'!AJ17,\"\")","v":""},{"$f":"IF('ШАБЛОН для ЗАПОЛНЕНИЯ'!AK17<>\"\",'ШАБЛОН для ЗАПОЛНЕНИЯ'!AK17,\"\")","v":""},{"$f":"IF('ШАБЛОН для ЗАПОЛНЕНИЯ'!AL17<>\"\",'ШАБЛОН для ЗАПОЛНЕНИЯ'!AL17,\"\")","v":""},{"$f":"IF('ШАБЛОН для ЗАПОЛНЕНИЯ'!AM17<>\"\",'ШАБЛОН для ЗАПОЛНЕНИЯ'!AM17,\"\")","v":""},{"$f":"IF('ШАБЛОН для ЗАПОЛНЕНИЯ'!AN17<>\"\",'ШАБЛОН для ЗАПОЛНЕНИЯ'!AN17,\"\")","v":"---"},{"$f":"IF('ШАБЛОН для ЗАПОЛНЕНИЯ'!AO17<>\"\",'ШАБЛОН для ЗАПОЛНЕНИЯ'!AO17,\"\")","v":""},{"$f":"IF('ШАБЛОН для ЗАПОЛНЕНИЯ'!AP17<>\"\",'ШАБЛОН для ЗАПОЛНЕНИЯ'!AP17,\"\")","v":""},{"$f":"IF('ШАБЛОН для ЗАПОЛНЕНИЯ'!AQ17<>\"\",'ШАБЛОН для ЗАПОЛНЕНИЯ'!AQ17,\"\")","v":""},{"$f":"IF('ШАБЛОН для ЗАПОЛНЕНИЯ'!AR17<>\"\",'ШАБЛОН для ЗАПОЛНЕНИЯ'!AR17,\"\")","v":"---"},{"$f":"IF('ШАБЛОН для ЗАПОЛНЕНИЯ'!AS17<>\"\",'ШАБЛОН для ЗАПОЛНЕНИЯ'!AS17,\"\")","v":""},{"$f":"IF('ШАБЛОН для ЗАПОЛНЕНИЯ'!AT17<>\"\",'ШАБЛОН для ЗАПОЛНЕНИЯ'!AT17,\"\")","v":""},{"$f":"IF('ШАБЛОН для ЗАПОЛНЕНИЯ'!AU17<>\"\",'ШАБЛОН для ЗАПОЛНЕНИЯ'!AU17,\"\")","v":""},{"$f":"IF('ШАБЛОН для ЗАПОЛНЕНИЯ'!AV17<>\"\",'ШАБЛОН для ЗАПОЛНЕНИЯ'!AV17,\"\")","v":"---"},{"$f":"IF('ШАБЛОН для ЗАПОЛНЕНИЯ'!AW17<>\"\",'ШАБЛОН для ЗАПОЛНЕНИЯ'!AW17,\"\")","v":""},{"$f":"IF('ШАБЛОН для ЗАПОЛНЕНИЯ'!AX17<>\"\",'ШАБЛОН для ЗАПОЛНЕНИЯ'!AX17,\"\")","v":""},{"$f":"IF('ШАБЛОН для ЗАПОЛНЕНИЯ'!AY17<>\"\",'ШАБЛОН для ЗАПОЛНЕНИЯ'!AY17,\"\")","v":""},{"$f":"IF('ШАБЛОН для ЗАПОЛНЕНИЯ'!AZ17<>\"\",'ШАБЛОН для ЗАПОЛНЕНИЯ'!AZ17,\"\")","v":"---"},{"$f":"IF('ШАБЛОН для ЗАПОЛНЕНИЯ'!BA17<>\"\",'ШАБЛОН для ЗАПОЛНЕНИЯ'!BA17,\"\")","v":""},{"$f":"IF('ШАБЛОН для ЗАПОЛНЕНИЯ'!BB17<>\"\",'ШАБЛОН для ЗАПОЛНЕНИЯ'!BB17,\"\")","v":""},{"$f":"IF('ШАБЛОН для ЗАПОЛНЕНИЯ'!BC17<>\"\",'ШАБЛОН для ЗАПОЛНЕНИЯ'!BC17,\"\")","v":""},{"$f":"IF('ШАБЛОН для ЗАПОЛНЕНИЯ'!BD17<>\"\",'ШАБЛОН для ЗАПОЛНЕНИЯ'!BD17,\"\")","v":"---"},{"$f":"IF('ШАБЛОН для ЗАПОЛНЕНИЯ'!BE17<>\"\",'ШАБЛОН для ЗАПОЛНЕНИЯ'!BE17,\"\")","v":""},{"$f":"IF('ШАБЛОН для ЗАПОЛНЕНИЯ'!BF17<>\"\",'ШАБЛОН для ЗАПОЛНЕНИЯ'!BF17,\"\")","v":""},{"$f":"IF('ШАБЛОН для ЗАПОЛНЕНИЯ'!BG17<>\"\",'ШАБЛОН для ЗАПОЛНЕНИЯ'!BG17,\"\")","v":""},{"$f":"IF('ШАБЛОН для ЗАПОЛНЕНИЯ'!BH17<>\"\",'ШАБЛОН для ЗАПОЛНЕНИЯ'!BH17,\"\")","v":"---"},{"$f":"IF('ШАБЛОН для ЗАПОЛНЕНИЯ'!BI17<>\"\",'ШАБЛОН для ЗАПОЛНЕНИЯ'!BI17,\"\")","v":""},{"$f":"IF('ШАБЛОН для ЗАПОЛНЕНИЯ'!BJ17<>\"\",'ШАБЛОН для ЗАПОЛНЕНИЯ'!BJ17,\"\")","v":""},{"$f":"IF('ШАБЛОН для ЗАПОЛНЕНИЯ'!BK17<>\"\",'ШАБЛОН для ЗАПОЛНЕНИЯ'!BK17,\"\")","v":""},{"$f":"IF('ШАБЛОН для ЗАПОЛНЕНИЯ'!BL17<>\"\",'ШАБЛОН для ЗАПОЛНЕНИЯ'!BL17,\"\")","v":"---"},{"$f":"IF('ШАБЛОН для ЗАПОЛНЕНИЯ'!BM17<>\"\",'ШАБЛОН для ЗАПОЛНЕНИЯ'!BM17,\"\")","v":""},{"$f":"IF('ШАБЛОН для ЗАПОЛНЕНИЯ'!BN17<>\"\",'ШАБЛОН для ЗАПОЛНЕНИЯ'!BN17,\"\")","v":""},{"$f":"IF('ШАБЛОН для ЗАПОЛНЕНИЯ'!BO17<>\"\",'ШАБЛОН для ЗАПОЛНЕНИЯ'!BO17,\"\")","v":""},{"$f":"IF('ШАБЛОН для ЗАПОЛНЕНИЯ'!BP17<>\"\",'ШАБЛОН для ЗАПОЛНЕНИЯ'!BP17,\"\")","v":"---"},{"$f":"IF('ШАБЛОН для ЗАПОЛНЕНИЯ'!BQ17<>\"\",'ШАБЛОН для ЗАПОЛНЕНИЯ'!BQ17,\"\")","v":""},{"$f":"IF('ШАБЛОН для ЗАПОЛНЕНИЯ'!BR17<>\"\",'ШАБЛОН для ЗАПОЛНЕНИЯ'!BR17,\"\")","v":""},{"$f":"IF('ШАБЛОН для ЗАПОЛНЕНИЯ'!BS17<>\"\",'ШАБЛОН для ЗАПОЛНЕНИЯ'!BS17,\"\")","v":""},{"$f":"IF('ШАБЛОН для ЗАПОЛНЕНИЯ'!BT17<>\"\",'ШАБЛОН для ЗАПОЛНЕНИЯ'!BT17,\"\")","v":"---"},{"$f":"IF('ШАБЛОН для ЗАПОЛНЕНИЯ'!BU17<>\"\",'ШАБЛОН для ЗАПОЛНЕНИЯ'!BU17,\"\")","v":""},{"$f":"IF('ШАБЛОН для ЗАПОЛНЕНИЯ'!BV17<>\"\",'ШАБЛОН для ЗАПОЛНЕНИЯ'!BV17,\"\")","v":""},{"$f":"IF('ШАБЛОН для ЗАПОЛНЕНИЯ'!BW17<>\"\",'ШАБЛОН для ЗАПОЛНЕНИЯ'!BW17,\"\")","v":""},{"$f":"IF('ШАБЛОН для ЗАПОЛНЕНИЯ'!BX17<>\"\",'ШАБЛОН для ЗАПОЛНЕНИЯ'!BX17,\"\")","v":"---"},{"$f":"IF('ШАБЛОН для ЗАПОЛНЕНИЯ'!BY17<>\"\",'ШАБЛОН для ЗАПОЛНЕНИЯ'!BY17,\"\")","v":""},{"$f":"IF('ШАБЛОН для ЗАПОЛНЕНИЯ'!BZ17<>\"\",'ШАБЛОН для ЗАПОЛНЕНИЯ'!BZ17,\"\")","v":""},{"$f":"IF('ШАБЛОН для ЗАПОЛНЕНИЯ'!CA17<>\"\",'ШАБЛОН для ЗАПОЛНЕНИЯ'!CA17,\"\")","v":""},{"$f":"IF('ШАБЛОН для ЗАПОЛНЕНИЯ'!CB17<>\"\",'ШАБЛОН для ЗАПОЛНЕНИЯ'!CB17,\"\")","v":"---"},{"$f":"IF('ШАБЛОН для ЗАПОЛНЕНИЯ'!CC17<>\"\",'ШАБЛОН для ЗАПОЛНЕНИЯ'!CC17,\"\")","v":""},{"$f":"IF('ШАБЛОН для ЗАПОЛНЕНИЯ'!CD17<>\"\",'ШАБЛОН для ЗАПОЛНЕНИЯ'!CD17,\"\")","v":""},{"$f":"IF('ШАБЛОН для ЗАПОЛНЕНИЯ'!CE17<>\"\",'ШАБЛОН для ЗАПОЛНЕНИЯ'!CE17,\"\")","v":""},{"$f":"IF('ШАБЛОН для ЗАПОЛНЕНИЯ'!CF17<>\"\",'ШАБЛОН для ЗАПОЛНЕНИЯ'!CF17,\"\")","v":"---"},{"$f":"IF('ШАБЛОН для ЗАПОЛНЕНИЯ'!CG17<>\"\",'ШАБЛОН для ЗАПОЛНЕНИЯ'!CG17,\"\")","v":""},{"$f":"IF('ШАБЛОН для ЗАПОЛНЕНИЯ'!CH17<>\"\",'ШАБЛОН для ЗАПОЛНЕНИЯ'!CH17,\"\")","v":""},{"$f":"IF('ШАБЛОН для ЗАПОЛНЕНИЯ'!CI17<>\"\",'ШАБЛОН для ЗАПОЛНЕНИЯ'!CI17,\"\")","v":""},{"$f":"IF('ШАБЛОН для ЗАПОЛНЕНИЯ'!CJ17<>\"\",'ШАБЛОН для ЗАПОЛНЕНИЯ'!CJ17,\"\")","v":"---"},{"$f":"IF('ШАБЛОН для ЗАПОЛНЕНИЯ'!CK17<>\"\",'ШАБЛОН для ЗАПОЛНЕНИЯ'!CK17,\"\")","v":""},{"$f":"IF('ШАБЛОН для ЗАПОЛНЕНИЯ'!CL17<>\"\",'ШАБЛОН для ЗАПОЛНЕНИЯ'!CL17,\"\")","v":""},{"$f":"IF('ШАБЛОН для ЗАПОЛНЕНИЯ'!CM17<>\"\",'ШАБЛОН для ЗАПОЛНЕНИЯ'!CM17,\"\")","v":""},{"$f":"IF('ШАБЛОН для ЗАПОЛНЕНИЯ'!CN17<>\"\",'ШАБЛОН для ЗАПОЛНЕНИЯ'!CN17,\"\")","v":"---"},{"$f":"IF('ШАБЛОН для ЗАПОЛНЕНИЯ'!CO17<>\"\",'ШАБЛОН для ЗАПОЛНЕНИЯ'!CO17,\"\")","v":""},{"$f":"IF('ШАБЛОН для ЗАПОЛНЕНИЯ'!CP17<>\"\",'ШАБЛОН для ЗАПОЛНЕНИЯ'!CP17,\"\")","v":""},{"$f":"IF('ШАБЛОН для ЗАПОЛНЕНИЯ'!CQ17<>\"\",'ШАБЛОН для ЗАПОЛНЕНИЯ'!CQ17,\"\")","v":""},{"$f":"IF('ШАБЛОН для ЗАПОЛНЕНИЯ'!CR17<>\"\",'ШАБЛОН для ЗАПОЛНЕНИЯ'!CR17,\"\")","v":"---"},{"$f":"IF('ШАБЛОН для ЗАПОЛНЕНИЯ'!CS17<>\"\",'ШАБЛОН для ЗАПОЛНЕНИЯ'!CS17,\"\")","v":""},{"$f":"IF('ШАБЛОН для ЗАПОЛНЕНИЯ'!CT17<>\"\",'ШАБЛОН для ЗАПОЛНЕНИЯ'!CT17,\"\")","v":""}]
[null,2,{"$f":"IF('ШАБЛОН для ЗАПОЛНЕНИЯ'!C18<>\"\",'ШАБЛОН для ЗАПОЛНЕНИЯ'!C18,\"\")","v":"Математика"},{"$f":"IF('ШАБЛОН для ЗАПОЛНЕНИЯ'!D18<>\"\",'ШАБЛОН для ЗАПОЛНЕНИЯ'!D18,\"\")","v":""},{"$f":"IF('ШАБЛОН для ЗАПОЛНЕНИЯ'!E18<>\"\",'ШАБЛОН для ЗАПОЛНЕНИЯ'!E18,\"\")","v":""},{"$f":"IF('ШАБЛОН для ЗАПОЛНЕНИЯ'!F18<>\"\",'ШАБЛОН для ЗАПОЛНЕНИЯ'!F18,\"\")","v":""},{"$f":"IF('ШАБЛОН для ЗАПОЛНЕНИЯ'!G18<>\"\",'ШАБЛОН для ЗАПОЛНЕНИЯ'!G18,\"\")","v":"Англ.язык"},{"$f":"IF('ШАБЛОН для ЗАПОЛНЕНИЯ'!H18<>\"\",'ШАБЛОН для ЗАПОЛНЕНИЯ'!H18,\"\")","v":""},{"$f":"IF('ШАБЛОН для ЗАПОЛНЕНИЯ'!I18<>\"\",'ШАБЛОН для ЗАПОЛНЕНИЯ'!I18,\"\")","v":""},{"$f":"IF('ШАБЛОН для ЗАПОЛНЕНИЯ'!J18<>\"\",'ШАБЛОН для ЗАПОЛНЕНИЯ'!J18,\"\")","v":""},{"$f":"IF('ШАБЛОН для ЗАПОЛНЕНИЯ'!K18<>\"\",'ШАБЛОН для ЗАПОЛНЕНИЯ'!K18,\"\")","v":"Математика"},{"$f":"IF('ШАБЛОН для ЗАПОЛНЕНИЯ'!L18<>\"\",'ШАБЛОН для ЗАПОЛНЕНИЯ'!L18,\"\")","v":""},{"$f":"IF('ШАБЛОН для ЗАПОЛНЕНИЯ'!M18<>\"\",'ШАБЛОН для ЗАПОЛНЕНИЯ'!M18,\"\")","v":""},{"$f":"IF('ШАБЛОН для ЗАПОЛНЕНИЯ'!N18<>\"\",'ШАБЛОН для ЗАПОЛНЕНИЯ'!N18,\"\")","v":""},{"$f":"IF('ШАБЛОН для ЗАПОЛНЕНИЯ'!O18<>\"\",'ШАБЛОН для ЗАПОЛНЕНИЯ'!O18,\"\")","v":"Англ.язык"},{"$f":"IF('ШАБЛОН для ЗАПОЛНЕНИЯ'!P18<>\"\",'ШАБЛОН для ЗАПОЛНЕНИЯ'!P18,\"\")","v":""},{"$f":"IF('ШАБЛОН для ЗАПОЛНЕНИЯ'!Q18<>\"\",'ШАБЛОН для ЗАПОЛНЕНИЯ'!Q18,\"\")","v":""},{"$f":"IF('ШАБЛОН для ЗАПОЛНЕНИЯ'!R18<>\"\",'ШАБЛОН для ЗАПОЛНЕНИЯ'!R18,\"\")","v":""},{"$f":"IF('ШАБЛОН для ЗАПОЛНЕНИЯ'!S18<>\"\",'ШАБЛОН для ЗАПОЛНЕНИЯ'!S18,\"\")","v":"Биология"},{"$f":"IF('ШАБЛОН для ЗАПОЛНЕНИЯ'!T18<>\"\",'ШАБЛОН для ЗАПОЛНЕНИЯ'!T18,\"\")","v":""},{"$f":"IF('ШАБЛОН для ЗАПОЛНЕНИЯ'!U18<>\"\",'ШАБЛОН для ЗАПОЛНЕНИЯ'!U18,\"\")","v":""},{"$f":"IF('ШАБЛОН для ЗАПОЛНЕНИЯ'!V18<>\"\",'ШАБЛОН для ЗАПОЛНЕНИЯ'!V18,\"\")","v":""},{"$f":"IF('ШАБЛОН для ЗАПОЛНЕНИЯ'!W18<>\"\",'ШАБЛОН для ЗАПОЛНЕНИЯ'!W18,\"\")","v":"ИЗО"},{"$f":"IF('ШАБЛОН для ЗАПОЛНЕНИЯ'!X18<>\"\",'ШАБЛОН для ЗАПОЛНЕНИЯ'!X18,\"\")","v":""},{"$f":"IF('ШАБЛОН для ЗАПОЛНЕНИЯ'!Y18<>\"\",'ШАБЛОН для ЗАПОЛНЕНИЯ'!Y18,\"\")","v":""},{"$f":"IF('ШАБЛОН для ЗАПОЛНЕНИЯ'!Z18<>\"\",'ШАБЛОН для ЗАПОЛНЕНИЯ'!Z18,\"\")","v":""},{"$f":"IF('ШАБЛОН для ЗАПОЛНЕНИЯ'!AA18<>\"\",'ШАБЛОН для ЗАПОЛНЕНИЯ'!AA18,\"\")","v":"Рус.язык"},{"$f":"IF('ШАБЛОН для ЗАПОЛНЕНИЯ'!AB18<>\"\",'ШАБЛОН для ЗАПОЛНЕНИЯ'!AB18,\"\")","v":""},{"$f":"IF('ШАБЛОН для ЗАПОЛНЕНИЯ'!AC18<>\"\",'ШАБЛОН для ЗАПОЛНЕНИЯ'!AC18,\"\")","v":""},{"$f":"IF('ШАБЛОН для ЗАПОЛНЕНИЯ'!AD18<>\"\",'ШАБЛОН для ЗАПОЛНЕНИЯ'!AD18,\"\")","v":""},{"$f":"IF('ШАБЛОН для ЗАПОЛНЕНИЯ'!AE18<>\"\",'ШАБЛОН для ЗАПОЛНЕНИЯ'!AE18,\"\")","v":"Родной язык"},{"$f":"IF('ШАБЛОН для ЗАПОЛНЕНИЯ'!AF18<>\"\",'ШАБЛОН для ЗАПОЛНЕНИЯ'!AF18,\"\")","v":""},{"$f":"IF('ШАБЛОН для ЗАПОЛНЕНИЯ'!AG18<>\"\",'ШАБЛОН для ЗАПОЛНЕНИЯ'!AG18,\"\")","v":""},{"$f":"IF('ШАБЛОН для ЗАПОЛНЕНИЯ'!AH18<>\"\",'ШАБЛОН для ЗАПОЛНЕНИЯ'!AH18,\"\")","v":""},{"$f":"IF('ШАБЛОН для ЗАПОЛНЕНИЯ'!AI18<>\"\",'ШАБЛОН для ЗАПОЛНЕНИЯ'!AI18,\"\")","v":"Физика"},{"$f":"IF('ШАБЛОН для ЗАПОЛНЕНИЯ'!AJ18<>\"\",'ШАБЛОН для ЗАПОЛНЕНИЯ'!AJ18,\"\")","v":""},{"$f":"IF('ШАБЛОН для ЗАПОЛНЕНИЯ'!AK18<>\"\",'ШАБЛОН для ЗАПОЛНЕНИЯ'!AK18,\"\")","v":""},{"$f":"IF('ШАБЛОН для ЗАПОЛНЕНИЯ'!AL18<>\"\",'ШАБЛОН для ЗАПОЛНЕНИЯ'!AL18,\"\")","v":""},{"$f":"IF('ШАБЛОН для ЗАПОЛНЕНИЯ'!AM18<>\"\",'ШАБЛОН для ЗАПОЛНЕНИЯ'!AM18,\"\")","v":""},{"$f":"IF('ШАБЛОН для ЗАПОЛНЕНИЯ'!AN18<>\"\",'ШАБЛОН для ЗАПОЛНЕНИЯ'!AN18,\"\")","v":""},{"$f":"IF('ШАБЛОН для ЗАПОЛНЕНИЯ'!AO18<>\"\",'ШАБЛОН для ЗАПОЛНЕНИЯ'!AO18,\"\")","v":""},{"$f":"IF('ШАБЛОН для ЗАПОЛНЕНИЯ'!AP18<>\"\",'ШАБЛОН для ЗАПОЛНЕНИЯ'!AP18,\"\")","v":""},{"$f":"IF('ШАБЛОН для ЗАПОЛНЕНИЯ'!AQ18<>\"\",'ШАБЛОН для ЗАПОЛНЕНИЯ'!AQ18,\"\")","v":""},{"$f":"IF('ШАБЛОН для ЗАПОЛНЕНИЯ'!AR18<>\"\",'ШАБЛОН для ЗАПОЛНЕНИЯ'!AR18,\"\")","v":""},{"$f":"IF('ШАБЛОН для ЗАПОЛНЕНИЯ'!AS18<>\"\",'ШАБЛОН для ЗАПОЛНЕНИЯ'!AS18,\"\")","v":""},{"$f":"IF('ШАБЛОН для ЗАПОЛНЕНИЯ'!AT18<>\"\",'ШАБЛОН для ЗАПОЛНЕНИЯ'!AT18,\"\")","v":""},{"$f":"IF('ШАБЛОН для ЗАПОЛНЕНИЯ'!AU18<>\"\",'ШАБЛОН для ЗАПОЛНЕНИЯ'!AU18,\"\")","v":""},{"$f":"IF('ШАБЛОН для ЗАПОЛНЕНИЯ'!AV18<>\"\",'ШАБЛОН для ЗАПОЛНЕНИЯ'!AV18,\"\")","v":""},{"$f":"IF('ШАБЛОН для ЗАПОЛНЕНИЯ'!AW18<>\"\",'ШАБЛОН для ЗАПОЛНЕНИЯ'!AW18,\"\")","v":""},{"$f":"IF('ШАБЛОН для ЗАПОЛНЕНИЯ'!AX18<>\"\",'ШАБЛОН для ЗАПОЛНЕНИЯ'!AX18,\"\")","v":""},{"$f":"IF('ШАБЛОН для ЗАПОЛНЕНИЯ'!AY18<>\"\",'ШАБЛОН для ЗАПОЛНЕНИЯ'!AY18,\"\")","v":""},{"$f":"IF('ШАБЛОН для ЗАПОЛНЕНИЯ'!AZ18<>\"\",'ШАБЛОН для ЗАПОЛНЕНИЯ'!AZ18,\"\")","v":""},{"$f":"IF('ШАБЛОН для ЗАПОЛНЕНИЯ'!BA18<>\"\",'ШАБЛОН для ЗАПОЛНЕНИЯ'!BA18,\"\")","v":""},{"$f":"IF('ШАБЛОН для ЗАПОЛНЕНИЯ'!BB18<>\"\",'ШАБЛОН для ЗАПОЛНЕНИЯ'!BB18,\"\")","v":""},{"$f":"IF('ШАБЛОН для ЗАПОЛНЕНИЯ'!BC18<>\"\",'ШАБЛОН для ЗАПОЛНЕНИЯ'!BC18,\"\")","v":""},{"$f":"IF('ШАБЛОН для ЗАПОЛНЕНИЯ'!BD18<>\"\",'ШАБЛОН для ЗАПОЛНЕНИЯ'!BD18,\"\")","v":""},{"$f":"IF('ШАБЛОН для ЗАПОЛНЕНИЯ'!BE18<>\"\",'ШАБЛОН для ЗАПОЛНЕНИЯ'!BE18,\"\")","v":""},{"$f":"IF('ШАБЛОН для ЗАПОЛНЕНИЯ'!BF18<>\"\",'ШАБЛОН для ЗАПОЛНЕНИЯ'!BF18,\"\")","v":""},{"$f":"IF('ШАБЛОН для ЗАПОЛНЕНИЯ'!BG18<>\"\",'ШАБЛОН для ЗАПОЛНЕНИЯ'!BG18,\"\")","v":""},{"$f":"IF('ШАБЛОН для ЗАПОЛНЕНИЯ'!BH18<>\"\",'ШАБЛОН для ЗАПОЛНЕНИЯ'!BH18,\"\")","v":""},{"$f":"IF('ШАБЛОН для ЗАПОЛНЕНИЯ'!BI18<>\"\",'ШАБЛОН для ЗАПОЛНЕНИЯ'!BI18,\"\")","v":""},{"$f":"IF('ШАБЛОН для ЗАПОЛНЕНИЯ'!BJ18<>\"\",'ШАБЛОН для ЗАПОЛНЕНИЯ'!BJ18,\"\")","v":""},{"$f":"IF('ШАБЛОН для ЗАПОЛНЕНИЯ'!BK18<>\"\",'ШАБЛОН для ЗАПОЛНЕНИЯ'!BK18,\"\")","v":""},{"$f":"IF('ШАБЛОН для ЗАПОЛНЕНИЯ'!BL18<>\"\",'ШАБЛОН для ЗАПОЛНЕНИЯ'!BL18,\"\")","v":""},{"$f":"IF('ШАБЛОН для ЗАПОЛНЕНИЯ'!BM18<>\"\",'ШАБЛОН для ЗАПОЛНЕНИЯ'!BM18,\"\")","v":""},{"$f":"IF('ШАБЛОН для ЗАПОЛНЕНИЯ'!BN18<>\"\",'ШАБЛОН для ЗАПОЛНЕНИЯ'!BN18,\"\")","v":""},{"$f":"IF('ШАБЛОН для ЗАПОЛНЕНИЯ'!BO18<>\"\",'ШАБЛОН для ЗАПОЛНЕНИЯ'!BO18,\"\")","v":""},{"$f":"IF('ШАБЛОН для ЗАПОЛНЕНИЯ'!BP18<>\"\",'ШАБЛОН для ЗАПОЛНЕНИЯ'!BP18,\"\")","v":""},{"$f":"IF('ШАБЛОН для ЗАПОЛНЕНИЯ'!BQ18<>\"\",'ШАБЛОН для ЗАПОЛНЕНИЯ'!BQ18,\"\")","v":""},{"$f":"IF('ШАБЛОН для ЗАПОЛНЕНИЯ'!BR18<>\"\",'ШАБЛОН для ЗАПОЛНЕНИЯ'!BR18,\"\")","v":""},{"$f":"IF('ШАБЛОН для ЗАПОЛНЕНИЯ'!BS18<>\"\",'ШАБЛОН для ЗАПОЛНЕНИЯ'!BS18,\"\")","v":""},{"$f":"IF('ШАБЛОН для ЗАПОЛНЕНИЯ'!BT18<>\"\",'ШАБЛОН для ЗАПОЛНЕНИЯ'!BT18,\"\")","v":""},{"$f":"IF('ШАБЛОН для ЗАПОЛНЕНИЯ'!BU18<>\"\",'ШАБЛОН для ЗАПОЛНЕНИЯ'!BU18,\"\")","v":""},{"$f":"IF('ШАБЛОН для ЗАПОЛНЕНИЯ'!BV18<>\"\",'ШАБЛОН для ЗАПОЛНЕНИЯ'!BV18,\"\")","v":""},{"$f":"IF('ШАБЛОН для ЗАПОЛНЕНИЯ'!BW18<>\"\",'ШАБЛОН для ЗАПОЛНЕНИЯ'!BW18,\"\")","v":""},{"$f":"IF('ШАБЛОН для ЗАПОЛНЕНИЯ'!BX18<>\"\",'ШАБЛОН для ЗАПОЛНЕНИЯ'!BX18,\"\")","v":""},{"$f":"IF('ШАБЛОН для ЗАПОЛНЕНИЯ'!BY18<>\"\",'ШАБЛОН для ЗАПОЛНЕНИЯ'!BY18,\"\")","v":""},{"$f":"IF('ШАБЛОН для ЗАПОЛНЕНИЯ'!BZ18<>\"\",'ШАБЛОН для ЗАПОЛНЕНИЯ'!BZ18,\"\")","v":""},{"$f":"IF('ШАБЛОН для ЗАПОЛНЕНИЯ'!CA18<>\"\",'ШАБЛОН для ЗАПОЛНЕНИЯ'!CA18,\"\")","v":""},{"$f":"IF('ШАБЛОН для ЗАПОЛНЕНИЯ'!CB18<>\"\",'ШАБЛОН для ЗАПОЛНЕНИЯ'!CB18,\"\")","v":""},{"$f":"IF('ШАБЛОН для ЗАПОЛНЕНИЯ'!CC18<>\"\",'ШАБЛОН для ЗАПОЛНЕНИЯ'!CC18,\"\")","v":""},{"$f":"IF('ШАБЛОН для ЗАПОЛНЕНИЯ'!CD18<>\"\",'ШАБЛОН для ЗАПОЛНЕНИЯ'!CD18,\"\")","v":""},{"$f":"IF('ШАБЛОН для ЗАПОЛНЕНИЯ'!CE18<>\"\",'ШАБЛОН для ЗАПОЛНЕНИЯ'!CE18,\"\")","v":""},{"$f":"IF('ШАБЛОН для ЗАПОЛНЕНИЯ'!CF18<>\"\",'ШАБЛОН для ЗАПОЛНЕНИЯ'!CF18,\"\")","v":""},{"$f":"IF('ШАБЛОН для ЗАПОЛНЕНИЯ'!CG18<>\"\",'ШАБЛОН для ЗАПОЛНЕНИЯ'!CG18,\"\")","v":""},{"$f":"IF('ШАБЛОН для ЗАПОЛНЕНИЯ'!CH18<>\"\",'ШАБЛОН для ЗАПОЛНЕНИЯ'!CH18,\"\")","v":""},{"$f":"IF('ШАБЛОН для ЗАПОЛНЕНИЯ'!CI18<>\"\",'ШАБЛОН для ЗАПОЛНЕНИЯ'!CI18,\"\")","v":""},{"$f":"IF('ШАБЛОН для ЗАПОЛНЕНИЯ'!CJ18<>\"\",'ШАБЛОН для ЗАПОЛНЕНИЯ'!CJ18,\"\")","v":""},{"$f":"IF('ШАБЛОН для ЗАПОЛНЕНИЯ'!CK18<>\"\",'ШАБЛОН для ЗАПОЛНЕНИЯ'!CK18,\"\")","v":""},{"$f":"IF('ШАБЛОН для ЗАПОЛНЕНИЯ'!CL18<>\"\",'ШАБЛОН для ЗАПОЛНЕНИЯ'!CL18,\"\")","v":""},{"$f":"IF('ШАБЛОН для ЗАПОЛНЕНИЯ'!CM18<>\"\",'ШАБЛОН для ЗАПОЛНЕНИЯ'!CM18,\"\")","v":""},{"$f":"IF('ШАБЛОН для ЗАПОЛНЕНИЯ'!CN18<>\"\",'ШАБЛОН для ЗАПОЛНЕНИЯ'!CN18,\"\")","v":""},{"$f":"IF('ШАБЛОН для ЗАПОЛНЕНИЯ'!CO18<>\"\",'ШАБЛОН для ЗАПОЛНЕНИЯ'!CO18,\"\")","v":""},{"$f":"IF('ШАБЛОН для ЗАПОЛНЕНИЯ'!CP18<>\"\",'ШАБЛОН для ЗАПОЛНЕНИЯ'!CP18,\"\")","v":""},{"$f":"IF('ШАБЛОН для ЗАПОЛНЕНИЯ'!CQ18<>\"\",'ШАБЛОН для ЗАПОЛНЕНИЯ'!CQ18,\"\")","v":""},{"$f":"IF('ШАБЛОН для ЗАПОЛНЕНИЯ'!CR18<>\"\",'ШАБЛОН для ЗАПОЛНЕНИЯ'!CR18,\"\")","v":""},{"$f":"IF('ШАБЛОН для ЗАПОЛНЕНИЯ'!CS18<>\"\",'ШАБЛОН для ЗАПОЛНЕНИЯ'!CS18,\"\")","v":""},{"$f":"IF('ШАБЛОН для ЗАПОЛНЕНИЯ'!CT18<>\"\",'ШАБЛОН для ЗАПОЛНЕНИЯ'!CT18,\"\")","v":""}]
[null,3,{"$f":"IF('ШАБЛОН для ЗАПОЛНЕНИЯ'!C19<>\"\",'ШАБЛОН для ЗАПОЛНЕНИЯ'!C19,\"\")","v":"Окр.мир"},{"$f":"IF('ШАБЛОН для ЗАПОЛНЕНИЯ'!D19<>\"\",'ШАБЛОН для ЗАПОЛНЕНИЯ'!D19,\"\")","v":""},{"$f":"IF('ШАБЛОН для ЗАПОЛНЕНИЯ'!E19<>\"\",'ШАБЛОН для ЗАПОЛНЕНИЯ'!E19,\"\")","v":""},{"$f":"IF('ШАБЛОН для ЗАПОЛНЕНИЯ'!F19<>\"\",'ШАБЛОН для ЗАПОЛНЕНИЯ'!F19,\"\")","v":""},{"$f":"IF('ШАБЛОН для ЗАПОЛНЕНИЯ'!G19<>\"\",'ШАБЛОН для ЗАПОЛНЕНИЯ'!G19,\"\")","v":"Математика"},{"$f":"IF('ШАБЛОН для ЗАПОЛНЕНИЯ'!H19<>\"\",'ШАБЛОН для ЗАПОЛНЕНИЯ'!H19,\"\")","v":""},{"$f":"IF('ШАБЛОН для ЗАПОЛНЕНИЯ'!I19<>\"\",'ШАБЛОН для ЗАПОЛНЕНИЯ'!I19,\"\")","v":""},{"$f":"IF('ШАБЛОН для ЗАПОЛНЕНИЯ'!J19<>\"\",'ШАБЛОН для ЗАПОЛНЕНИЯ'!J19,\"\")","v":""},{"$f":"IF('ШАБЛОН для ЗАПОЛНЕНИЯ'!K19<>\"\",'ШАБЛОН для ЗАПОЛНЕНИЯ'!K19,\"\")","v":"Окр.мир"},{"$f":"IF('ШАБЛОН для ЗАПОЛНЕНИЯ'!L19<>\"\",'ШАБЛОН для ЗАПОЛНЕНИЯ'!L19,\"\")","v":""},{"$f":"IF('ШАБЛОН для ЗАПОЛНЕНИЯ'!M19<>\"\",'ШАБЛОН для ЗАПОЛНЕНИЯ'!M19,\"\")","v":""},{"$f":"IF('ШАБЛОН для ЗАПОЛНЕНИЯ'!N19<>\"\",'ШАБЛОН для ЗАПОЛНЕНИЯ'!N19,\"\")","v":""},{"$f":"IF('ШАБЛОН для ЗАПОЛНЕНИЯ'!O19<>\"\",'ШАБЛОН для ЗАПОЛНЕНИЯ'!O19,\"\")","v":"Математика"},{"$f":"IF('ШАБЛОН для ЗАПОЛНЕНИЯ'!P19<>\"\",'ШАБЛОН для ЗАПОЛНЕНИЯ'!P19,\"\")","v":""},{"$f":"IF('ШАБЛОН для ЗАПОЛНЕНИЯ'!Q19<>\"\",'ШАБЛОН для ЗАПОЛНЕНИЯ'!Q19,\"\")","v":""},{"$f":"IF('ШАБЛОН для ЗАПОЛНЕНИЯ'!R19<>\"\",'ШАБЛОН для ЗАПОЛНЕНИЯ'!R19,\"\")","v":""},{"$f":"IF('ШАБЛОН для ЗАПОЛНЕНИЯ'!S19<>\"\",'ШАБЛОН для ЗАПОЛНЕНИЯ'!S19,\"\")","v":"Математика"},{"$f":"IF('ШАБЛОН для ЗАПОЛНЕНИЯ'!T19<>\"\",'ШАБЛОН для ЗАПОЛНЕНИЯ'!T19,\"\")","v":""},{"$f":"IF('ШАБЛОН для ЗАПОЛНЕНИЯ'!U19<>\"\",'ШАБЛОН для ЗАПОЛНЕНИЯ'!U19,\"\")","v":""},{"$f":"IF('ШАБЛОН для ЗАПОЛНЕНИЯ'!V19<>\"\",'ШАБЛОН для ЗАПОЛНЕНИЯ'!V19,\"\")","v":""},{"$f":"IF('ШАБЛОН для ЗАПОЛНЕНИЯ'!W19<>\"\",'ШАБЛОН для ЗАПОЛНЕНИЯ'!W19,\"\")","v":"Биология"},{"$f":"IF('ШАБЛОН для ЗАПОЛНЕНИЯ'!X19<>\"\",'ШАБЛОН для ЗАПОЛНЕНИЯ'!X19,\"\")","v":""},{"$f":"IF('ШАБЛОН для ЗАПОЛНЕНИЯ'!Y19<>\"\",'ШАБЛОН для ЗАПОЛНЕНИЯ'!Y19,\"\")","v":""},{"$f":"IF('ШАБЛОН для ЗАПОЛНЕНИЯ'!Z19<>\"\",'ШАБЛОН для ЗАПОЛНЕНИЯ'!Z19,\"\")","v":""},{"$f":"IF('ШАБЛОН для ЗАПОЛНЕНИЯ'!AA19<>\"\",'ШАБЛОН для ЗАПОЛНЕНИЯ'!AA19,\"\")","v":"ИЗО"},{"$f":"IF('ШАБЛОН для ЗАПОЛНЕНИЯ'!AB19<>\"\",'ШАБЛОН для ЗАПОЛНЕНИЯ'!AB19,\"\")","v":""},{"$f":"IF('ШАБЛОН для ЗАПОЛНЕНИЯ'!AC19<>\"\",'ШАБЛОН для ЗАПОЛНЕНИЯ'!AC19,\"\")","v":""},{"$f":"IF('ШАБЛОН для ЗАПОЛНЕНИЯ'!AD19<>\"\",'ШАБЛОН для ЗАПОЛНЕНИЯ'!AD19,\"\")","v":""},{"$f":"IF('ШАБЛОН для ЗАПОЛНЕНИЯ'!AE19<>\"\",'ШАБЛОН для ЗАПОЛНЕНИЯ'!AE19,\"\")","v":"Рус.язык"},{"$f":"IF('ШАБЛОН для ЗАПОЛНЕНИЯ'!AF19<>\"\",'ШАБЛОН для ЗАПОЛНЕНИЯ'!AF19,\"\")","v":""},{"$f":"IF('ШАБЛОН для ЗАПОЛНЕНИЯ'!AG19<>\"\",'ШАБЛОН для ЗАПОЛНЕНИЯ'!AG19,\"\")","v":""},{"$f":"IF('ШАБЛОН для ЗАПОЛНЕНИЯ'!AH19<>\"\",'ШАБЛОН для ЗАПОЛНЕНИЯ'!AH19,\"\")","v":""},{"$f":"IF('ШАБЛОН для ЗАПОЛНЕНИЯ'!AI19<>\"\",'ШАБЛОН для ЗАПОЛНЕНИЯ'!AI19,\"\")","v":"Геометрия"},{"$f":"IF('ШАБЛОН для ЗАПОЛНЕНИЯ'!AJ19<>\"\",'ШАБЛОН для ЗАПОЛНЕНИЯ'!AJ19,\"\")","v":""},{"$f":"IF('ШАБЛОН для ЗАПОЛНЕНИЯ'!AK19<>\"\",'ШАБЛОН для ЗАПОЛНЕНИЯ'!AK19,\"\")","v":""},{"$f":"IF('ШАБЛОН для ЗАПОЛНЕНИЯ'!AL19<>\"\",'ШАБЛОН для ЗАПОЛНЕНИЯ'!AL19,\"\")","v":""},{"$f":"IF('ШАБЛОН для ЗАПОЛНЕНИЯ'!AM19<>\"\",'ШАБЛОН для ЗАПОЛНЕНИЯ'!AM19,\"\")","v":""},{"$f":"IF('ШАБЛОН для ЗАПОЛНЕНИЯ'!AN19<>\"\",'ШАБЛОН для ЗАПОЛНЕНИЯ'!AN19,\"\")","v":""},{"$f":"IF('ШАБЛОН для ЗАПОЛНЕНИЯ'!AO19<>\"\",'ШАБЛОН для ЗАПОЛНЕНИЯ'!AO19,\"\")","v":""},{"$f":"IF('ШАБЛОН для ЗАПОЛНЕНИЯ'!AP19<>\"\",'ШАБЛОН для ЗАПОЛНЕНИЯ'!AP19,\"\")","v":""},{"$f":"IF('ШАБЛОН для ЗАПОЛНЕНИЯ'!AQ19<>\"\",'ШАБЛОН для ЗАПОЛНЕНИЯ'!AQ19,\"\")","v":""},{"$f":"IF('ШАБЛОН для ЗАПОЛНЕНИЯ'!AR19<>\"\",'ШАБЛОН для ЗАПОЛНЕНИЯ'!AR19,\"\")","v":""},{"$f":"IF('ШАБЛОН для ЗАПОЛНЕНИЯ'!AS19<>\"\",'ШАБЛОН для ЗАПОЛНЕНИЯ'!AS19,\"\")","v":""},{"$f":"IF('ШАБЛОН для ЗАПОЛНЕНИЯ'!AT19<>\"\",'ШАБЛОН для ЗАПОЛНЕНИЯ'!AT19,\"\")","v":""},{"$f":"IF('ШАБЛОН для ЗАПОЛНЕНИЯ'!AU19<>\"\",'ШАБЛОН для ЗАПОЛНЕНИЯ'!AU19,\"\")","v":""},{"$f":"IF('ШАБЛОН для ЗАПОЛНЕНИЯ'!AV19<>\"\",'ШАБЛОН для ЗАПОЛНЕНИЯ'!AV19,\"\")","v":""},{"$f":"IF('ШАБЛОН для ЗАПОЛНЕНИЯ'!AW19<>\"\",'ШАБЛОН для ЗАПОЛНЕНИЯ'!AW19,\"\")","v":""},{"$f":"IF('ШАБЛОН для ЗАПОЛНЕНИЯ'!AX19<>\"\",'ШАБЛОН для ЗАПОЛНЕНИЯ'!AX19,\"\")","v":""},{"$f":"IF('ШАБЛОН для ЗАПОЛНЕНИЯ'!AY19<>\"\",'ШАБЛОН для ЗАПОЛНЕНИЯ'!AY19,\"\")","v":""},{"$f":"IF('ШАБЛОН для ЗАПОЛНЕНИЯ'!AZ19<>\"\",'ШАБЛОН для ЗАПОЛНЕНИЯ'!AZ19,\"\")","v":""},{"$f":"IF('ШАБЛОН для ЗАПОЛНЕНИЯ'!BA19<>\"\",'ШАБЛОН для ЗАПОЛНЕНИЯ'!BA19,\"\")","v":""},{"$f":"IF('ШАБЛОН для ЗАПОЛНЕНИЯ'!BB19<>\"\",'ШАБЛОН для ЗАПОЛНЕНИЯ'!BB19,\"\")","v":""},{"$f":"IF('ШАБЛОН для ЗАПОЛНЕНИЯ'!BC19<>\"\",'ШАБЛОН для ЗАПОЛНЕНИЯ'!BC19,\"\")","v":""},{"$f":"IF('ШАБЛОН для ЗАПОЛНЕНИЯ'!BD19<>\"\",'ШАБЛОН для ЗАПОЛНЕНИЯ'!BD19,\"\")","v":""},{"$f":"IF('ШАБЛОН для ЗАПОЛНЕНИЯ'!BE19<>\"\",'ШАБЛОН для ЗАПОЛНЕНИЯ'!BE19,\"\")","v":""},{"$f":"IF('ШАБЛОН для ЗАПОЛНЕНИЯ'!BF19<>\"\",'ШАБЛОН для ЗАПОЛНЕНИЯ'!BF19,\"\")","v":""},{"$f":"IF('ШАБЛОН для ЗАПОЛНЕНИЯ'!BG19<>\"\",'ШАБЛОН для ЗАПОЛНЕНИЯ'!BG19,\"\")","v":""},{"$f":"IF('ШАБЛОН для ЗАПОЛНЕНИЯ'!BH19<>\"\",'ШАБЛОН для ЗАПОЛНЕНИЯ'!BH19,\"\")","v":""},{"$f":"IF('ШАБЛОН для ЗАПОЛНЕНИЯ'!BI19<>\"\",'ШАБЛОН для ЗАПОЛНЕНИЯ'!BI19,\"\")","v":""},{"$f":"IF('ШАБЛОН для ЗАПОЛНЕНИЯ'!BJ19<>\"\",'ШАБЛОН для ЗАПОЛНЕНИЯ'!BJ19,\"\")","v":""},{"$f":"IF('ШАБЛОН для ЗАПОЛНЕНИЯ'!BK19<>\"\",'ШАБЛОН для ЗАПОЛНЕНИЯ'!BK19,\"\")","v":""},{"$f":"IF('ШАБЛОН для ЗАПОЛНЕНИЯ'!BL19<>\"\",'ШАБЛОН для ЗАПОЛНЕНИЯ'!BL19,\"\")","v":""},{"$f":"IF('ШАБЛОН для ЗАПОЛНЕНИЯ'!BM19<>\"\",'ШАБЛОН для ЗАПОЛНЕНИЯ'!BM19,\"\")","v":""},{"$f":"IF('ШАБЛОН для ЗАПОЛНЕНИЯ'!BN19<>\"\",'ШАБЛОН для ЗАПОЛНЕНИЯ'!BN19,\"\")","v":""},{"$f":"IF('ШАБЛОН для ЗАПОЛНЕНИЯ'!BO19<>\"\",'ШАБЛОН для ЗАПОЛНЕНИЯ'!BO19,\"\")","v":""},{"$f":"IF('ШАБЛОН для ЗАПОЛНЕНИЯ'!BP19<>\"\",'ШАБЛОН для ЗАПОЛНЕНИЯ'!BP19,\"\")","v":""},{"$f":"IF('ШАБЛОН для ЗАПОЛНЕНИЯ'!BQ19<>\"\",'ШАБЛОН для ЗАПОЛНЕНИЯ'!BQ19,\"\")","v":""},{"$f":"IF('ШАБЛОН для ЗАПОЛНЕНИЯ'!BR19<>\"\",'ШАБЛОН для ЗАПОЛНЕНИЯ'!BR19,\"\")","v":""},{"$f":"IF('ШАБЛОН для ЗАПОЛНЕНИЯ'!BS19<>\"\",'ШАБЛОН для ЗАПОЛНЕНИЯ'!BS19,\"\")","v":""},{"$f":"IF('ШАБЛОН для ЗАПОЛНЕНИЯ'!BT19<>\"\",'ШАБЛОН для ЗАПОЛНЕНИЯ'!BT19,\"\")","v":""},{"$f":"IF('ШАБЛОН для ЗАПОЛНЕНИЯ'!BU19<>\"\",'ШАБЛОН для ЗАПОЛНЕНИЯ'!BU19,\"\")","v":""},{"$f":"IF('ШАБЛОН для ЗАПОЛНЕНИЯ'!BV19<>\"\",'ШАБЛОН для ЗАПОЛНЕНИЯ'!BV19,\"\")","v":""},{"$f":"IF('ШАБЛОН для ЗАПОЛНЕНИЯ'!BW19<>\"\",'ШАБЛОН для ЗАПОЛНЕНИЯ'!BW19,\"\")","v":""},{"$f":"IF('ШАБЛОН для ЗАПОЛНЕНИЯ'!BX19<>\"\",'ШАБЛОН для ЗАПОЛНЕНИЯ'!BX19,\"\")","v":""},{"$f":"IF('ШАБЛОН для ЗАПОЛНЕНИЯ'!BY19<>\"\",'ШАБЛОН для ЗАПОЛНЕНИЯ'!BY19,\"\")","v":""},{"$f":"IF('ШАБЛОН для ЗАПОЛНЕНИЯ'!BZ19<>\"\",'ШАБЛОН для ЗАПОЛНЕНИЯ'!BZ19,\"\")","v":""},{"$f":"IF('ШАБЛОН для ЗАПОЛНЕНИЯ'!CA19<>\"\",'ШАБЛОН для ЗАПОЛНЕНИЯ'!CA19,\"\")","v":""},{"$f":"IF('ШАБЛОН для ЗАПОЛНЕНИЯ'!CB19<>\"\",'ШАБЛОН для ЗАПОЛНЕНИЯ'!CB19,\"\")","v":""},{"$f":"IF('ШАБЛОН для ЗАПОЛНЕНИЯ'!CC19<>\"\",'ШАБЛОН для ЗАПОЛНЕНИЯ'!CC19,\"\")","v":""},{"$f":"IF('ШАБЛОН для ЗАПОЛНЕНИЯ'!CD19<>\"\",'ШАБЛОН для ЗАПОЛНЕНИЯ'!CD19,\"\")","v":""},{"$f":"IF('ШАБЛОН для ЗАПОЛНЕНИЯ'!CE19<>\"\",'ШАБЛОН для ЗАПОЛНЕНИЯ'!CE19,\"\")","v":""},{"$f":"IF('ШАБЛОН для ЗАПОЛНЕНИЯ'!CF19<>\"\",'ШАБЛОН для ЗАПОЛНЕНИЯ'!CF19,\"\")","v":""},{"$f":"IF('ШАБЛОН для ЗАПОЛНЕНИЯ'!CG19<>\"\",'ШАБЛОН для ЗАПОЛНЕНИЯ'!CG19,\"\")","v":""},{"$f":"IF('ШАБЛОН для ЗАПОЛНЕНИЯ'!CH19<>\"\",'ШАБЛОН для ЗАПОЛНЕНИЯ'!CH19,\"\")","v":""},{"$f":"IF('ШАБЛОН для ЗАПОЛНЕНИЯ'!CI19<>\"\",'ШАБЛОН для ЗАПОЛНЕНИЯ'!CI19,\"\")","v":""},{"$f":"IF('ШАБЛОН для ЗАПОЛНЕНИЯ'!CJ19<>\"\",'ШАБЛОН для ЗАПОЛНЕНИЯ'!CJ19,\"\")","v":""},{"$f":"IF('ШАБЛОН для ЗАПОЛНЕНИЯ'!CK19<>\"\",'ШАБЛОН для ЗАПОЛНЕНИЯ'!CK19,\"\")","v":""},{"$f":"IF('ШАБЛОН для ЗАПОЛНЕНИЯ'!CL19<>\"\",'ШАБЛОН для ЗАПОЛНЕНИЯ'!CL19,\"\")","v":""},{"$f":"IF('ШАБЛОН для ЗАПОЛНЕНИЯ'!CM19<>\"\",'ШАБЛОН для ЗАПОЛНЕНИЯ'!CM19,\"\")","v":""},{"$f":"IF('ШАБЛОН для ЗАПОЛНЕНИЯ'!CN19<>\"\",'ШАБЛОН для ЗАПОЛНЕНИЯ'!CN19,\"\")","v":""},{"$f":"IF('ШАБЛОН для ЗАПОЛНЕНИЯ'!CO19<>\"\",'ШАБЛОН для ЗАПОЛНЕНИЯ'!CO19,\"\")","v":""},{"$f":"IF('ШАБЛОН для ЗАПОЛНЕНИЯ'!CP19<>\"\",'ШАБЛОН для ЗАПОЛНЕНИЯ'!CP19,\"\")","v":""},{"$f":"IF('ШАБЛОН для ЗАПОЛНЕНИЯ'!CQ19<>\"\",'ШАБЛОН для ЗАПОЛНЕНИЯ'!CQ19,\"\")","v":""},{"$f":"IF('ШАБЛОН для ЗАПОЛНЕНИЯ'!CR19<>\"\",'ШАБЛОН для ЗАПОЛНЕНИЯ'!CR19,\"\")","v":""},{"$f":"IF('ШАБЛОН для ЗАПОЛНЕНИЯ'!CS19<>\"\",'ШАБЛОН для ЗАПОЛНЕНИЯ'!CS19,\"\")","v":""},{"$f":"IF('ШАБЛОН для ЗАПОЛНЕНИЯ'!CT19<>\"\",'ШАБЛОН для ЗАПОЛНЕНИЯ'!CT19,\"\")","v":""}]
[null,4,{"$f":"IF('ШАБЛОН для ЗАПОЛНЕНИЯ'!C20<>\"\",'ШАБЛОН для ЗАПОЛНЕНИЯ'!C20,\"\")","v":"Рус.язык"},{"$f":"IF('ШАБЛОН для ЗАПОЛНЕНИЯ'!D20<>\"\",'ШАБЛОН для ЗАПОЛНЕНИЯ'!D20,\"\")","v":""},{"$f":"IF('ШАБЛОН для ЗАПОЛНЕНИЯ'!E20<>\"\",'ШАБЛОН для ЗАПОЛНЕНИЯ'!E20,\"\")","v":""},{"$f":"IF('ШАБЛОН для ЗАПОЛНЕНИЯ'!F20<>\"\",'ШАБЛОН для ЗАПОЛНЕНИЯ'!F20,\"\")","v":""},{"$f":"IF('ШАБЛОН для ЗАПОЛНЕНИЯ'!G20<>\"\",'ШАБЛОН для ЗАПОЛНЕНИЯ'!G20,\"\")","v":"Рус.язык"},{"$f":"IF('ШАБЛОН для ЗАПОЛНЕНИЯ'!H20<>\"\",'ШАБЛОН для ЗАПОЛНЕНИЯ'!H20,\"\")","v":""},{"$f":"IF('ШАБЛОН для ЗАПОЛНЕНИЯ'!I20<>\"\",'ШАБЛОН для ЗАПОЛНЕНИЯ'!I20,\"\")","v":""},{"$f":"IF('ШАБЛОН для ЗАПОЛНЕНИЯ'!J20<>\"\",'ШАБЛОН для ЗАПОЛНЕНИЯ'!J20,\"\")","v":""},{"$f":"IF('ШАБЛОН для ЗАПОЛНЕНИЯ'!K20<>\"\",'ШАБЛОН для ЗАПОЛНЕНИЯ'!K20,\"\")","v":"Рус.язык"},{"$f":"IF('ШАБЛОН для ЗАПОЛНЕНИЯ'!L20<>\"\",'ШАБЛОН для ЗАПОЛНЕНИЯ'!L20,\"\")","v":""},{"$f":"IF('ШАБЛОН для ЗАПОЛНЕНИЯ'!M20<>\"\",'ШАБЛОН для ЗАПОЛНЕНИЯ'!M20,\"\")","v":""},{"$f":"IF('ШАБЛОН для ЗАПОЛНЕНИЯ'!N20<>\"\",'ШАБЛОН для ЗАПОЛНЕНИЯ'!N20,\"\")","v":""},{"$f":"IF('ШАБЛОН для ЗАПОЛНЕНИЯ'!O20<>\"\",'ШАБЛОН для ЗАПОЛНЕНИЯ'!O20,\"\")","v":"Рус.язык"},{"$f":"IF('ШАБЛОН для ЗАПОЛНЕНИЯ'!P20<>\"\",'ШАБЛОН для ЗАПОЛНЕНИЯ'!P20,\"\")","v":""},{"$f":"IF('ШАБЛОН для ЗАПОЛНЕНИЯ'!Q20<>\"\",'ШАБЛОН для ЗАПОЛНЕНИЯ'!Q20,\"\")","v":""},{"$f":"IF('ШАБЛОН для ЗАПОЛНЕНИЯ'!R20<>\"\",'ШАБЛОН для ЗАПОЛНЕНИЯ'!R20,\"\")","v":""},{"$f":"IF('ШАБЛОН для ЗАПОЛНЕНИЯ'!S20<>\"\",'ШАБЛОН для ЗАПОЛНЕНИЯ'!S20,\"\")","v":"Технология"},{"$f":"IF('ШАБЛОН для ЗАПОЛНЕНИЯ'!T20<>\"\",'ШАБЛОН для ЗАПОЛНЕНИЯ'!T20,\"\")","v":""},{"$f":"IF('ШАБЛОН для ЗАПОЛНЕНИЯ'!U20<>\"\",'ШАБЛОН для ЗАПОЛНЕНИЯ'!U20,\"\")","v":""},{"$f":"IF('ШАБЛОН для ЗАПОЛНЕНИЯ'!V20<>\"\",'ШАБЛОН для ЗАПОЛНЕНИЯ'!V20,\"\")","v":""},{"$f":"IF('ШАБЛОН для ЗАПОЛНЕНИЯ'!W20<>\"\",'ШАБЛОН для ЗАПОЛНЕНИЯ'!W20,\"\")","v":"Обществознание"},{"$f":"IF('ШАБЛОН для ЗАПОЛНЕНИЯ'!X20<>\"\",'ШАБЛОН для ЗАПОЛНЕНИЯ'!X20,\"\")","v":""},{"$f":"IF('ШАБЛОН для ЗАПОЛНЕНИЯ'!Y20<>\"\",'ШАБЛОН для ЗАПОЛНЕНИЯ'!Y20,\"\")","v":""},{"$f":"IF('ШАБЛОН для ЗАПОЛНЕНИЯ'!Z20<>\"\",'ШАБЛОН для ЗАПОЛНЕНИЯ'!Z20,\"\")","v":""},{"$f":"IF('ШАБЛОН для ЗАПОЛНЕНИЯ'!AA20<>\"\",'ШАБЛОН для ЗАПОЛНЕНИЯ'!AA20,\"\")","v":"Родной язык"},{"$f":"IF('ШАБЛОН для ЗАПОЛНЕНИЯ'!AB20<>\"\",'ШАБЛОН для ЗАПОЛНЕНИЯ'!AB20,\"\")","v":""},{"$f":"IF('ШАБЛОН для ЗАПОЛНЕНИЯ'!AC20<>\"\",'ШАБЛОН для ЗАПОЛНЕНИЯ'!AC20,\"\")","v":""},{"$f":"IF('ШАБЛОН для ЗАПОЛНЕНИЯ'!AD20<>\"\",'ШАБЛОН для ЗАПОЛНЕНИЯ'!AD20,\"\")","v":""},{"$f":"IF('ШАБЛОН для ЗАПОЛНЕНИЯ'!AE20<>\"\",'ШАБЛОН для ЗАПОЛНЕНИЯ'!AE20,\"\")","v":"Геометрия"},{"$f":"IF('ШАБЛОН для ЗАПОЛНЕНИЯ'!AF20<>\"\",'ШАБЛОН для ЗАПОЛНЕНИЯ'!AF20,\"\")","v":""},{"$f":"IF('ШАБЛОН для ЗАПОЛНЕНИЯ'!AG20<>\"\",'ШАБЛОН для ЗАПОЛНЕНИЯ'!AG20,\"\")","v":""},{"$f":"IF('ШАБЛОН для ЗАПОЛНЕНИЯ'!AH20<>\"\",'ШАБЛОН для ЗАПОЛНЕНИЯ'!AH20,\"\")","v":""},{"$f":"IF('ШАБЛОН для ЗАПОЛНЕНИЯ'!AI20<>\"\",'ШАБЛОН для ЗАПОЛНЕНИЯ'!AI20,\"\")","v":"География"},{"$f":"IF('ШАБЛОН для ЗАПОЛНЕНИЯ'!AJ20<>\"\",'ШАБЛОН для ЗАПОЛНЕНИЯ'!AJ20,\"\")","v":""},{"$f":"IF('ШАБЛОН для ЗАПОЛНЕНИЯ'!AK20<>\"\",'ШАБЛОН для ЗАПОЛНЕНИЯ'!AK20,\"\")","v":""},{"$f":"IF('ШАБЛОН для ЗАПОЛНЕНИЯ'!AL20<>\"\",'ШАБЛОН для ЗАПОЛНЕНИЯ'!AL20,\"\")","v":""},{"$f":"IF('ШАБЛОН для ЗАПОЛНЕНИЯ'!AM20<>\"\",'ШАБЛОН для ЗАПОЛНЕНИЯ'!AM20,\"\")","v":""},{"$f":"IF('ШАБЛОН для ЗАПОЛНЕНИЯ'!AN20<>\"\",'ШАБЛОН для ЗАПОЛНЕНИЯ'!AN20,\"\")","v":""},{"$f":"IF('ШАБЛОН для ЗАПОЛНЕНИЯ'!AO20<>\"\",'ШАБЛОН для ЗАПОЛНЕНИЯ'!AO20,\"\")","v":""},{"$f":"IF('ШАБЛОН для ЗАПОЛНЕНИЯ'!AP20<>\"\",'ШАБЛОН для ЗАПОЛНЕНИЯ'!AP20,\"\")","v":""},{"$f":"IF('ШАБЛОН для ЗАПОЛНЕНИЯ'!AQ20<>\"\",'ШАБЛОН для ЗАПОЛНЕНИЯ'!AQ20,\"\")","v":""},{"$f":"IF('ШАБЛОН для ЗАПОЛНЕНИЯ'!AR20<>\"\",'ШАБЛОН для ЗАПОЛНЕНИЯ'!AR20,\"\")","v":""},{"$f":"IF('ШАБЛОН для ЗАПОЛНЕНИЯ'!AS20<>\"\",'ШАБЛОН для ЗАПОЛНЕНИЯ'!AS20,\"\")","v":""},{"$f":"IF('ШАБЛОН для ЗАПОЛНЕНИЯ'!AT20<>\"\",'ШАБЛОН для ЗАПОЛНЕНИЯ'!AT20,\"\")","v":""},{"$f":"IF('ШАБЛОН для ЗАПОЛНЕНИЯ'!AU20<>\"\",'ШАБЛОН для ЗАПОЛНЕНИЯ'!AU20,\"\")","v":""},{"$f":"IF('ШАБЛОН для ЗАПОЛНЕНИЯ'!AV20<>\"\",'ШАБЛОН для ЗАПОЛНЕНИЯ'!AV20,\"\")","v":""},{"$f":"IF('ШАБЛОН для ЗАПОЛНЕНИЯ'!AW20<>\"\",'ШАБЛОН для ЗАПОЛНЕНИЯ'!AW20,\"\")","v":""},{"$f":"IF('ШАБЛОН для ЗАПОЛНЕНИЯ'!AX20<>\"\",'ШАБЛОН для ЗАПОЛНЕНИЯ'!AX20,\"\")","v":""},{"$f":"IF('ШАБЛОН для ЗАПОЛНЕНИЯ'!AY20<>\"\",'ШАБЛОН для ЗАПОЛНЕНИЯ'!AY20,\"\")","v":""},{"$f":"IF('ШАБЛОН для ЗАПОЛНЕНИЯ'!AZ20<>\"\",'ШАБЛОН для ЗАПОЛНЕНИЯ'!AZ20,\"\")","v":""},{"$f":"IF('ШАБЛОН для ЗАПОЛНЕНИЯ'!BA20<>\"\",'ШАБЛОН для ЗАПОЛНЕНИЯ'!BA20,\"\")","v":""},{"$f":"IF('ШАБЛОН для ЗАПОЛНЕНИЯ'!BB20<>\"\",'ШАБЛОН для ЗАПОЛНЕНИЯ'!BB20,\"\")","v":""},{"$f":"IF('ШАБЛОН для ЗАПОЛНЕНИЯ'!BC20<>\"\",'ШАБЛОН для ЗАПОЛНЕНИЯ'!BC20,\"\")","v":""},{"$f":"IF('ШАБЛОН для ЗАПОЛНЕНИЯ'!BD20<>\"\",'ШАБЛОН для ЗАПОЛНЕНИЯ'!BD20,\"\")","v":""},{"$f":"IF('ШАБЛОН для ЗАПОЛНЕНИЯ'!BE20<>\"\",'ШАБЛОН для ЗАПОЛНЕНИЯ'!BE20,\"\")","v":""},{"$f":"IF('ШАБЛОН для ЗАПОЛНЕНИЯ'!BF20<>\"\",'ШАБЛОН для ЗАПОЛНЕНИЯ'!BF20,\"\")","v":""},{"$f":"IF('ШАБЛОН для ЗАПОЛНЕНИЯ'!BG20<>\"\",'ШАБЛОН для ЗАПОЛНЕНИЯ'!BG20,\"\")","v":""},{"$f":"IF('ШАБЛОН для ЗАПОЛНЕНИЯ'!BH20<>\"\",'ШАБЛОН для ЗАПОЛНЕНИЯ'!BH20,\"\")","v":""},{"$f":"IF('ШАБЛОН для ЗАПОЛНЕНИЯ'!BI20<>\"\",'ШАБЛОН для ЗАПОЛНЕНИЯ'!BI20,\"\")","v":""},{"$f":"IF('ШАБЛОН для ЗАПОЛНЕНИЯ'!BJ20<>\"\",'ШАБЛОН для ЗАПОЛНЕНИЯ'!BJ20,\"\")","v":""},{"$f":"IF('ШАБЛОН для ЗАПОЛНЕНИЯ'!BK20<>\"\",'ШАБЛОН для ЗАПОЛНЕНИЯ'!BK20,\"\")","v":""},{"$f":"IF('ШАБЛОН для ЗАПОЛНЕНИЯ'!BL20<>\"\",'ШАБЛОН для ЗАПОЛНЕНИЯ'!BL20,\"\")","v":""},{"$f":"IF('ШАБЛОН для ЗАПОЛНЕНИЯ'!BM20<>\"\",'ШАБЛОН для ЗАПОЛНЕНИЯ'!BM20,\"\")","v":""},{"$f":"IF('ШАБЛОН для ЗАПОЛНЕНИЯ'!BN20<>\"\",'ШАБЛОН для ЗАПОЛНЕНИЯ'!BN20,\"\")","v":""},{"$f":"IF('ШАБЛОН для ЗАПОЛНЕНИЯ'!BO20<>\"\",'ШАБЛОН для ЗАПОЛНЕНИЯ'!BO20,\"\")","v":""},{"$f":"IF('ШАБЛОН для ЗАПОЛНЕНИЯ'!BP20<>\"\",'ШАБЛОН для ЗАПОЛНЕНИЯ'!BP20,\"\")","v":""},{"$f":"IF('ШАБЛОН для ЗАПОЛНЕНИЯ'!BQ20<>\"\",'ШАБЛОН для ЗАПОЛНЕНИЯ'!BQ20,\"\")","v":""},{"$f":"IF('ШАБЛОН для ЗАПОЛНЕНИЯ'!BR20<>\"\",'ШАБЛОН для ЗАПОЛНЕНИЯ'!BR20,\"\")","v":""},{"$f":"IF('ШАБЛОН для ЗАПОЛНЕНИЯ'!BS20<>\"\",'ШАБЛОН для ЗАПОЛНЕНИЯ'!BS20,\"\")","v":""},{"$f":"IF('ШАБЛОН для ЗАПОЛНЕНИЯ'!BT20<>\"\",'ШАБЛОН для ЗАПОЛНЕНИЯ'!BT20,\"\")","v":""},{"$f":"IF('ШАБЛОН для ЗАПОЛНЕНИЯ'!BU20<>\"\",'ШАБЛОН для ЗАПОЛНЕНИЯ'!BU20,\"\")","v":""},{"$f":"IF('ШАБЛОН для ЗАПОЛНЕНИЯ'!BV20<>\"\",'ШАБЛОН для ЗАПОЛНЕНИЯ'!BV20,\"\")","v":""},{"$f":"IF('ШАБЛОН для ЗАПОЛНЕНИЯ'!BW20<>\"\",'ШАБЛОН для ЗАПОЛНЕНИЯ'!BW20,\"\")","v":""},{"$f":"IF('ШАБЛОН для ЗАПОЛНЕНИЯ'!BX20<>\"\",'ШАБЛОН для ЗАПОЛНЕНИЯ'!BX20,\"\")","v":""},{"$f":"IF('ШАБЛОН для ЗАПОЛНЕНИЯ'!BY20<>\"\",'ШАБЛОН для ЗАПОЛНЕНИЯ'!BY20,\"\")","v":""},{"$f":"IF('ШАБЛОН для ЗАПОЛНЕНИЯ'!BZ20<>\"\",'ШАБЛОН для ЗАПОЛНЕНИЯ'!BZ20,\"\")","v":""},{"$f":"IF('ШАБЛОН для ЗАПОЛНЕНИЯ'!CA20<>\"\",'ШАБЛОН для ЗАПОЛНЕНИЯ'!CA20,\"\")","v":""},{"$f":"IF('ШАБЛОН для ЗАПОЛНЕНИЯ'!CB20<>\"\",'ШАБЛОН для ЗАПОЛНЕНИЯ'!CB20,\"\")","v":""},{"$f":"IF('ШАБЛОН для ЗАПОЛНЕНИЯ'!CC20<>\"\",'ШАБЛОН для ЗАПОЛНЕНИЯ'!CC20,\"\")","v":""},{"$f":"IF('ШАБЛОН для ЗАПОЛНЕНИЯ'!CD20<>\"\",'ШАБЛОН для ЗАПОЛНЕНИЯ'!CD20,\"\")","v":""},{"$f":"IF('ШАБЛОН для ЗАПОЛНЕНИЯ'!CE20<>\"\",'ШАБЛОН для ЗАПОЛНЕНИЯ'!CE20,\"\")","v":""},{"$f":"IF('ШАБЛОН для ЗАПОЛНЕНИЯ'!CF20<>\"\",'ШАБЛОН для ЗАПОЛНЕНИЯ'!CF20,\"\")","v":""},{"$f":"IF('ШАБЛОН для ЗАПОЛНЕНИЯ'!CG20<>\"\",'ШАБЛОН для ЗАПОЛНЕНИЯ'!CG20,\"\")","v":""},{"$f":"IF('ШАБЛОН для ЗАПОЛНЕНИЯ'!CH20<>\"\",'ШАБЛОН для ЗАПОЛНЕНИЯ'!CH20,\"\")","v":""},{"$f":"IF('ШАБЛОН для ЗАПОЛНЕНИЯ'!CI20<>\"\",'ШАБЛОН для ЗАПОЛНЕНИЯ'!CI20,\"\")","v":""},{"$f":"IF('ШАБЛОН для ЗАПОЛНЕНИЯ'!CJ20<>\"\",'ШАБЛОН для ЗАПОЛНЕНИЯ'!CJ20,\"\")","v":""},{"$f":"IF('ШАБЛОН для ЗАПОЛНЕНИЯ'!CK20<>\"\",'ШАБЛОН для ЗАПОЛНЕНИЯ'!CK20,\"\")","v":""},{"$f":"IF('ШАБЛОН для ЗАПОЛНЕНИЯ'!CL20<>\"\",'ШАБЛОН для ЗАПОЛНЕНИЯ'!CL20,\"\")","v":""},{"$f":"IF('ШАБЛОН для ЗАПОЛНЕНИЯ'!CM20<>\"\",'ШАБЛОН для ЗАПОЛНЕНИЯ'!CM20,\"\")","v":""},{"$f":"IF('ШАБЛОН для ЗАПОЛНЕНИЯ'!CN20<>\"\",'ШАБЛОН для ЗАПОЛНЕНИЯ'!CN20,\"\")","v":""},{"$f":"IF('ШАБЛОН для ЗАПОЛНЕНИЯ'!CO20<>\"\",'ШАБЛОН для ЗАПОЛНЕНИЯ'!CO20,\"\")","v":""},{"$f":"IF('ШАБЛОН для ЗАПОЛНЕНИЯ'!CP20<>\"\",'ШАБЛОН для ЗАПОЛНЕНИЯ'!CP20,\"\")","v":""},{"$f":"IF('ШАБЛОН для ЗАПОЛНЕНИЯ'!CQ20<>\"\",'ШАБЛОН для ЗАПОЛНЕНИЯ'!CQ20,\"\")","v":""},{"$f":"IF('ШАБЛОН для ЗАПОЛНЕНИЯ'!CR20<>\"\",'ШАБЛОН для ЗАПОЛНЕНИЯ'!CR20,\"\")","v":""},{"$f":"IF('ШАБЛОН для ЗАПОЛНЕНИЯ'!CS20<>\"\",'ШАБЛОН для ЗАПОЛНЕНИЯ'!CS20,\"\")","v":""},{"$f":"IF('ШАБЛОН для ЗАПОЛНЕНИЯ'!CT20<>\"\",'ШАБЛОН для ЗАПОЛНЕНИЯ'!CT20,\"\")","v":""}]
[null,5,{"$f":"IF('ШАБЛОН для ЗАПОЛНЕНИЯ'!C21<>\"\",'ШАБЛОН для ЗАПОЛНЕНИЯ'!C21,\"\")","v":""},{"$f":"IF('ШАБЛОН для ЗАПОЛНЕНИЯ'!D21<>\"\",'ШАБЛОН для ЗАПОЛНЕНИЯ'!D21,\"\")","v":""},{"$f":"IF('ШАБЛОН для ЗАПОЛНЕНИЯ'!E21<>\"\",'ШАБЛОН для ЗАПОЛНЕНИЯ'!E21,\"\")","v":""},{"$f":"IF('ШАБЛОН для ЗАПОЛНЕНИЯ'!F21<>\"\",'ШАБЛОН для ЗАПОЛНЕНИЯ'!F21,\"\")","v":""},{"$f":"IF('ШАБЛОН для ЗАПОЛНЕНИЯ'!G21<>\"\",'ШАБЛОН для ЗАПОЛНЕНИЯ'!G21,\"\")","v":"Лит.чтение"},{"$f":"IF('ШАБЛОН для ЗАПОЛНЕНИЯ'!H21<>\"\",'ШАБЛОН для ЗАПОЛНЕНИЯ'!H21,\"\")","v":""},{"$f":"IF('ШАБЛОН для ЗАПОЛНЕНИЯ'!I21<>\"\",'ШАБЛОН для ЗАПОЛНЕНИЯ'!I21,\"\")","v":""},{"$f":"IF('ШАБЛОН для ЗАПОЛНЕНИЯ'!J21<>\"\",'ШАБЛОН для ЗАПОЛНЕНИЯ'!J21,\"\")","v":""},{"$f":"IF('ШАБЛОН для ЗАПОЛНЕНИЯ'!K21<>\"\",'ШАБЛОН для ЗАПОЛНЕНИЯ'!K21,\"\")","v":""},{"$f":"IF('ШАБЛОН для ЗАПОЛНЕНИЯ'!L21<>\"\",'ШАБЛОН для ЗАПОЛНЕНИЯ'!L21,\"\")","v":""},{"$f":"IF('ШАБЛОН для ЗАПОЛНЕНИЯ'!M21<>\"\",'ШАБЛОН для ЗАПОЛНЕНИЯ'!M21,\"\")","v":""},{"$f":"IF('ШАБЛОН для ЗАПОЛНЕНИЯ'!N21<>\"\",'ШАБЛОН для ЗАПОЛНЕНИЯ'!N21,\"\")","v":""},{"$f":"IF('ШАБЛОН для ЗАПОЛНЕНИЯ'!O21<>\"\",'ШАБЛОН для ЗАПОЛНЕНИЯ'!O21,\"\")","v":"Лит.чтение"},{"$f":"IF('ШАБЛОН для ЗАПОЛНЕНИЯ'!P21<>\"\",'ШАБЛОН для ЗАПОЛНЕНИЯ'!P21,\"\")","v":""},{"$f":"IF('ШАБЛОН для ЗАПОЛНЕНИЯ'!Q21<>\"\",'ШАБЛОН для ЗАПОЛНЕНИЯ'!Q21,\"\")","v":""},{"$f":"IF('ШАБЛОН для ЗАПОЛНЕНИЯ'!R21<>\"\",'ШАБЛОН для ЗАПОЛНЕНИЯ'!R21,\"\")","v":""},{"$f":"IF('ШАБЛОН для ЗАПОЛНЕНИЯ'!S21<>\"\",'ШАБЛОН для ЗАПОЛНЕНИЯ'!S21,\"\")","v":"Математика"},{"$f":"IF('ШАБЛОН для ЗАПОЛНЕНИЯ'!T21<>\"\",'ШАБЛОН для ЗАПОЛНЕНИЯ'!T21,\"\")","v":""},{"$f":"IF('ШАБЛОН для ЗАПОЛНЕНИЯ'!U21<>\"\",'ШАБЛОН для ЗАПОЛНЕНИЯ'!U21,\"\")","v":""},{"$f":"IF('ШАБЛОН для ЗАПОЛНЕНИЯ'!V21<>\"\",'ШАБЛОН для ЗАПОЛНЕНИЯ'!V21,\"\")","v":""},{"$f":"IF('ШАБЛОН для ЗАПОЛНЕНИЯ'!W21<>\"\",'ШАБЛОН для ЗАПОЛНЕНИЯ'!W21,\"\")","v":"Родной язык"},{"$f":"IF('ШАБЛОН для ЗАПОЛНЕНИЯ'!X21<>\"\",'ШАБЛОН для ЗАПОЛНЕНИЯ'!X21,\"\")","v":""},{"$f":"IF('ШАБЛОН для ЗАПОЛНЕНИЯ'!Y21<>\"\",'ШАБЛОН для ЗАПОЛНЕНИЯ'!Y21,\"\")","v":""},{"$f":"IF('ШАБЛОН для ЗАПОЛНЕНИЯ'!Z21<>\"\",'ШАБЛОН для ЗАПОЛНЕНИЯ'!Z21,\"\")","v":""},{"$f":"IF('ШАБЛОН для ЗАПОЛНЕНИЯ'!AA21<>\"\",'ШАБЛОН для ЗАПОЛНЕНИЯ'!AA21,\"\")","v":"Геометрия"},{"$f":"IF('ШАБЛОН для ЗАПОЛНЕНИЯ'!AB21<>\"\",'ШАБЛОН для ЗАПОЛНЕНИЯ'!AB21,\"\")","v":""},{"$f":"IF('ШАБЛОН для ЗАПОЛНЕНИЯ'!AC21<>\"\",'ШАБЛОН для ЗАПОЛНЕНИЯ'!AC21,\"\")","v":""},{"$f":"IF('ШАБЛОН для ЗАПОЛНЕНИЯ'!AD21<>\"\",'ШАБЛОН для ЗАПОЛНЕНИЯ'!AD21,\"\")","v":""},{"$f":"IF('ШАБЛОН для ЗАПОЛНЕНИЯ'!AE21<>\"\",'ШАБЛОН для ЗАПОЛНЕНИЯ'!AE21,\"\")","v":"Литература"},{"$f":"IF('ШАБЛОН для ЗАПОЛНЕНИЯ'!AF21<>\"\",'ШАБЛОН для ЗАПОЛНЕНИЯ'!AF21,\"\")","v":""},{"$f":"IF('ШАБЛОН для ЗАПОЛНЕНИЯ'!AG21<>\"\",'ШАБЛОН для ЗАПОЛНЕНИЯ'!AG21,\"\")","v":""},{"$f":"IF('ШАБЛОН для ЗАПОЛНЕНИЯ'!AH21<>\"\",'ШАБЛОН для ЗАПОЛНЕНИЯ'!AH21,\"\")","v":""},{"$f":"IF('ШАБЛОН для ЗАПОЛНЕНИЯ'!AI21<>\"\",'ШАБЛОН для ЗАПОЛНЕНИЯ'!AI21,\"\")","v":"ОБЖ"},{"$f":"IF('ШАБЛОН для ЗАПОЛНЕНИЯ'!AJ21<>\"\",'ШАБЛОН для ЗАПОЛНЕНИЯ'!AJ21,\"\")","v":""},{"$f":"IF('ШАБЛОН для ЗАПОЛНЕНИЯ'!AK21<>\"\",'ШАБЛОН для ЗАПОЛНЕНИЯ'!AK21,\"\")","v":""},{"$f":"IF('ШАБЛОН для ЗАПОЛНЕНИЯ'!AL21<>\"\",'ШАБЛОН для ЗАПОЛНЕНИЯ'!AL21,\"\")","v":""},{"$f":"IF('ШАБЛОН для ЗАПОЛНЕНИЯ'!AM21<>\"\",'ШАБЛОН для ЗАПОЛНЕНИЯ'!AM21,\"\")","v":""},{"$f":"IF('ШАБЛОН для ЗАПОЛНЕНИЯ'!AN21<>\"\",'ШАБЛОН для ЗАПОЛНЕНИЯ'!AN21,\"\")","v":""},{"$f":"IF('ШАБЛОН для ЗАПОЛНЕНИЯ'!AO21<>\"\",'ШАБЛОН для ЗАПОЛНЕНИЯ'!AO21,\"\")","v":""},{"$f":"IF('ШАБЛОН для ЗАПОЛНЕНИЯ'!AP21<>\"\",'ШАБЛОН для ЗАПОЛНЕНИЯ'!AP21,\"\")","v":""},{"$f":"IF('ШАБЛОН для ЗАПОЛНЕНИЯ'!AQ21<>\"\",'ШАБЛОН для ЗАПОЛНЕНИЯ'!AQ21,\"\")","v":""},{"$f":"IF('ШАБЛОН для ЗАПОЛНЕНИЯ'!AR21<>\"\",'ШАБЛОН для ЗАПОЛНЕНИЯ'!AR21,\"\")","v":""},{"$f":"IF('ШАБЛОН для ЗАПОЛНЕНИЯ'!AS21<>\"\",'ШАБЛОН для ЗАПОЛНЕНИЯ'!AS21,\"\")","v":""},{"$f":"IF('ШАБЛОН для ЗАПОЛНЕНИЯ'!AT21<>\"\",'ШАБЛОН для ЗАПОЛНЕНИЯ'!AT21,\"\")","v":""},{"$f":"IF('ШАБЛОН для ЗАПОЛНЕНИЯ'!AU21<>\"\",'ШАБЛОН для ЗАПОЛНЕНИЯ'!AU21,\"\")","v":""},{"$f":"IF('ШАБЛОН для ЗАПОЛНЕНИЯ'!AV21<>\"\",'ШАБЛОН для ЗАПОЛНЕНИЯ'!AV21,\"\")","v":""},{"$f":"IF('ШАБЛОН для ЗАПОЛНЕНИЯ'!AW21<>\"\",'ШАБЛОН для ЗАПОЛНЕНИЯ'!AW21,\"\")","v":""},{"$f":"IF('ШАБЛОН для ЗАПОЛНЕНИЯ'!AX21<>\"\",'ШАБЛОН для ЗАПОЛНЕНИЯ'!AX21,\"\")","v":""},{"$f":"IF('ШАБЛОН для ЗАПОЛНЕНИЯ'!AY21<>\"\",'ШАБЛОН для ЗАПОЛНЕНИЯ'!AY21,\"\")","v":""},{"$f":"IF('ШАБЛОН для ЗАПОЛНЕНИЯ'!AZ21<>\"\",'ШАБЛОН для ЗАПОЛНЕНИЯ'!AZ21,\"\")","v":""},{"$f":"IF('ШАБЛОН для ЗАПОЛНЕНИЯ'!BA21<>\"\",'ШАБЛОН для ЗАПОЛНЕНИЯ'!BA21,\"\")","v":""},{"$f":"IF('ШАБЛОН для ЗАПОЛНЕНИЯ'!BB21<>\"\",'ШАБЛОН для ЗАПОЛНЕНИЯ'!BB21,\"\")","v":""},{"$f":"IF('ШАБЛОН для ЗАПОЛНЕНИЯ'!BC21<>\"\",'ШАБЛОН для ЗАПОЛНЕНИЯ'!BC21,\"\")","v":""},{"$f":"IF('ШАБЛОН для ЗАПОЛНЕНИЯ'!BD21<>\"\",'ШАБЛОН для ЗАПОЛНЕНИЯ'!BD21,\"\")","v":""},{"$f":"IF('ШАБЛОН для ЗАПОЛНЕНИЯ'!BE21<>\"\",'ШАБЛОН для ЗАПОЛНЕНИЯ'!BE21,\"\")","v":""},{"$f":"IF('ШАБЛОН для ЗАПОЛНЕНИЯ'!BF21<>\"\",'ШАБЛОН для ЗАПОЛНЕНИЯ'!BF21,\"\")","v":""},{"$f":"IF('ШАБЛОН для ЗАПОЛНЕНИЯ'!BG21<>\"\",'ШАБЛОН для ЗАПОЛНЕНИЯ'!BG21,\"\")","v":""},{"$f":"IF('ШАБЛОН для ЗАПОЛНЕНИЯ'!BH21<>\"\",'ШАБЛОН для ЗАПОЛНЕНИЯ'!BH21,\"\")","v":""},{"$f":"IF('ШАБЛОН для ЗАПОЛНЕНИЯ'!BI21<>\"\",'ШАБЛОН для ЗАПОЛНЕНИЯ'!BI21,\"\")","v":""},{"$f":"IF('ШАБЛОН для ЗАПОЛНЕНИЯ'!BJ21<>\"\",'ШАБЛОН для ЗАПОЛНЕНИЯ'!BJ21,\"\")","v":""},{"$f":"IF('ШАБЛОН для ЗАПОЛНЕНИЯ'!BK21<>\"\",'ШАБЛОН для ЗАПОЛНЕНИЯ'!BK21,\"\")","v":""},{"$f":"IF('ШАБЛОН для ЗАПОЛНЕНИЯ'!BL21<>\"\",'ШАБЛОН для ЗАПОЛНЕНИЯ'!BL21,\"\")","v":""},{"$f":"IF('ШАБЛОН для ЗАПОЛНЕНИЯ'!BM21<>\"\",'ШАБЛОН для ЗАПОЛНЕНИЯ'!BM21,\"\")","v":""},{"$f":"IF('ШАБЛОН для ЗАПОЛНЕНИЯ'!BN21<>\"\",'ШАБЛОН для ЗАПОЛНЕНИЯ'!BN21,\"\")","v":""},{"$f":"IF('ШАБЛОН для ЗАПОЛНЕНИЯ'!BO21<>\"\",'ШАБЛОН для ЗАПОЛНЕНИЯ'!BO21,\"\")","v":""},{"$f":"IF('ШАБЛОН для ЗАПОЛНЕНИЯ'!BP21<>\"\",'ШАБЛОН для ЗАПОЛНЕНИЯ'!BP21,\"\")","v":""},{"$f":"IF('ШАБЛОН для ЗАПОЛНЕНИЯ'!BQ21<>\"\",'ШАБЛОН для ЗАПОЛНЕНИЯ'!BQ21,\"\")","v":""},{"$f":"IF('ШАБЛОН для ЗАПОЛНЕНИЯ'!BR21<>\"\",'ШАБЛОН для ЗАПОЛНЕНИЯ'!BR21,\"\")","v":""},{"$f":"IF('ШАБЛОН для ЗАПОЛНЕНИЯ'!BS21<>\"\",'ШАБЛОН для ЗАПОЛНЕНИЯ'!BS21,\"\")","v":""},{"$f":"IF('ШАБЛОН для ЗАПОЛНЕНИЯ'!BT21<>\"\",'ШАБЛОН для ЗАПОЛНЕНИЯ'!BT21,\"\")","v":""},{"$f":"IF('ШАБЛОН для ЗАПОЛНЕНИЯ'!BU21<>\"\",'ШАБЛОН для ЗАПОЛНЕНИЯ'!BU21,\"\")","v":""},{"$f":"IF('ШАБЛОН для ЗАПОЛНЕНИЯ'!BV21<>\"\",'ШАБЛОН для ЗАПОЛНЕНИЯ'!BV21,\"\")","v":""},{"$f":"IF('ШАБЛОН для ЗАПОЛНЕНИЯ'!BW21<>\"\",'ШАБЛОН для ЗАПОЛНЕНИЯ'!BW21,\"\")","v":""},{"$f":"IF('ШАБЛОН для ЗАПОЛНЕНИЯ'!BX21<>\"\",'ШАБЛОН для ЗАПОЛНЕНИЯ'!BX21,\"\")","v":""},{"$f":"IF('ШАБЛОН для ЗАПОЛНЕНИЯ'!BY21<>\"\",'ШАБЛОН для ЗАПОЛНЕНИЯ'!BY21,\"\")","v":""},{"$f":"IF('ШАБЛОН для ЗАПОЛНЕНИЯ'!BZ21<>\"\",'ШАБЛОН для ЗАПОЛНЕНИЯ'!BZ21,\"\")","v":""},{"$f":"IF('ШАБЛОН для ЗАПОЛНЕНИЯ'!CA21<>\"\",'ШАБЛОН для ЗАПОЛНЕНИЯ'!CA21,\"\")","v":""},{"$f":"IF('ШАБЛОН для ЗАПОЛНЕНИЯ'!CB21<>\"\",'ШАБЛОН для ЗАПОЛНЕНИЯ'!CB21,\"\")","v":""},{"$f":"IF('ШАБЛОН для ЗАПОЛНЕНИЯ'!CC21<>\"\",'ШАБЛОН для ЗАПОЛНЕНИЯ'!CC21,\"\")","v":""},{"$f":"IF('ШАБЛОН для ЗАПОЛНЕНИЯ'!CD21<>\"\",'ШАБЛОН для ЗАПОЛНЕНИЯ'!CD21,\"\")","v":""},{"$f":"IF('ШАБЛОН для ЗАПОЛНЕНИЯ'!CE21<>\"\",'ШАБЛОН для ЗАПОЛНЕНИЯ'!CE21,\"\")","v":""},{"$f":"IF('ШАБЛОН для ЗАПОЛНЕНИЯ'!CF21<>\"\",'ШАБЛОН для ЗАПОЛНЕНИЯ'!CF21,\"\")","v":""},{"$f":"IF('ШАБЛОН для ЗАПОЛНЕНИЯ'!CG21<>\"\",'ШАБЛОН для ЗАПОЛНЕНИЯ'!CG21,\"\")","v":""},{"$f":"IF('ШАБЛОН для ЗАПОЛНЕНИЯ'!CH21<>\"\",'ШАБЛОН для ЗАПОЛНЕНИЯ'!CH21,\"\")","v":""},{"$f":"IF('ШАБЛОН для ЗАПОЛНЕНИЯ'!CI21<>\"\",'ШАБЛОН для ЗАПОЛНЕНИЯ'!CI21,\"\")","v":""},{"$f":"IF('ШАБЛОН для ЗАПОЛНЕНИЯ'!CJ21<>\"\",'ШАБЛОН для ЗАПОЛНЕНИЯ'!CJ21,\"\")","v":""},{"$f":"IF('ШАБЛОН для ЗАПОЛНЕНИЯ'!CK21<>\"\",'ШАБЛОН для ЗАПОЛНЕНИЯ'!CK21,\"\")","v":""},{"$f":"IF('ШАБЛОН для ЗАПОЛНЕНИЯ'!CL21<>\"\",'ШАБЛОН для ЗАПОЛНЕНИЯ'!CL21,\"\")","v":""},{"$f":"IF('ШАБЛОН для ЗАПОЛНЕНИЯ'!CM21<>\"\",'ШАБЛОН для ЗАПОЛНЕНИЯ'!CM21,\"\")","v":""},{"$f":"IF('ШАБЛОН для ЗАПОЛНЕНИЯ'!CN21<>\"\",'ШАБЛОН для ЗАПОЛНЕНИЯ'!CN21,\"\")","v":""},{"$f":"IF('ШАБЛОН для ЗАПОЛНЕНИЯ'!CO21<>\"\",'ШАБЛОН для ЗАПОЛНЕНИЯ'!CO21,\"\")","v":""},{"$f":"IF('ШАБЛОН для ЗАПОЛНЕНИЯ'!CP21<>\"\",'ШАБЛОН для ЗАПОЛНЕНИЯ'!CP21,\"\")","v":""},{"$f":"IF('ШАБЛОН для ЗАПОЛНЕНИЯ'!CQ21<>\"\",'ШАБЛОН для ЗАПОЛНЕНИЯ'!CQ21,\"\")","v":""},{"$f":"IF('ШАБЛОН для ЗАПОЛНЕНИЯ'!CR21<>\"\",'ШАБЛОН для ЗАПОЛНЕНИЯ'!CR21,\"\")","v":""},{"$f":"IF('ШАБЛОН для ЗАПОЛНЕНИЯ'!CS21<>\"\",'ШАБЛОН для ЗАПОЛНЕНИЯ'!CS21,\"\")","v":""},{"$f":"IF('ШАБЛОН для ЗАПОЛНЕНИЯ'!CT21<>\"\",'ШАБЛОН для ЗАПОЛНЕНИЯ'!CT21,\"\")","v":""}]
[null,6,{"$f":"IF('ШАБЛОН для ЗАПОЛНЕНИЯ'!C22<>\"\",'ШАБЛОН для ЗАПОЛНЕНИЯ'!C22,\"\")","v":""},{"$f":"IF('ШАБЛОН для ЗАПОЛНЕНИЯ'!D22<>\"\",'ШАБЛОН для ЗАПОЛНЕНИЯ'!D22,\"\")","v":""},{"$f":"IF('ШАБЛОН для ЗАПОЛНЕНИЯ'!E22<>\"\",'ШАБЛОН для ЗАПОЛНЕНИЯ'!E22,\"\")","v":""},{"$f":"IF('ШАБЛОН для ЗАПОЛНЕНИЯ'!F22<>\"\",'ШАБЛОН для ЗАПОЛНЕНИЯ'!F22,\"\")","v":""},{"$f":"IF('ШАБЛОН для ЗАПОЛНЕНИЯ'!G22<>\"\",'ШАБЛОН для ЗАПОЛНЕНИЯ'!G22,\"\")","v":""},{"$f":"IF('ШАБЛОН для ЗАПОЛНЕНИЯ'!H22<>\"\",'ШАБЛОН для ЗАПОЛНЕНИЯ'!H22,\"\")","v":""},{"$f":"IF('ШАБЛОН для ЗАПОЛНЕНИЯ'!I22<>\"\",'ШАБЛОН для ЗАПОЛНЕНИЯ'!I22,\"\")","v":""},{"$f":"IF('ШАБЛОН для ЗАПОЛНЕНИЯ'!J22<>\"\",'ШАБЛОН для ЗАПОЛНЕНИЯ'!J22,\"\")","v":""},{"$f":"IF('ШАБЛОН для ЗАПОЛНЕНИЯ'!K22<>\"\",'ШАБЛОН для ЗАПОЛНЕНИЯ'!K22,\"\")","v":""},{"$f":"IF('ШАБЛОН для ЗАПОЛНЕНИЯ'!L22<>\"\",'ШАБЛОН для ЗАПОЛНЕНИЯ'!L22,\"\")","v":""},{"$f":"IF('ШАБЛОН для ЗАПОЛНЕНИЯ'!M22<>\"\",'ШАБЛОН для ЗАПОЛНЕНИЯ'!M22,\"\")","v":""},{"$f":"IF('ШАБЛОН для ЗАПОЛНЕНИЯ'!N22<>\"\",'ШАБЛОН для ЗАПОЛНЕНИЯ'!N22,\"\")","v":""},{"$f":"IF('ШАБЛОН для ЗАПОЛНЕНИЯ'!O22<>\"\",'ШАБЛОН для ЗАПОЛНЕНИЯ'!O22,\"\")","v":""},{"$f":"IF('ШАБЛОН для ЗАПОЛНЕНИЯ'!P22<>\"\",'ШАБЛОН для ЗАПОЛНЕНИЯ'!P22,\"\")","v":""},{"$f":"IF('ШАБЛОН для ЗАПОЛНЕНИЯ'!Q22<>\"\",'ШАБЛОН для ЗАПОЛНЕНИЯ'!Q22,\"\")","v":""},{"$f":"IF('ШАБЛОН для ЗАПОЛНЕНИЯ'!R22<>\"\",'ШАБЛОН для ЗАПОЛНЕНИЯ'!R22,\"\")","v":""},{"$f":"IF('ШАБЛОН для ЗАПОЛНЕНИЯ'!S22<>\"\",'ШАБЛОН для ЗАПОЛНЕНИЯ'!S22,\"\")","v":""},{"$f":"IF('ШАБЛОН для ЗАПОЛНЕНИЯ'!T22<>\"\",'ШАБЛОН для ЗАПОЛНЕНИЯ'!T22,\"\")","v":""},{"$f":"IF('ШАБЛОН для ЗАПОЛНЕНИЯ'!U22<>\"\",'ШАБЛОН для ЗАПОЛНЕНИЯ'!U22,\"\")","v":""},{"$f":"IF('ШАБЛОН для ЗАПОЛНЕНИЯ'!V22<>\"\",'ШАБЛОН для ЗАПОЛНЕНИЯ'!V22,\"\")","v":""},{"$f":"IF('ШАБЛОН для ЗАПОЛНЕНИЯ'!W22<>\"\",'ШАБЛОН для ЗАПОЛНЕНИЯ'!W22,\"\")","v":""},{"$f":"IF('ШАБЛОН для ЗАПОЛНЕНИЯ'!X22<>\"\",'ШАБЛОН для ЗАПОЛНЕНИЯ'!X22,\"\")","v":""},{"$f":"IF('ШАБЛОН для ЗАПОЛНЕНИЯ'!Y22<>\"\",'ШАБЛОН для ЗАПОЛНЕНИЯ'!Y22,\"\")","v":""},{"$f":"IF('ШАБЛОН для ЗАПОЛНЕНИЯ'!Z22<>\"\",'ШАБЛОН для ЗАПОЛНЕНИЯ'!Z22,\"\")","v":""},{"$f":"IF('ШАБЛОН для ЗАПОЛНЕНИЯ'!AA22<>\"\",'ШАБЛОН для ЗАПОЛНЕНИЯ'!AA22,\"\")","v":"Биология"},{"$f":"IF('ШАБЛОН для ЗАПОЛНЕНИЯ'!AB22<>\"\",'ШАБЛОН для ЗАПОЛНЕНИЯ'!AB22,\"\")","v":""},{"$f":"IF('ШАБЛОН для ЗАПОЛНЕНИЯ'!AC22<>\"\",'ШАБЛОН для ЗАПОЛНЕНИЯ'!AC22,\"\")","v":""},{"$f":"IF('ШАБЛОН для ЗАПОЛНЕНИЯ'!AD22<>\"\",'ШАБЛОН для ЗАПОЛНЕНИЯ'!AD22,\"\")","v":""},{"$f":"IF('ШАБЛОН для ЗАПОЛНЕНИЯ'!AE22<>\"\",'ШАБЛОН для ЗАПОЛНЕНИЯ'!AE22,\"\")","v":"История"},{"$f":"IF('ШАБЛОН для ЗАПОЛНЕНИЯ'!AF22<>\"\",'ШАБЛОН для ЗАПОЛНЕНИЯ'!AF22,\"\")","v":""},{"$f":"IF('ШАБЛОН для ЗАПОЛНЕНИЯ'!AG22<>\"\",'ШАБЛОН для ЗАПОЛНЕНИЯ'!AG22,\"\")","v":""},{"$f":"IF('ШАБЛОН для ЗАПОЛНЕНИЯ'!AH22<>\"\",'ШАБЛОН для ЗАПОЛНЕНИЯ'!AH22,\"\")","v":""},{"$f":"IF('ШАБЛОН для ЗАПОЛНЕНИЯ'!AI22<>\"\",'ШАБЛОН для ЗАПОЛНЕНИЯ'!AI22,\"\")","v":"Физкультура"},{"$f":"IF('ШАБЛОН для ЗАПОЛНЕНИЯ'!AJ22<>\"\",'ШАБЛОН для ЗАПОЛНЕНИЯ'!AJ22,\"\")","v":""},{"$f":"IF('ШАБЛОН для ЗАПОЛНЕНИЯ'!AK22<>\"\",'ШАБЛОН для ЗАПОЛНЕНИЯ'!AK22,\"\")","v":""},{"$f":"IF('ШАБЛОН для ЗАПОЛНЕНИЯ'!AL22<>\"\",'ШАБЛОН для ЗАПОЛНЕНИЯ'!AL22,\"\")","v":""},{"$f":"IF('ШАБЛОН для ЗАПОЛНЕНИЯ'!AM22<>\"\",'ШАБЛОН для ЗАПОЛНЕНИЯ'!AM22,\"\")","v":""},{"$f":"IF('ШАБЛОН для ЗАПОЛНЕНИЯ'!AN22<>\"\",'ШАБЛОН для ЗАПОЛНЕНИЯ'!AN22,\"\")","v":""},{"$f":"IF('ШАБЛОН для ЗАПОЛНЕНИЯ'!AO22<>\"\",'ШАБЛОН для ЗАПОЛНЕНИЯ'!AO22,\"\")","v":""},{"$f":"IF('ШАБЛОН для ЗАПОЛНЕНИЯ'!AP22<>\"\",'ШАБЛОН для ЗАПОЛНЕНИЯ'!AP22,\"\")","v":""},{"$f":"IF('ШАБЛОН для ЗАПОЛНЕНИЯ'!AQ22<>\"\",'ШАБЛОН для ЗАПОЛНЕНИЯ'!AQ22,\"\")","v":""},{"$f":"IF('ШАБЛОН для ЗАПОЛНЕНИЯ'!AR22<>\"\",'ШАБЛОН для ЗАПОЛНЕНИЯ'!AR22,\"\")","v":""},{"$f":"IF('ШАБЛОН для ЗАПОЛНЕНИЯ'!AS22<>\"\",'ШАБЛОН для ЗАПОЛНЕНИЯ'!AS22,\"\")","v":""},{"$f":"IF('ШАБЛОН для ЗАПОЛНЕНИЯ'!AT22<>\"\",'ШАБЛОН для ЗАПОЛНЕНИЯ'!AT22,\"\")","v":""},{"$f":"IF('ШАБЛОН для ЗАПОЛНЕНИЯ'!AU22<>\"\",'ШАБЛОН для ЗАПОЛНЕНИЯ'!AU22,\"\")","v":""},{"$f":"IF('ШАБЛОН для ЗАПОЛНЕНИЯ'!AV22<>\"\",'ШАБЛОН для ЗАПОЛНЕНИЯ'!AV22,\"\")","v":""},{"$f":"IF('ШАБЛОН для ЗАПОЛНЕНИЯ'!AW22<>\"\",'ШАБЛОН для ЗАПОЛНЕНИЯ'!AW22,\"\")","v":""},{"$f":"IF('ШАБЛОН для ЗАПОЛНЕНИЯ'!AX22<>\"\",'ШАБЛОН для ЗАПОЛНЕНИЯ'!AX22,\"\")","v":""},{"$f":"IF('ШАБЛОН для ЗАПОЛНЕНИЯ'!AY22<>\"\",'ШАБЛОН для ЗАПОЛНЕНИЯ'!AY22,\"\")","v":""},{"$f":"IF('ШАБЛОН для ЗАПОЛНЕНИЯ'!AZ22<>\"\",'ШАБЛОН для ЗАПОЛНЕНИЯ'!AZ22,\"\")","v":""},{"$f":"IF('ШАБЛОН для ЗАПОЛНЕНИЯ'!BA22<>\"\",'ШАБЛОН для ЗАПОЛНЕНИЯ'!BA22,\"\")","v":""},{"$f":"IF('ШАБЛОН для ЗАПОЛНЕНИЯ'!BB22<>\"\",'ШАБЛОН для ЗАПОЛНЕНИЯ'!BB22,\"\")","v":""},{"$f":"IF('ШАБЛОН для ЗАПОЛНЕНИЯ'!BC22<>\"\",'ШАБЛОН для ЗАПОЛНЕНИЯ'!BC22,\"\")","v":""},{"$f":"IF('ШАБЛОН для ЗАПОЛНЕНИЯ'!BD22<>\"\",'ШАБЛОН для ЗАПОЛНЕНИЯ'!BD22,\"\")","v":""},{"$f":"IF('ШАБЛОН для ЗАПОЛНЕНИЯ'!BE22<>\"\",'ШАБЛОН для ЗАПОЛНЕНИЯ'!BE22,\"\")","v":""},{"$f":"IF('ШАБЛОН для ЗАПОЛНЕНИЯ'!BF22<>\"\",'ШАБЛОН для ЗАПОЛНЕНИЯ'!BF22,\"\")","v":""},{"$f":"IF('ШАБЛОН для ЗАПОЛНЕНИЯ'!BG22<>\"\",'ШАБЛОН для ЗАПОЛНЕНИЯ'!BG22,\"\")","v":""},{"$f":"IF('ШАБЛОН для ЗАПОЛНЕНИЯ'!BH22<>\"\",'ШАБЛОН для ЗАПОЛНЕНИЯ'!BH22,\"\")","v":""},{"$f":"IF('ШАБЛОН для ЗАПОЛНЕНИЯ'!BI22<>\"\",'ШАБЛОН для ЗАПОЛНЕНИЯ'!BI22,\"\")","v":""},{"$f":"IF('ШАБЛОН для ЗАПОЛНЕНИЯ'!BJ22<>\"\",'ШАБЛОН для ЗАПОЛНЕНИЯ'!BJ22,\"\")","v":""},{"$f":"IF('ШАБЛОН для ЗАПОЛНЕНИЯ'!BK22<>\"\",'ШАБЛОН для ЗАПОЛНЕНИЯ'!BK22,\"\")","v":""},{"$f":"IF('ШАБЛОН для ЗАПОЛНЕНИЯ'!BL22<>\"\",'ШАБЛОН для ЗАПОЛНЕНИЯ'!BL22,\"\")","v":""},{"$f":"IF('ШАБЛОН для ЗАПОЛНЕНИЯ'!BM22<>\"\",'ШАБЛОН для ЗАПОЛНЕНИЯ'!BM22,\"\")","v":""},{"$f":"IF('ШАБЛОН для ЗАПОЛНЕНИЯ'!BN22<>\"\",'ШАБЛОН для ЗАПОЛНЕНИЯ'!BN22,\"\")","v":""},{"$f":"IF('ШАБЛОН для ЗАПОЛНЕНИЯ'!BO22<>\"\",'ШАБЛОН для ЗАПОЛНЕНИЯ'!BO22,\"\")","v":""},{"$f":"IF('ШАБЛОН для ЗАПОЛНЕНИЯ'!BP22<>\"\",'ШАБЛОН для ЗАПОЛНЕНИЯ'!BP22,\"\")","v":""},{"$f":"IF('ШАБЛОН для ЗАПОЛНЕНИЯ'!BQ22<>\"\",'ШАБЛОН для ЗАПОЛНЕНИЯ'!BQ22,\"\")","v":""},{"$f":"IF('ШАБЛОН для ЗАПОЛНЕНИЯ'!BR22<>\"\",'ШАБЛОН для ЗАПОЛНЕНИЯ'!BR22,\"\")","v":""},{"$f":"IF('ШАБЛОН для ЗАПОЛНЕНИЯ'!BS22<>\"\",'ШАБЛОН для ЗАПОЛНЕНИЯ'!BS22,\"\")","v":""},{"$f":"IF('ШАБЛОН для ЗАПОЛНЕНИЯ'!BT22<>\"\",'ШАБЛОН для ЗАПОЛНЕНИЯ'!BT22,\"\")","v":""},{"$f":"IF('ШАБЛОН для ЗАПОЛНЕНИЯ'!BU22<>\"\",'ШАБЛОН для ЗАПОЛНЕНИЯ'!BU22,\"\")","v":""},{"$f":"IF('ШАБЛОН для ЗАПОЛНЕНИЯ'!BV22<>\"\",'ШАБЛОН для ЗАПОЛНЕНИЯ'!BV22,\"\")","v":""},{"$f":"IF('ШАБЛОН для ЗАПОЛНЕНИЯ'!BW22<>\"\",'ШАБЛОН для ЗАПОЛНЕНИЯ'!BW22,\"\")","v":""},{"$f":"IF('ШАБЛОН для ЗАПОЛНЕНИЯ'!BX22<>\"\",'ШАБЛОН для ЗАПОЛНЕНИЯ'!BX22,\"\")","v":""},{"$f":"IF('ШАБЛОН для ЗАПОЛНЕНИЯ'!BY22<>\"\",'ШАБЛОН для ЗАПОЛНЕНИЯ'!BY22,\"\")","v":""},{"$f":"IF('ШАБЛОН для ЗАПОЛНЕНИЯ'!BZ22<>\"\",'ШАБЛОН для ЗАПОЛНЕНИЯ'!BZ22,\"\")","v":""},{"$f":"IF('ШАБЛОН для ЗАПОЛНЕНИЯ'!CA22<>\"\",'ШАБЛОН для ЗАПОЛНЕНИЯ'!CA22,\"\")","v":""},{"$f":"IF('ШАБЛОН для ЗАПОЛНЕНИЯ'!CB22<>\"\",'ШАБЛОН для ЗАПОЛНЕНИЯ'!CB22,\"\")","v":""},{"$f":"IF('ШАБЛОН для ЗАПОЛНЕНИЯ'!CC22<>\"\",'ШАБЛОН для ЗАПОЛНЕНИЯ'!CC22,\"\")","v":""},{"$f":"IF('ШАБЛОН для ЗАПОЛНЕНИЯ'!CD22<>\"\",'ШАБЛОН для ЗАПОЛНЕНИЯ'!CD22,\"\")","v":""},{"$f":"IF('ШАБЛОН для ЗАПОЛНЕНИЯ'!CE22<>\"\",'ШАБЛОН для ЗАПОЛНЕНИЯ'!CE22,\"\")","v":""},{"$f":"IF('ШАБЛОН для ЗАПОЛНЕНИЯ'!CF22<>\"\",'ШАБЛОН для ЗАПОЛНЕНИЯ'!CF22,\"\")","v":""},{"$f":"IF('ШАБЛОН для ЗАПОЛНЕНИЯ'!CG22<>\"\",'ШАБЛОН для ЗАПОЛНЕНИЯ'!CG22,\"\")","v":""},{"$f":"IF('ШАБЛОН для ЗАПОЛНЕНИЯ'!CH22<>\"\",'ШАБЛОН для ЗАПОЛНЕНИЯ'!CH22,\"\")","v":""},{"$f":"IF('ШАБЛОН для ЗАПОЛНЕНИЯ'!CI22<>\"\",'ШАБЛОН для ЗАПОЛНЕНИЯ'!CI22,\"\")","v":""},{"$f":"IF('ШАБЛОН для ЗАПОЛНЕНИЯ'!CJ22<>\"\",'ШАБЛОН для ЗАПОЛНЕНИЯ'!CJ22,\"\")","v":""},{"$f":"IF('ШАБЛОН для ЗАПОЛНЕНИЯ'!CK22<>\"\",'ШАБЛОН для ЗАПОЛНЕНИЯ'!CK22,\"\")","v":""},{"$f":"IF('ШАБЛОН для ЗАПОЛНЕНИЯ'!CL22<>\"\",'ШАБЛОН для ЗАПОЛНЕНИЯ'!CL22,\"\")","v":""},{"$f":"IF('ШАБЛОН для ЗАПОЛНЕНИЯ'!CM22<>\"\",'ШАБЛОН для ЗАПОЛНЕНИЯ'!CM22,\"\")","v":""},{"$f":"IF('ШАБЛОН для ЗАПОЛНЕНИЯ'!CN22<>\"\",'ШАБЛОН для ЗАПОЛНЕНИЯ'!CN22,\"\")","v":""},{"$f":"IF('ШАБЛОН для ЗАПОЛНЕНИЯ'!CO22<>\"\",'ШАБЛОН для ЗАПОЛНЕНИЯ'!CO22,\"\")","v":""},{"$f":"IF('ШАБЛОН для ЗАПОЛНЕНИЯ'!CP22<>\"\",'ШАБЛОН для ЗАПОЛНЕНИЯ'!CP22,\"\")","v":""},{"$f":"IF('ШАБЛОН для ЗАПОЛНЕНИЯ'!CQ22<>\"\",'ШАБЛОН для ЗАПОЛНЕНИЯ'!CQ22,\"\")","v":""},{"$f":"IF('ШАБЛОН для ЗАПОЛНЕНИЯ'!CR22<>\"\",'ШАБЛОН для ЗАПОЛНЕНИЯ'!CR22,\"\")","v":""},{"$f":"IF('ШАБЛОН для ЗАПОЛНЕНИЯ'!CS22<>\"\",'ШАБЛОН для ЗАПОЛНЕНИЯ'!CS22,\"\")","v":""},{"$f":"IF('ШАБЛОН для ЗАПОЛНЕНИЯ'!CT22<>\"\",'ШАБЛОН для ЗАПОЛНЕНИЯ'!CT22,\"\")","v":""}]
[null,7,{"$f":"IF('ШАБЛОН для ЗАПОЛНЕНИЯ'!C23<>\"\",'ШАБЛОН для ЗАПОЛНЕНИЯ'!C23,\"\")","v":""},{"$f":"IF('ШАБЛОН для ЗАПОЛНЕНИЯ'!D23<>\"\",'ШАБЛОН для ЗАПОЛНЕНИЯ'!D23,\"\")","v":""},{"$f":"IF('ШАБЛОН для ЗАПОЛНЕНИЯ'!E23<>\"\",'ШАБЛОН для ЗАПОЛНЕНИЯ'!E23,\"\")","v":""},{"$f":"IF('ШАБЛОН для ЗАПОЛНЕНИЯ'!F23<>\"\",'ШАБЛОН для ЗАПОЛНЕНИЯ'!F23,\"\")","v":""},{"$f":"IF('ШАБЛОН для ЗАПОЛНЕНИЯ'!G23<>\"\",'ШАБЛОН для ЗАПОЛНЕНИЯ'!G23,\"\")","v":""},{"$f":"IF('ШАБЛОН для ЗАПОЛНЕНИЯ'!H23<>\"\",'ШАБЛОН для ЗАПОЛНЕНИЯ'!H23,\"\")","v":""},{"$f":"IF('ШАБЛОН для ЗАПОЛНЕНИЯ'!I23<>\"\",'ШАБЛОН для ЗАПОЛНЕНИЯ'!I23,\"\")","v":""},{"$f":"IF('ШАБЛОН для ЗАПОЛНЕНИЯ'!J23<>\"\",'ШАБЛОН для ЗАПОЛНЕНИЯ'!J23,\"\")","v":""},{"$f":"IF('ШАБЛОН для ЗАПОЛНЕНИЯ'!K23<>\"\",'ШАБЛОН для ЗАПОЛНЕНИЯ'!K23,\"\")","v":""},{"$f":"IF('ШАБЛОН для ЗАПОЛНЕНИЯ'!L23<>\"\",'ШАБЛОН для ЗАПОЛНЕНИЯ'!L23,\"\")","v":""},{"$f":"IF('ШАБЛОН для ЗАПОЛНЕНИЯ'!M23<>\"\",'ШАБЛОН для ЗАПОЛНЕНИЯ'!M23,\"\")","v":""},{"$f":"IF('ШАБЛОН для ЗАПОЛНЕНИЯ'!N23<>\"\",'ШАБЛОН для ЗАПОЛНЕНИЯ'!N23,\"\")","v":""},{"$f":"IF('ШАБЛОН для ЗАПОЛНЕНИЯ'!O23<>\"\",'ШАБЛОН для ЗАПОЛНЕНИЯ'!O23,\"\")","v":""},{"$f":"IF('ШАБЛОН для ЗАПОЛНЕНИЯ'!P23<>\"\",'ШАБЛОН для ЗАПОЛНЕНИЯ'!P23,\"\")","v":""},{"$f":"IF('ШАБЛОН для ЗАПОЛНЕНИЯ'!Q23<>\"\",'ШАБЛОН для ЗАПОЛНЕНИЯ'!Q23,\"\")","v":""},{"$f":"IF('ШАБЛОН для ЗАПОЛНЕНИЯ'!R23<>\"\",'ШАБЛОН для ЗАПОЛНЕНИЯ'!R23,\"\")","v":""},{"$f":"IF('ШАБЛОН для ЗАПОЛНЕНИЯ'!S23<>\"\",'ШАБЛОН для ЗАПОЛНЕНИЯ'!S23,\"\")","v":""},{"$f":"IF('ШАБЛОН для ЗАПОЛНЕНИЯ'!T23<>\"\",'ШАБЛОН для ЗАПОЛНЕНИЯ'!T23,\"\")","v":""},{"$f":"IF('ШАБЛОН для ЗАПОЛНЕНИЯ'!U23<>\"\",'ШАБЛОН для ЗАПОЛНЕНИЯ'!U23,\"\")","v":""},{"$f":"IF('ШАБЛОН для ЗАПОЛНЕНИЯ'!V23<>\"\",'ШАБЛОН для ЗАПОЛНЕНИЯ'!V23,\"\")","v":""},{"$f":"IF('ШАБЛОН для ЗАПОЛНЕНИЯ'!W23<>\"\",'ШАБЛОН для ЗАПОЛНЕНИЯ'!W23,\"\")","v":""},{"$f":"IF('ШАБЛОН для ЗАПОЛНЕНИЯ'!X23<>\"\",'ШАБЛОН для ЗАПОЛНЕНИЯ'!X23,\"\")","v":""},{"$f":"IF('ШАБЛОН для ЗАПОЛНЕНИЯ'!Y23<>\"\",'ШАБЛОН для ЗАПОЛНЕНИЯ'!Y23,\"\")","v":""},{"$f":"IF('ШАБЛОН для ЗАПОЛНЕНИЯ'!Z23<>\"\",'ШАБЛОН для ЗАПОЛНЕНИЯ'!Z23,\"\")","v":""},{"$f":"IF('ШАБЛОН для ЗАПОЛНЕНИЯ'!AA23<>\"\",'ШАБЛОН для ЗАПОЛНЕНИЯ'!AA23,\"\")","v":""},{"$f":"IF('ШАБЛОН для ЗАПОЛНЕНИЯ'!AB23<>\"\",'ШАБЛОН для ЗАПОЛНЕНИЯ'!AB23,\"\")","v":""},{"$f":"IF('ШАБЛОН для ЗАПОЛНЕНИЯ'!AC23<>\"\",'ШАБЛОН для ЗАПОЛНЕНИЯ'!AC23,\"\")","v":""},{"$f":"IF('ШАБЛОН для ЗАПОЛНЕНИЯ'!AD23<>\"\",'ШАБЛОН для ЗАПОЛНЕНИЯ'!AD23,\"\")","v":""},{"$f":"IF('ШАБЛОН для ЗАПОЛНЕНИЯ'!AE23<>\"\",'ШАБЛОН для ЗАПОЛНЕНИЯ'!AE23,\"\")","v":""},{"$f":"IF('ШАБЛОН для ЗАПОЛНЕНИЯ'!AF23<>\"\",'ШАБЛОН для ЗАПОЛНЕНИЯ'!AF23,\"\")","v":""},{"$f":"IF('ШАБЛОН для ЗАПОЛНЕНИЯ'!AG23<>\"\",'ШАБЛОН для ЗАПОЛНЕНИЯ'!AG23,\"\")","v":""},{"$f":"IF('ШАБЛОН для ЗАПОЛНЕНИЯ'!AH23<>\"\",'ШАБЛОН для ЗАПОЛНЕНИЯ'!AH23,\"\")","v":""},{"$f":"IF('ШАБЛОН для ЗАПОЛНЕНИЯ'!AI23<>\"\",'ШАБЛОН для ЗАПОЛНЕНИЯ'!AI23,\"\")","v":""},{"$f":"IF('ШАБЛОН для ЗАПОЛНЕНИЯ'!AJ23<>\"\",'ШАБЛОН для ЗАПОЛНЕНИЯ'!AJ23,\"\")","v":""},{"$f":"IF('ШАБЛОН для ЗАПОЛНЕНИЯ'!AK23<>\"\",'ШАБЛОН для ЗАПОЛНЕНИЯ'!AK23,\"\")","v":""},{"$f":"IF('ШАБЛОН для ЗАПОЛНЕНИЯ'!AL23<>\"\",'ШАБЛОН для ЗАПОЛНЕНИЯ'!AL23,\"\")","v":""},{"$f":"IF('ШАБЛОН для ЗАПОЛНЕНИЯ'!AM23<>\"\",'ШАБЛОН для ЗАПОЛНЕНИЯ'!AM23,\"\")","v":""},{"$f":"IF('ШАБЛОН для ЗАПОЛНЕНИЯ'!AN23<>\"\",'ШАБЛОН для ЗАПОЛНЕНИЯ'!AN23,\"\")","v":""},{"$f":"IF('ШАБЛОН для ЗАПОЛНЕНИЯ'!AO23<>\"\",'ШАБЛОН для ЗАПОЛНЕНИЯ'!AO23,\"\")","v":""},{"$f":"IF('ШАБЛОН для ЗАПОЛНЕНИЯ'!AP23<>\"\",'ШАБЛОН для ЗАПОЛНЕНИЯ'!AP23,\"\")","v":""},{"$f":"IF('ШАБЛОН для ЗАПОЛНЕНИЯ'!AQ23<>\"\",'ШАБЛОН для ЗАПОЛНЕНИЯ'!AQ23,\"\")","v":""},{"$f":"IF('ШАБЛОН для ЗАПОЛНЕНИЯ'!AR23<>\"\",'ШАБЛОН для ЗАПОЛНЕНИЯ'!AR23,\"\")","v":""},{"$f":"IF('ШАБЛОН для ЗАПОЛНЕНИЯ'!AS23<>\"\",'ШАБЛОН для ЗАПОЛНЕНИЯ'!AS23,\"\")","v":""},{"$f":"IF('ШАБЛОН для ЗАПОЛНЕНИЯ'!AT23<>\"\",'ШАБЛОН для ЗАПОЛНЕНИЯ'!AT23,\"\")","v":""},{"$f":"IF('ШАБЛОН для ЗАПОЛНЕНИЯ'!AU23<>\"\",'ШАБЛОН для ЗАПОЛНЕНИЯ'!AU23,\"\")","v":""},{"$f":"IF('ШАБЛОН для ЗАПОЛНЕНИЯ'!AV23<>\"\",'ШАБЛОН для ЗАПОЛНЕНИЯ'!AV23,\"\")","v":""},{"$f":"IF('ШАБЛОН для ЗАПОЛНЕНИЯ'!AW23<>\"\",'ШАБЛОН для ЗАПОЛНЕНИЯ'!AW23,\"\")","v":""},{"$f":"IF('ШАБЛОН для ЗАПОЛНЕНИЯ'!AX23<>\"\",'ШАБЛОН для ЗАПОЛНЕНИЯ'!AX23,\"\")","v":""},{"$f":"IF('ШАБЛОН для ЗАПОЛНЕНИЯ'!AY23<>\"\",'ШАБЛОН для ЗАПОЛНЕНИЯ'!AY23,\"\")","v":""},{"$f":"IF('ШАБЛОН для ЗАПОЛНЕНИЯ'!AZ23<>\"\",'ШАБЛОН для ЗАПОЛНЕНИЯ'!AZ23,\"\")","v":""},{"$f":"IF('ШАБЛОН для ЗАПОЛНЕНИЯ'!BA23<>\"\",'ШАБЛОН для ЗАПОЛНЕНИЯ'!BA23,\"\")","v":""},{"$f":"IF('ШАБЛОН для ЗАПОЛНЕНИЯ'!BB23<>\"\",'ШАБЛОН для ЗАПОЛНЕНИЯ'!BB23,\"\")","v":""},{"$f":"IF('ШАБЛОН для ЗАПОЛНЕНИЯ'!BC23<>\"\",'ШАБЛОН для ЗАПОЛНЕНИЯ'!BC23,\"\")","v":""},{"$f":"IF('ШАБЛОН для ЗАПОЛНЕНИЯ'!BD23<>\"\",'ШАБЛОН для ЗАПОЛНЕНИЯ'!BD23,\"\")","v":""},{"$f":"IF('ШАБЛОН для ЗАПОЛНЕНИЯ'!BE23<>\"\",'ШАБЛОН для ЗАПОЛНЕНИЯ'!BE23,\"\")","v":""},{"$f":"IF('ШАБЛОН для ЗАПОЛНЕНИЯ'!BF23<>\"\",'ШАБЛОН для ЗАПОЛНЕНИЯ'!BF23,\"\")","v":""},{"$f":"IF('ШАБЛОН для ЗАПОЛНЕНИЯ'!BG23<>\"\",'ШАБЛОН для ЗАПОЛНЕНИЯ'!BG23,\"\")","v":""},{"$f":"IF('ШАБЛОН для ЗАПОЛНЕНИЯ'!BH23<>\"\",'ШАБЛОН для ЗАПОЛНЕНИЯ'!BH23,\"\")","v":""},{"$f":"IF('ШАБЛОН для ЗАПОЛНЕНИЯ'!BI23<>\"\",'ШАБЛОН для ЗАПОЛНЕНИЯ'!BI23,\"\")","v":""},{"$f":"IF('ШАБЛОН для ЗАПОЛНЕНИЯ'!BJ23<>\"\",'ШАБЛОН для ЗАПОЛНЕНИЯ'!BJ23,\"\")","v":""},{"$f":"IF('ШАБЛОН для ЗАПОЛНЕНИЯ'!BK23<>\"\",'ШАБЛОН для ЗАПОЛНЕНИЯ'!BK23,\"\")","v":""},{"$f":"IF('ШАБЛОН для ЗАПОЛНЕНИЯ'!BL23<>\"\",'ШАБЛОН для ЗАПОЛНЕНИЯ'!BL23,\"\")","v":""},{"$f":"IF('ШАБЛОН для ЗАПОЛНЕНИЯ'!BM23<>\"\",'ШАБЛОН для ЗАПОЛНЕНИЯ'!BM23,\"\")","v":""},{"$f":"IF('ШАБЛОН для ЗАПОЛНЕНИЯ'!BN23<>\"\",'ШАБЛОН для ЗАПОЛНЕНИЯ'!BN23,\"\")","v":""},{"$f":"IF('ШАБЛОН для ЗАПОЛНЕНИЯ'!BO23<>\"\",'ШАБЛОН для ЗАПОЛНЕНИЯ'!BO23,\"\")","v":""},{"$f":"IF('ШАБЛОН для ЗАПОЛНЕНИЯ'!BP23<>\"\",'ШАБЛОН для ЗАПОЛНЕНИЯ'!BP23,\"\")","v":""},{"$f":"IF('ШАБЛОН для ЗАПОЛНЕНИЯ'!BQ23<>\"\",'ШАБЛОН для ЗАПОЛНЕНИЯ'!BQ23,\"\")","v":""},{"$f":"IF('ШАБЛОН для ЗАПОЛНЕНИЯ'!BR23<>\"\",'ШАБЛОН для ЗАПОЛНЕНИЯ'!BR23,\"\")","v":""},{"$f":"IF('ШАБЛОН для ЗАПОЛНЕНИЯ'!BS23<>\"\",'ШАБЛОН для ЗАПОЛНЕНИЯ'!BS23,\"\")","v":""},{"$f":"IF('ШАБЛОН для ЗАПОЛНЕНИЯ'!BT23<>\"\",'ШАБЛОН для ЗАПОЛНЕНИЯ'!BT23,\"\")","v":""},{"$f":"IF('ШАБЛОН для ЗАПОЛНЕНИЯ'!BU23<>\"\",'ШАБЛОН для ЗАПОЛНЕНИЯ'!BU23,\"\")","v":""},{"$f":"IF('ШАБЛОН для ЗАПОЛНЕНИЯ'!BV23<>\"\",'ШАБЛОН для ЗАПОЛНЕНИЯ'!BV23,\"\")","v":""},{"$f":"IF('ШАБЛОН для ЗАПОЛНЕНИЯ'!BW23<>\"\",'ШАБЛОН для ЗАПОЛНЕНИЯ'!BW23,\"\")","v":""},{"$f":"IF('ШАБЛОН для ЗАПОЛНЕНИЯ'!BX23<>\"\",'ШАБЛОН для ЗАПОЛНЕНИЯ'!BX23,\"\")","v":""},{"$f":"IF('ШАБЛОН для ЗАПОЛНЕНИЯ'!BY23<>\"\",'ШАБЛОН для ЗАПОЛНЕНИЯ'!BY23,\"\")","v":""},{"$f":"IF('ШАБЛОН для ЗАПОЛНЕНИЯ'!BZ23<>\"\",'ШАБЛОН для ЗАПОЛНЕНИЯ'!BZ23,\"\")","v":""},{"$f":"IF('ШАБЛОН для ЗАПОЛНЕНИЯ'!CA23<>\"\",'ШАБЛОН для ЗАПОЛНЕНИЯ'!CA23,\"\")","v":""},{"$f":"IF('ШАБЛОН для ЗАПОЛНЕНИЯ'!CB23<>\"\",'ШАБЛОН для ЗАПОЛНЕНИЯ'!CB23,\"\")","v":""},{"$f":"IF('ШАБЛОН для ЗАПОЛНЕНИЯ'!CC23<>\"\",'ШАБЛОН для ЗАПОЛНЕНИЯ'!CC23,\"\")","v":""},{"$f":"IF('ШАБЛОН для ЗАПОЛНЕНИЯ'!CD23<>\"\",'ШАБЛОН для ЗАПОЛНЕНИЯ'!CD23,\"\")","v":""},{"$f":"IF('ШАБЛОН для ЗАПОЛНЕНИЯ'!CE23<>\"\",'ШАБЛОН для ЗАПОЛНЕНИЯ'!CE23,\"\")","v":""},{"$f":"IF('ШАБЛОН для ЗАПОЛНЕНИЯ'!CF23<>\"\",'ШАБЛОН для ЗАПОЛНЕНИЯ'!CF23,\"\")","v":""},{"$f":"IF('ШАБЛОН для ЗАПОЛНЕНИЯ'!CG23<>\"\",'ШАБЛОН для ЗАПОЛНЕНИЯ'!CG23,\"\")","v":""},{"$f":"IF('ШАБЛОН для ЗАПОЛНЕНИЯ'!CH23<>\"\",'ШАБЛОН для ЗАПОЛНЕНИЯ'!CH23,\"\")","v":""},{"$f":"IF('ШАБЛОН для ЗАПОЛНЕНИЯ'!CI23<>\"\",'ШАБЛОН для ЗАПОЛНЕНИЯ'!CI23,\"\")","v":""},{"$f":"IF('ШАБЛОН для ЗАПОЛНЕНИЯ'!CJ23<>\"\",'ШАБЛОН для ЗАПОЛНЕНИЯ'!CJ23,\"\")","v":""},{"$f":"IF('ШАБЛОН для ЗАПОЛНЕНИЯ'!CK23<>\"\",'ШАБЛОН для ЗАПОЛНЕНИЯ'!CK23,\"\")","v":""},{"$f":"IF('ШАБЛОН для ЗАПОЛНЕНИЯ'!CL23<>\"\",'ШАБЛОН для ЗАПОЛНЕНИЯ'!CL23,\"\")","v":""},{"$f":"IF('ШАБЛОН для ЗАПОЛНЕНИЯ'!CM23<>\"\",'ШАБЛОН для ЗАПОЛНЕНИЯ'!CM23,\"\")","v":""},{"$f":"IF('ШАБЛОН для ЗАПОЛНЕНИЯ'!CN23<>\"\",'ШАБЛОН для ЗАПОЛНЕНИЯ'!CN23,\"\")","v":""},{"$f":"IF('ШАБЛОН для ЗАПОЛНЕНИЯ'!CO23<>\"\",'ШАБЛОН для ЗАПОЛНЕНИЯ'!CO23,\"\")","v":""},{"$f":"IF('ШАБЛОН для ЗАПОЛНЕНИЯ'!CP23<>\"\",'ШАБЛОН для ЗАПОЛНЕНИЯ'!CP23,\"\")","v":""},{"$f":"IF('ШАБЛОН для ЗАПОЛНЕНИЯ'!CQ23<>\"\",'ШАБЛОН для ЗАПОЛНЕНИЯ'!CQ23,\"\")","v":""},{"$f":"IF('ШАБЛОН для ЗАПОЛНЕНИЯ'!CR23<>\"\",'ШАБЛОН для ЗАПОЛНЕНИЯ'!CR23,\"\")","v":""},{"$f":"IF('ШАБЛОН для ЗАПОЛНЕНИЯ'!CS23<>\"\",'ШАБЛОН для ЗАПОЛНЕНИЯ'!CS23,\"\")","v":""},{"$f":"IF('ШАБЛОН для ЗАПОЛНЕНИЯ'!CT23<>\"\",'ШАБЛОН для ЗАПОЛНЕНИЯ'!CT23,\"\")","v":""}]
["СРЕДА",1,{"$f":"IF('ШАБЛОН для ЗАПОЛНЕНИЯ'!C24<>\"\",'ШАБЛОН для ЗАПОЛНЕНИЯ'!C24,\"\")","v":"Лит.чтение"},{"$f":"IF('ШАБЛОН для ЗАПОЛНЕНИЯ'!D24<>\"\",'ШАБЛОН для ЗАПОЛНЕНИЯ'!D24,\"\")","v":""},{"$f":"IF('ШАБЛОН для ЗАПОЛНЕНИЯ'!E24<>\"\",'ШАБЛОН для ЗАПОЛНЕНИЯ'!E24,\"\")","v":""},{"$f":"IF('ШАБЛОН для ЗАПОЛНЕНИЯ'!F24<>\"\",'ШАБЛОН для ЗАПОЛНЕНИЯ'!F24,\"\")","v":""},{"$f":"IF('ШАБЛОН для ЗАПОЛНЕНИЯ'!G24<>\"\",'ШАБЛОН для ЗАПОЛНЕНИЯ'!G24,\"\")","v":"Физкультура"},null,{"$f":"IF('ШАБЛОН для ЗАПОЛНЕНИЯ'!I24<>\"\",'ШАБЛОН для ЗАПОЛНЕНИЯ'!I24,\"\")","v":""},{"$f":"IF('ШАБЛОН для ЗАПОЛНЕНИЯ'!J24<>\"\",'ШАБЛОН для ЗАПОЛНЕНИЯ'!J24,\"\")","v":""},{"$f":"IF('ШАБЛОН для ЗАПОЛНЕНИЯ'!K24<>\"\",'ШАБЛОН для ЗАПОЛНЕНИЯ'!K24,\"\")","v":"Лит.чтение"},{"$f":"IF('ШАБЛОН для ЗАПОЛНЕНИЯ'!L24<>\"\",'ШАБЛОН для ЗАПОЛНЕНИЯ'!L24,\"\")","v":""},{"$f":"IF('ШАБЛОН для ЗАПОЛНЕНИЯ'!M24<>\"\",'ШАБЛОН для ЗАПОЛНЕНИЯ'!M24,\"\")","v":""},{"$f":"IF('ШАБЛОН для ЗАПОЛНЕНИЯ'!N24<>\"\",'ШАБЛОН для ЗАПОЛНЕНИЯ'!N24,\"\")","v":""},{"$f":"IF('ШАБЛОН для ЗАПОЛНЕНИЯ'!O24<>\"\",'ШАБЛОН для ЗАПОЛНЕНИЯ'!O24,\"\")","v":"Физкультура"},{"$f":"IF('ШАБЛОН для ЗАПОЛНЕНИЯ'!P24<>\"\",'ШАБЛОН для ЗАПОЛНЕНИЯ'!P24,\"\")","v":""},{"$f":"IF('ШАБЛОН для ЗАПОЛНЕНИЯ'!Q24<>\"\",'ШАБЛОН для ЗАПОЛНЕНИЯ'!Q24,\"\")","v":""},{"$f":"IF('ШАБЛОН для ЗАПОЛНЕНИЯ'!R24<>\"\",'ШАБЛОН для ЗАПОЛНЕНИЯ'!R24,\"\")","v":""},{"$f":"IF('ШАБЛОН для ЗАПОЛНЕНИЯ'!S24<>\"\",'ШАБЛОН для ЗАПОЛНЕНИЯ'!S24,\"\")","v":"Родной язык"},{"$f":"IF('ШАБЛОН для ЗАПОЛНЕНИЯ'!T24<>\"\",'ШАБЛОН для ЗАПОЛНЕНИЯ'!T24,\"\")","v":""},{"$f":"IF('ШАБЛОН для ЗАПОЛНЕНИЯ'!U24<>\"\",'ШАБЛОН для ЗАПОЛНЕНИЯ'!U24,\"\")","v":""},{"$f":"IF('ШАБЛОН для ЗАПОЛНЕНИЯ'!V24<>\"\",'ШАБЛОН для ЗАПОЛНЕНИЯ'!V24,\"\")","v":""},{"$f":"IF('ШАБЛОН для ЗАПОЛНЕНИЯ'!W24<>\"\",'ШАБЛОН для ЗАПОЛНЕНИЯ'!W24,\"\")","v":"Англ.язык"},{"$f":"IF('ШАБЛОН для ЗАПОЛНЕНИЯ'!X24<>\"\",'ШАБЛОН для ЗАПОЛНЕНИЯ'!X24,\"\")","v":""},{"$f":"IF('ШАБЛОН для ЗАПОЛНЕНИЯ'!Y24<>\"\",'ШАБЛОН для ЗАПОЛНЕНИЯ'!Y24,\"\")","v":""},{"$f":"IF('ШАБЛОН для ЗАПОЛНЕНИЯ'!Z24<>\"\",'ШАБЛОН для ЗАПОЛНЕНИЯ'!Z24,\"\")","v":""},{"$f":"IF('ШАБЛОН для ЗАПОЛНЕНИЯ'!AA24<>\"\",'ШАБЛОН для ЗАПОЛНЕНИЯ'!AA24,\"\")","v":"История"},{"$f":"IF('ШАБЛОН для ЗАПОЛНЕНИЯ'!AB24<>\"\",'ШАБЛОН для ЗАПОЛНЕНИЯ'!AB24,\"\")","v":""},{"$f":"IF('ШАБЛОН для ЗАПОЛНЕНИЯ'!AC24<>\"\",'ШАБЛОН для ЗАПОЛНЕНИЯ'!AC24,\"\")","v":""},{"$f":"IF('ШАБЛОН для ЗАПОЛНЕНИЯ'!AD24<>\"\",'ШАБЛОН для ЗАПОЛНЕНИЯ'!AD24,\"\")","v":""},{"$f":"IF('ШАБЛОН для ЗАПОЛНЕНИЯ'!AE24<>\"\",'ШАБЛОН для ЗАПОЛНЕНИЯ'!AE24,\"\")","v":"Алгебра"},{"$f":"IF('ШАБЛОН для ЗАПОЛНЕНИЯ'!AF24<>\"\",'ШАБЛОН для ЗАПОЛНЕНИЯ'!AF24,\"\")","v":""},{"$f":"IF('ШАБЛОН для ЗАПОЛНЕНИЯ'!AG24<>\"\",'ШАБЛОН для ЗАПОЛНЕНИЯ'!AG24,\"\")","v":""},{"$f":"IF('ШАБЛОН для ЗАПОЛНЕНИЯ'!AH24<>\"\",'ШАБЛОН для ЗАПОЛНЕНИЯ'!AH24,\"\")","v":""},{"$f":"IF('ШАБЛОН для ЗАПОЛНЕНИЯ'!AI24<>\"\",'ШАБЛОН для ЗАПОЛНЕНИЯ'!AI24,\"\")","v":"Литература"},{"$f":"IF('ШАБЛОН для ЗАПОЛНЕНИЯ'!AJ24<>\"\",'ШАБЛОН для ЗАПОЛНЕНИЯ'!AJ24,\"\")","v":""},{"$f":"IF('ШАБЛОН для ЗАПОЛНЕНИЯ'!AK24<>\"\",'ШАБЛОН для ЗАПОЛНЕНИЯ'!AK24,\"\")","v":""},{"$f":"IF('ШАБЛОН для ЗАПОЛНЕНИЯ'!AL24<>\"\",'ШАБЛОН для ЗАПОЛНЕНИЯ'!AL24,\"\")","v":""},{"$f":"IF('ШАБЛОН для ЗАПОЛНЕНИЯ'!AM24<>\"\",'ШАБЛОН для ЗАПОЛНЕНИЯ'!AM24,\"\")","v":""},{"$f":"IF('ШАБЛОН для ЗАПОЛНЕНИЯ'!AN24<>\"\",'ШАБЛОН для ЗАПОЛНЕНИЯ'!AN24,\"\")","v":"---"},{"$f":"IF('ШАБЛОН для ЗАПОЛНЕНИЯ'!AO24<>\"\",'ШАБЛОН для ЗАПОЛНЕНИЯ'!AO24,\"\")","v":""},{"$f":"IF('ШАБЛОН для ЗАПОЛНЕНИЯ'!AP24<>\"\",'ШАБЛОН для ЗАПОЛНЕНИЯ'!AP24,\"\")","v":""},{"$f":"IF('ШАБЛОН для ЗАПОЛНЕНИЯ'!AQ24<>\"\",'ШАБЛОН для ЗАПОЛНЕНИЯ'!AQ24,\"\")","v":""},{"$f":"IF('ШАБЛОН для ЗАПОЛНЕНИЯ'!AR24<>\"\",'ШАБЛОН для ЗАПОЛНЕНИЯ'!AR24,\"\")","v":"---"},{"$f":"IF('ШАБЛОН для ЗАПОЛНЕНИЯ'!AS24<>\"\",'ШАБЛОН для ЗАПОЛНЕНИЯ'!AS24,\"\")","v":""},{"$f":"IF('ШАБЛОН для ЗАПОЛНЕНИЯ'!AT24<>\"\",'ШАБЛОН для ЗАПОЛНЕНИЯ'!AT24,\"\")","v":""},{"$f":"IF('ШАБЛОН для ЗАПОЛНЕНИЯ'!AU24<>\"\",'ШАБЛОН для ЗАПОЛНЕНИЯ'!AU24,\"\")","v":""},{"$f":"IF('ШАБЛОН для ЗАПОЛНЕНИЯ'!AV24<>\"\",'ШАБЛОН для ЗАПОЛНЕНИЯ'!AV24,\"\")","v":"---"},{"$f":"IF('ШАБЛОН для ЗАПОЛНЕНИЯ'!AW24<>\"\",'ШАБЛОН для ЗАПОЛНЕНИЯ'!AW24,\"\")","v":""},{"$f":"IF('ШАБЛОН для ЗАПОЛНЕНИЯ'!AX24<>\"\",'ШАБЛОН для ЗАПОЛНЕНИЯ'!AX24,\"\")","v":""},{"$f":"IF('ШАБЛОН для ЗАПОЛНЕНИЯ'!AY24<>\"\",'ШАБЛОН для ЗАПОЛНЕНИЯ'!AY24,\"\")","v":""},{"$f":"IF('ШАБЛОН для ЗАПОЛНЕНИЯ'!AZ24<>\"\",'ШАБЛОН для ЗАПОЛНЕНИЯ'!AZ24,\"\")","v":"---"},{"$f":"IF('ШАБЛОН для ЗАПОЛНЕНИЯ'!BA24<>\"\",'ШАБЛОН для ЗАПОЛНЕНИЯ'!BA24,\"\")","v":""},{"$f":"IF('ШАБЛОН для ЗАПОЛНЕНИЯ'!BB24<>\"\",'ШАБЛОН для ЗАПОЛНЕНИЯ'!BB24,\"\")","v":""},{"$f":"IF('ШАБЛОН для ЗАПОЛНЕНИЯ'!BC24<>\"\",'ШАБЛОН для ЗАПОЛНЕНИЯ'!BC24,\"\")","v":""},{"$f":"IF('ШАБЛОН для ЗАПОЛНЕНИЯ'!BD24<>\"\",'ШАБЛОН для ЗАПОЛНЕНИЯ'!BD24,\"\")","v":"---"},{"$f":"IF('ШАБЛОН для ЗАПОЛНЕНИЯ'!BE24<>\"\",'ШАБЛОН для ЗАПОЛНЕНИЯ'!BE24,\"\")","v":""},{"$f":"IF('ШАБЛОН для ЗАПОЛНЕНИЯ'!BF24<>\"\",'ШАБЛОН для ЗАПОЛНЕНИЯ'!BF24,\"\")","v":""},{"$f":"IF('ШАБЛОН для ЗАПОЛНЕНИЯ'!BG24<>\"\",'ШАБЛОН для ЗАПОЛНЕНИЯ'!BG24,\"\")","v":""},{"$f":"IF('ШАБЛОН для ЗАПОЛНЕНИЯ'!BH24<>\"\",'ШАБЛОН для ЗАПОЛНЕНИЯ'!BH24,\"\")","v":"---"},{"$f":"IF('ШАБЛОН для ЗАПОЛНЕНИЯ'!BI24<>\"\",'ШАБЛОН для ЗАПОЛНЕНИЯ'!BI24,\"\")","v":""},{"$f":"IF('ШАБЛОН для ЗАПОЛНЕНИЯ'!BJ24<>\"\",'ШАБЛОН для ЗАПОЛНЕНИЯ'!BJ24,\"\")","v":""},{"$f":"IF('ШАБЛОН для ЗАПОЛНЕНИЯ'!BK24<>\"\",'ШАБЛОН для ЗАПОЛНЕНИЯ'!BK24,\"\")","v":""},{"$f":"IF('ШАБЛОН для ЗАПОЛНЕНИЯ'!BL24<>\"\",'ШАБЛОН для ЗАПОЛНЕНИЯ'!BL24,\"\")","v":"---"},{"$f":"IF('ШАБЛОН для ЗАПОЛНЕНИЯ'!BM24<>\"\",'ШАБЛОН для ЗАПОЛНЕНИЯ'!BM24,\"\")","v":""},{"$f":"IF('ШАБЛОН для ЗАПОЛНЕНИЯ'!BN24<>\"\",'ШАБЛОН для ЗАПОЛНЕНИЯ'!BN24,\"\")","v":""},{"$f":"IF('ШАБЛОН для ЗАПОЛНЕНИЯ'!BO24<>\"\",'ШАБЛОН для ЗАПОЛНЕНИЯ'!BO24,\"\")","v":""},{"$f":"IF('ШАБЛОН для ЗАПОЛНЕНИЯ'!BP24<>\"\",'ШАБЛОН для ЗАПОЛНЕНИЯ'!BP24,\"\")","v":"---"},{"$f":"IF('ШАБЛОН для ЗАПОЛНЕНИЯ'!BQ24<>\"\",'ШАБЛОН для ЗАПОЛНЕНИЯ'!BQ24,\"\")","v":""},{"$f":"IF('ШАБЛОН для ЗАПОЛНЕНИЯ'!BR24<>\"\",'ШАБЛОН для ЗАПОЛНЕНИЯ'!BR24,\"\")","v":""},{"$f":"IF('ШАБЛОН для ЗАПОЛНЕНИЯ'!BS24<>\"\",'ШАБЛОН для ЗАПОЛНЕНИЯ'!BS24,\"\")","v":""},{"$f":"IF('ШАБЛОН для ЗАПОЛНЕНИЯ'!BT24<>\"\",'ШАБЛОН для ЗАПОЛНЕНИЯ'!BT24,\"\")","v":"---"},{"$f":"IF('ШАБЛОН для ЗАПОЛНЕНИЯ'!BU24<>\"\",'ШАБЛОН для ЗАПОЛНЕНИЯ'!BU24,\"\")","v":""},{"$f":"IF('ШАБЛОН для ЗАПОЛНЕНИЯ'!BV24<>\"\",'ШАБЛОН для ЗАПОЛНЕНИЯ'!BV24,\"\")","v":""},{"$f":"IF('ШАБЛОН для ЗАПОЛНЕНИЯ'!BW24<>\"\",'ШАБЛОН для ЗАПОЛНЕНИЯ'!BW24,\"\")","v":""},{"$f":"IF('ШАБЛОН для ЗАПОЛНЕНИЯ'!BX24<>\"\",'ШАБЛОН для ЗАПОЛНЕНИЯ'!BX24,\"\")","v":"---"},{"$f":"IF('ШАБЛОН для ЗАПОЛНЕНИЯ'!BY24<>\"\",'ШАБЛОН для ЗАПОЛНЕНИЯ'!BY24,\"\")","v":""},{"$f":"IF('ШАБЛОН для ЗАПОЛНЕНИЯ'!BZ24<>\"\",'ШАБЛОН для ЗАПОЛНЕНИЯ'!BZ24,\"\")","v":""},{"$f":"IF('ШАБЛОН для ЗАПОЛНЕНИЯ'!CA24<>\"\",'ШАБЛОН для ЗАПОЛНЕНИЯ'!CA24,\"\")","v":""},{"$f":"IF('ШАБЛОН для ЗАПОЛНЕНИЯ'!CB24<>\"\",'ШАБЛОН для ЗАПОЛНЕНИЯ'!CB24,\"\")","v":"---"},{"$f":"IF('ШАБЛОН для ЗАПОЛНЕНИЯ'!CC24<>\"\",'ШАБЛОН для ЗАПОЛНЕНИЯ'!CC24,\"\")","v":""},{"$f":"IF('ШАБЛОН для ЗАПОЛНЕНИЯ'!CD24<>\"\",'ШАБЛОН для ЗАПОЛНЕНИЯ'!CD24,\"\")","v":""},{"$f":"IF('ШАБЛОН для ЗАПОЛНЕНИЯ'!CE24<>\"\",'ШАБЛОН для ЗАПОЛНЕНИЯ'!CE24,\"\")","v":""},{"$f":"IF('ШАБЛОН для ЗАПОЛНЕНИЯ'!CF24<>\"\",'ШАБЛОН для ЗАПОЛНЕНИЯ'!CF24,\"\")","v":"---"},{"$f":"IF('ШАБЛОН для ЗАПОЛНЕНИЯ'!CG24<>\"\",'ШАБЛОН для ЗАПОЛНЕНИЯ'!CG24,\"\")","v":""},{"$f":"IF('ШАБЛОН для ЗАПОЛНЕНИЯ'!CH24<>\"\",'ШАБЛОН для ЗАПОЛНЕНИЯ'!CH24,\"\")","v":""},{"$f":"IF('ШАБЛОН для ЗАПОЛНЕНИЯ'!CI24<>\"\",'ШАБЛОН для ЗАПОЛНЕНИЯ'!CI24,\"\")","v":""},{"$f":"IF('ШАБЛОН для ЗАПОЛНЕНИЯ'!CJ24<>\"\",'ШАБЛОН для ЗАПОЛНЕНИЯ'!CJ24,\"\")","v":"---"},{"$f":"IF('ШАБЛОН для ЗАПОЛНЕНИЯ'!CK24<>\"\",'ШАБЛОН для ЗАПОЛНЕНИЯ'!CK24,\"\")","v":""},{"$f":"IF('ШАБЛОН для ЗАПОЛНЕНИЯ'!CL24<>\"\",'ШАБЛОН для ЗАПОЛНЕНИЯ'!CL24,\"\")","v":""},{"$f":"IF('ШАБЛОН для ЗАПОЛНЕНИЯ'!CM24<>\"\",'ШАБЛОН для ЗАПОЛНЕНИЯ'!CM24,\"\")","v":""},{"$f":"IF('ШАБЛОН для ЗАПОЛНЕНИЯ'!CN24<>\"\",'ШАБЛОН для ЗАПОЛНЕНИЯ'!CN24,\"\")","v":"---"},{"$f":"IF('ШАБЛОН для ЗАПОЛНЕНИЯ'!CO24<>\"\",'ШАБЛОН для ЗАПОЛНЕНИЯ'!CO24,\"\")","v":""},{"$f":"IF('ШАБЛОН для ЗАПОЛНЕНИЯ'!CP24<>\"\",'ШАБЛОН для ЗАПОЛНЕНИЯ'!CP24,\"\")","v":""},{"$f":"IF('ШАБЛОН для ЗАПОЛНЕНИЯ'!CQ24<>\"\",'ШАБЛОН для ЗАПОЛНЕНИЯ'!CQ24,\"\")","v":""},{"$f":"IF('ШАБЛОН для ЗАПОЛНЕНИЯ'!CR24<>\"\",'ШАБЛОН для ЗАПОЛНЕНИЯ'!CR24,\"\")","v":"---"},{"$f":"IF('ШАБЛОН для ЗАПОЛНЕНИЯ'!CS24<>\"\",'ШАБЛОН для ЗАПОЛНЕНИЯ'!CS24,\"\")","v":""},{"$f":"IF('ШАБЛОН для ЗАПОЛНЕНИЯ'!CT24<>\"\",'ШАБЛОН для ЗАПОЛНЕНИЯ'!CT24,\"\")","v":""}]
[null,2,{"$f":"IF('ШАБЛОН для ЗАПОЛНЕНИЯ'!C25<>\"\",'ШАБЛОН для ЗАПОЛНЕНИЯ'!C25,\"\")","v":"Математика"},{"$f":"IF('ШАБЛОН для ЗАПОЛНЕНИЯ'!D25<>\"\",'ШАБЛОН для ЗАПОЛНЕНИЯ'!D25,\"\")","v":""},{"$f":"IF('ШАБЛОН для ЗАПОЛНЕНИЯ'!E25<>\"\",'ШАБЛОН для ЗАПОЛНЕНИЯ'!E25,\"\")","v":""},{"$f":"IF('ШАБЛОН для ЗАПОЛНЕНИЯ'!F25<>\"\",'ШАБЛОН для ЗАПОЛНЕНИЯ'!F25,\"\")","v":""},{"$f":"IF('ШАБЛОН для ЗАПОЛНЕНИЯ'!G25<>\"\",'ШАБЛОН для ЗАПОЛНЕНИЯ'!G25,\"\")","v":"Рус.язык"},{"$f":"IF('ШАБЛОН для ЗАПОЛНЕНИЯ'!H25<>\"\",'ШАБЛОН для ЗАПОЛНЕНИЯ'!H25,\"\")","v":""},{"$f":"IF('ШАБЛОН для ЗАПОЛНЕНИЯ'!I25<>\"\",'ШАБЛОН для ЗАПОЛНЕНИЯ'!I25,\"\")","v":""},{"$f":"IF('ШАБЛОН для ЗАПОЛНЕНИЯ'!J25<>\"\",'ШАБЛОН для ЗАПОЛНЕНИЯ'!J25,\"\")","v":""},{"$f":"IF('ШАБЛОН для ЗАПОЛНЕНИЯ'!K25<>\"\",'ШАБЛОН для ЗАПОЛНЕНИЯ'!K25,\"\")","v":"Математика"},{"$f":"IF('ШАБЛОН для ЗАПОЛНЕНИЯ'!L25<>\"\",'ШАБЛОН для ЗАПОЛНЕНИЯ'!L25,\"\")","v":""},{"$f":"IF('ШАБЛОН для ЗАПОЛНЕНИЯ'!M25<>\"\",'ШАБЛОН для ЗАПОЛНЕНИЯ'!M25,\"\")","v":""},{"$f":"IF('ШАБЛОН для ЗАПОЛНЕНИЯ'!N25<>\"\",'ШАБЛОН для ЗАПОЛНЕНИЯ'!N25,\"\")","v":""},{"$f":"IF('ШАБЛОН для ЗАПОЛНЕНИЯ'!O25<>\"\",'ШАБЛОН для ЗАПОЛНЕНИЯ'!O25,\"\")","v":"Рус.язык"},{"$f":"IF('ШАБЛОН для ЗАПОЛНЕНИЯ'!P25<>\"\",'ШАБЛОН для ЗАПОЛНЕНИЯ'!P25,\"\")","v":""},{"$f":"IF('ШАБЛОН для ЗАПОЛНЕНИЯ'!Q25<>\"\",'ШАБЛОН для ЗАПОЛНЕНИЯ'!Q25,\"\")","v":""},{"$f":"IF('ШАБЛОН для ЗАПОЛНЕНИЯ'!R25<>\"\",'ШАБЛОН для ЗАПОЛНЕНИЯ'!R25,\"\")","v":""},{"$f":"IF('ШАБЛОН для ЗАПОЛНЕНИЯ'!S25<>\"\",'ШАБЛОН для ЗАПОЛНЕНИЯ'!S25,\"\")","v":"Математика"},{"$f":"IF('ШАБЛОН для ЗАПОЛНЕНИЯ'!T25<>\"\",'ШАБЛОН для ЗАПОЛНЕНИЯ'!T25,\"\")","v":""},{"$f":"IF('ШАБЛОН для ЗАПОЛНЕНИЯ'!U25<>\"\",'ШАБЛОН для ЗАПОЛНЕНИЯ'!U25,\"\")","v":""},{"$f":"IF('ШАБЛОН для ЗАПОЛНЕНИЯ'!V25<>\"\",'ШАБЛОН для ЗАПОЛНЕНИЯ'!V25,\"\")","v":""},{"$f":"IF('ШАБЛОН для ЗАПОЛНЕНИЯ'!W25<>\"\",'ШАБЛОН для ЗАПОЛНЕНИЯ'!W25,\"\")","v":"Рус.язык"},{"$f":"IF('ШАБЛОН для ЗАПОЛНЕНИЯ'!X25<>\"\",'ШАБЛОН для ЗАПОЛНЕНИЯ'!X25,\"\")","v":""},{"$f":"IF('ШАБЛОН для ЗАПОЛНЕНИЯ'!Y25<>\"\",'ШАБЛОН для ЗАПОЛНЕНИЯ'!Y25,\"\")","v":""},{"$f":"IF('ШАБЛОН для ЗАПОЛНЕНИЯ'!Z25<>\"\",'ШАБЛОН для ЗАПОЛНЕНИЯ'!Z25,\"\")","v":""},{"$f":"IF('ШАБЛОН для ЗАПОЛНЕНИЯ'!AA25<>\"\",'ШАБЛОН для ЗАПОЛНЕНИЯ'!AA25,\"\")","v":"География"},{"$f":"IF('ШАБЛОН для ЗАПОЛНЕНИЯ'!AB25<>\"\",'ШАБЛОН для ЗАПОЛНЕНИЯ'!AB25,\"\")","v":""},{"$f":"IF('ШАБЛОН для ЗАПОЛНЕНИЯ'!AC25<>\"\",'ШАБЛОН для ЗАПОЛНЕНИЯ'!AC25,\"\")","v":""},{"$f":"IF('ШАБЛОН для ЗАПОЛНЕНИЯ'!AD25<>\"\",'ШАБЛОН для ЗАПОЛНЕНИЯ'!AD25,\"\")","v":""},{"$f":"IF('ШАБЛОН для ЗАПОЛНЕНИЯ'!AE25<>\"\",'ШАБЛОН для ЗАПОЛНЕНИЯ'!AE25,\"\")","v":"Родной язык"},{"$f":"IF('ШАБЛОН для ЗАПОЛНЕНИЯ'!AF25<>\"\",'ШАБЛОН для ЗАПОЛНЕНИЯ'!AF25,\"\")","v":""},{"$f":"IF('ШАБЛОН для ЗАПОЛНЕНИЯ'!AG25<>\"\",'ШАБЛОН для ЗАПОЛНЕНИЯ'!AG25,\"\")","v":""},{"$f":"IF('ШАБЛОН для ЗАПОЛНЕНИЯ'!AH25<>\"\",'ШАБЛОН для ЗАПОЛНЕНИЯ'!AH25,\"\")","v":""},{"$f":"IF('ШАБЛОН для ЗАПОЛНЕНИЯ'!AI25<>\"\",'ШАБЛОН для ЗАПОЛНЕНИЯ'!AI25,\"\")","v":"Англ.язык"},{"$f":"IF('ШАБЛОН для ЗАПОЛНЕНИЯ'!AJ25<>\"\",'ШАБЛОН для ЗАПОЛНЕНИЯ'!AJ25,\"\")","v":""},{"$f":"IF('ШАБЛОН для ЗАПОЛНЕНИЯ'!AK25<>\"\",'ШАБЛОН для ЗАПОЛНЕНИЯ'!AK25,\"\")","v":""},{"$f":"IF('ШАБЛОН для ЗАПОЛНЕНИЯ'!AL25<>\"\",'ШАБЛОН для ЗАПОЛНЕНИЯ'!AL25,\"\")","v":""},{"$f":"IF('ШАБЛОН для ЗАПОЛНЕНИЯ'!AM25<>\"\",'ШАБЛОН для ЗАПОЛНЕНИЯ'!AM25,\"\")","v":""},{"$f":"IF('ШАБЛОН для ЗАПОЛНЕНИЯ'!AN25<>\"\",'ШАБЛОН для ЗАПОЛНЕНИЯ'!AN25,\"\")","v":""},{"$f":"IF('ШАБЛОН для ЗАПОЛНЕНИЯ'!AO25<>\"\",'ШАБЛОН для ЗАПОЛНЕНИЯ'!AO25,\"\")","v":""},{"$f":"IF('ШАБЛОН для ЗАПОЛНЕНИЯ'!AP25<>\"\",'ШАБЛОН для ЗАПОЛНЕНИЯ'!AP25,\"\")","v":""},{"$f":"IF('ШАБЛОН для ЗАПОЛНЕНИЯ'!AQ25<>\"\",'ШАБЛОН для ЗАПОЛНЕНИЯ'!AQ25,\"\")","v":""},{"$f":"IF('ШАБЛОН для ЗАПОЛНЕНИЯ'!AR25<>\"\",'ШАБЛОН для ЗАПОЛНЕНИЯ'!AR25,\"\")","v":""},{"$f":"IF('ШАБЛОН для ЗАПОЛНЕНИЯ'!AS25<>\"\",'ШАБЛОН для ЗАПОЛНЕНИЯ'!AS25,\"\")","v":""},{"$f":"IF('ШАБЛОН для ЗАПОЛНЕНИЯ'!AT25<>\"\",'ШАБЛОН для ЗАПОЛНЕНИЯ'!AT25,\"\")","v":""},{"$f":"IF('ШАБЛОН для ЗАПОЛНЕНИЯ'!AU25<>\"\",'ШАБЛОН для ЗАПОЛНЕНИЯ'!AU25,\"\")","v":""},{"$f":"IF('ШАБЛОН для ЗАПОЛНЕНИЯ'!AV25<>\"\",'ШАБЛОН для ЗАПОЛНЕНИЯ'!AV25,\"\")","v":""},{"$f":"IF('ШАБЛОН для ЗАПОЛНЕНИЯ'!AW25<>\"\",'ШАБЛОН для ЗАПОЛНЕНИЯ'!AW25,\"\")","v":""},{"$f":"IF('ШАБЛОН для ЗАПОЛНЕНИЯ'!AX25<>\"\",'ШАБЛОН для ЗАПОЛНЕНИЯ'!AX25,\"\")","v":""},{"$f":"IF('ШАБЛОН для ЗАПОЛНЕНИЯ'!AY25<>\"\",'ШАБЛОН для ЗАПОЛНЕНИЯ'!AY25,\"\")","v":""},{"$f":"IF('ШАБЛОН для ЗАПОЛНЕНИЯ'!AZ25<>\"\",'ШАБЛОН для ЗАПОЛНЕНИЯ'!AZ25,\"\")","v":""},{"$f":"IF('ШАБЛОН для ЗАПОЛНЕНИЯ'!BA25<>\"\",'ШАБЛОН для ЗАПОЛНЕНИЯ'!BA25,\"\")","v":""},{"$f":"IF('ШАБЛОН для ЗАПОЛНЕНИЯ'!BB25<>\"\",'ШАБЛОН для ЗАПОЛНЕНИЯ'!BB25,\"\")","v":""},{"$f":"IF('ШАБЛОН для ЗАПОЛНЕНИЯ'!BC25<>\"\",'ШАБЛОН для ЗАПОЛНЕНИЯ'!BC25,\"\")","v":""},{"$f":"IF('ШАБЛОН для ЗАПОЛНЕНИЯ'!BD25<>\"\",'ШАБЛОН для ЗАПОЛНЕНИЯ'!BD25,\"\")","v":""},{"$f":"IF('ШАБЛОН для ЗАПОЛНЕНИЯ'!BE25<>\"\",'ШАБЛОН для ЗАПОЛНЕНИЯ'!BE25,\"\")","v":""},{"$f":"IF('ШАБЛОН для ЗАПОЛНЕНИЯ'!BF25<>\"\",'ШАБЛОН для ЗАПОЛНЕНИЯ'!BF25,\"\")","v":""},{"$f":"IF('ШАБЛОН для ЗАПОЛНЕНИЯ'!BG25<>\"\",'ШАБЛОН для ЗАПОЛНЕНИЯ'!BG25,\"\")","v":""},{"$f":"IF('ШАБЛОН для ЗАПОЛНЕНИЯ'!BH25<>\"\",'ШАБЛОН для ЗАПОЛНЕНИЯ'!BH25,\"\")","v":""},{"$f":"IF('ШАБЛОН для ЗАПОЛНЕНИЯ'!BI25<>\"\",'ШАБЛОН для ЗАПОЛНЕНИЯ'!BI25,\"\")","v":""},{"$f":"IF('ШАБЛОН для ЗАПОЛНЕНИЯ'!BJ25<>\"\",'ШАБЛОН для ЗАПОЛНЕНИЯ'!BJ25,\"\")","v":""},{"$f":"IF('ШАБЛОН для ЗАПОЛНЕНИЯ'!BK25<>\"\",'ШАБЛОН для ЗАПОЛНЕНИЯ'!BK25,\"\")","v":""},{"$f":"IF('ШАБЛОН для ЗАПОЛНЕНИЯ'!BL25<>\"\",'ШАБЛОН для ЗАПОЛНЕНИЯ'!BL25,\"\")","v":""},{"$f":"IF('ШАБЛОН для ЗАПОЛНЕНИЯ'!BM25<>\"\",'ШАБЛОН для ЗАПОЛНЕНИЯ'!BM25,\"\")","v":""},{"$f":"IF('ШАБЛОН для ЗАПОЛНЕНИЯ'!BN25<>\"\",'ШАБЛОН для ЗАПОЛНЕНИЯ'!BN25,\"\")","v":""},{"$f":"IF('ШАБЛОН для ЗАПОЛНЕНИЯ'!BO25<>\"\",'ШАБЛОН для ЗАПОЛНЕНИЯ'!BO25,\"\")","v":""},{"$f":"IF('ШАБЛОН для ЗАПОЛНЕНИЯ'!BP25<>\"\",'ШАБЛОН для ЗАПОЛНЕНИЯ'!BP25,\"\")","v":""},{"$f":"IF('ШАБЛОН для ЗАПОЛНЕНИЯ'!BQ25<>\"\",'ШАБЛОН для ЗАПОЛНЕНИЯ'!BQ25,\"\")","v":""},{"$f":"IF('ШАБЛОН для ЗАПОЛНЕНИЯ'!BR25<>\"\",'ШАБЛОН для ЗАПОЛНЕНИЯ'!BR25,\"\")","v":""},{"$f":"IF('ШАБЛОН для ЗАПОЛНЕНИЯ'!BS25<>\"\",'ШАБЛОН для ЗАПОЛНЕНИЯ'!BS25,\"\")","v":""},{"$f":"IF('ШАБЛОН для ЗАПОЛНЕНИЯ'!BT25<>\"\",'ШАБЛОН для ЗАПОЛНЕНИЯ'!BT25,\"\")","v":""},{"$f":"IF('ШАБЛОН для ЗАПОЛНЕНИЯ'!BU25<>\"\",'ШАБЛОН для ЗАПОЛНЕНИЯ'!BU25,\"\")","v":""},{"$f":"IF('ШАБЛОН для ЗАПОЛНЕНИЯ'!BV25<>\"\",'ШАБЛОН для ЗАПОЛНЕНИЯ'!BV25,\"\")","v":""},{"$f":"IF('ШАБЛОН для ЗАПОЛНЕНИЯ'!BW25<>\"\",'ШАБЛОН для ЗАПОЛНЕНИЯ'!BW25,\"\")","v":""},{"$f":"IF('ШАБЛОН для ЗАПОЛНЕНИЯ'!BX25<>\"\",'ШАБЛОН для ЗАПОЛНЕНИЯ'!BX25,\"\")","v":""},{"$f":"IF('ШАБЛОН для ЗАПОЛНЕНИЯ'!BY25<>\"\",'ШАБЛОН для ЗАПОЛНЕНИЯ'!BY25,\"\")","v":""},{"$f":"IF('ШАБЛОН для ЗАПОЛНЕНИЯ'!BZ25<>\"\",'ШАБЛОН для ЗАПОЛНЕНИЯ'!BZ25,\"\")","v":""},{"$f":"IF('ШАБЛОН для ЗАПОЛНЕНИЯ'!CA25<>\"\",'ШАБЛОН для ЗАПОЛНЕНИЯ'!CA25,\"\")","v":""},{"$f":"IF('ШАБЛОН для ЗАПОЛНЕНИЯ'!CB25<>\"\",'ШАБЛОН для ЗАПОЛНЕНИЯ'!CB25,\"\")","v":""},{"$f":"IF('ШАБЛОН для ЗАПОЛНЕНИЯ'!CC25<>\"\",'ШАБЛОН для ЗАПОЛНЕНИЯ'!CC25,\"\")","v":""},{"$f":"IF('ШАБЛОН для ЗАПОЛНЕНИЯ'!CD25<>\"\",'ШАБЛОН для ЗАПОЛНЕНИЯ'!CD25,\"\")","v":""},{"$f":"IF('ШАБЛОН для ЗАПОЛНЕНИЯ'!CE25<>\"\",'ШАБЛОН для ЗАПОЛНЕНИЯ'!CE25,\"\")","v":""},{"$f":"IF('ШАБЛОН для ЗАПОЛНЕНИЯ'!CF25<>\"\",'ШАБЛОН для ЗАПОЛНЕНИЯ'!CF25,\"\")","v":""},{"$f":"IF('ШАБЛОН для ЗАПОЛНЕНИЯ'!CG25<>\"\",'ШАБЛОН для ЗАПОЛНЕНИЯ'!CG25,\"\")","v":""},{"$f":"IF('ШАБЛОН для ЗАПОЛНЕНИЯ'!CH25<>\"\",'ШАБЛОН для ЗАПОЛНЕНИЯ'!CH25,\"\")","v":""},{"$f":"IF('ШАБЛОН для ЗАПОЛНЕНИЯ'!CI25<>\"\",'ШАБЛОН для ЗАПОЛНЕНИЯ'!CI25,\"\")","v":""},{"$f":"IF('ШАБЛОН для ЗАПОЛНЕНИЯ'!CJ25<>\"\",'ШАБЛОН для ЗАПОЛНЕНИЯ'!CJ25,\"\")","v":""},{"$f":"IF('ШАБЛОН для ЗАПОЛНЕНИЯ'!CK25<>\"\",'ШАБЛОН для ЗАПОЛНЕНИЯ'!CK25,\"\")","v":""},{"$f":"IF('ШАБЛОН для ЗАПОЛНЕНИЯ'!CL25<>\"\",'ШАБЛОН для ЗАПОЛНЕНИЯ'!CL25,\"\")","v":""},{"$f":"IF('ШАБЛОН для ЗАПОЛНЕНИЯ'!CM25<>\"\",'ШАБЛОН для ЗАПОЛНЕНИЯ'!CM25,\"\")","v":""},{"$f":"IF('ШАБЛОН для ЗАПОЛНЕНИЯ'!CN25<>\"\",'ШАБЛОН для ЗАПОЛНЕНИЯ'!CN25,\"\")","v":""},{"$f":"IF('ШАБЛОН для ЗАПОЛНЕНИЯ'!CO25<>\"\",'ШАБЛОН для ЗАПОЛНЕНИЯ'!CO25,\"\")","v":""},{"$f":"IF('ШАБЛОН для ЗАПОЛНЕНИЯ'!CP25<>\"\",'ШАБЛОН для ЗАПОЛНЕНИЯ'!CP25,\"\")","v":""},{"$f":"IF('ШАБЛОН для ЗАПОЛНЕНИЯ'!CQ25<>\"\",'ШАБЛОН для ЗАПОЛНЕНИЯ'!CQ25,\"\")","v":""},{"$f":"IF('ШАБЛОН для ЗАПОЛНЕНИЯ'!CR25<>\"\",'ШАБЛОН для ЗАПОЛНЕНИЯ'!CR25,\"\")","v":""},{"$f":"IF('ШАБЛОН для ЗАПОЛНЕНИЯ'!CS25<>\"\",'ШАБЛОН для ЗАПОЛНЕНИЯ'!CS25,\"\")","v":""},{"$f":"IF('ШАБЛОН для ЗАПОЛНЕНИЯ'!CT25<>\"\",'ШАБЛОН для ЗАПОЛНЕНИЯ'!CT25,\"\")","v":""}]
[null,3,{"$f":"IF('ШАБЛОН для ЗАПОЛНЕНИЯ'!C26<>\"\",'ШАБЛОН для ЗАПОЛНЕНИЯ'!C26,\"\")","v":"Рус.язык"},{"$f":"IF('ШАБЛОН для ЗАПОЛНЕНИЯ'!D26<>\"\",'ШАБЛОН для ЗАПОЛНЕНИЯ'!D26,\"\")","v":""},{"$f":"IF('ШАБЛОН для ЗАПОЛНЕНИЯ'!E26<>\"\",'ШАБЛОН для ЗАПОЛНЕНИЯ'!E26,\"\")","v":""},{"$f":"IF('ШАБЛОН для ЗАПОЛНЕНИЯ'!F26<>\"\",'ШАБЛОН для ЗАПОЛНЕНИЯ'!F26,\"\")","v":""},{"$f":"IF('ШАБЛОН для ЗАПОЛНЕНИЯ'!G26<>\"\",'ШАБЛОН для ЗАПОЛНЕНИЯ'!G26,\"\")","v":"Математика"},{"$f":"IF('ШАБЛОН для ЗАПОЛНЕНИЯ'!H26<>\"\",'ШАБЛОН для ЗАПОЛНЕНИЯ'!H26,\"\")","v":""},{"$f":"IF('ШАБЛОН для ЗАПОЛНЕНИЯ'!I26<>\"\",'ШАБЛОН для ЗАПОЛНЕНИЯ'!I26,\"\")","v":""},{"$f":"IF('ШАБЛОН для ЗАПОЛНЕНИЯ'!J26<>\"\",'ШАБЛОН для ЗАПОЛНЕНИЯ'!J26,\"\")","v":""},{"$f":"IF('ШАБЛОН для ЗАПОЛНЕНИЯ'!K26<>\"\",'ШАБЛОН для ЗАПОЛНЕНИЯ'!K26,\"\")","v":"Рус.язык"},{"$f":"IF('ШАБЛОН для ЗАПОЛНЕНИЯ'!L26<>\"\",'ШАБЛОН для ЗАПОЛНЕНИЯ'!L26,\"\")","v":""},{"$f":"IF('ШАБЛОН для ЗАПОЛНЕНИЯ'!M26<>\"\",'ШАБЛОН для ЗАПОЛНЕНИЯ'!M26,\"\")","v":""},{"$f":"IF('ШАБЛОН для ЗАПОЛНЕНИЯ'!N26<>\"\",'ШАБЛОН для ЗАПОЛНЕНИЯ'!N26,\"\")","v":""},{"$f":"IF('ШАБЛОН для ЗАПОЛНЕНИЯ'!O26<>\"\",'ШАБЛОН для ЗАПОЛНЕНИЯ'!O26,\"\")","v":"Математика"},{"$f":"IF('ШАБЛОН для ЗАПОЛНЕНИЯ'!P26<>\"\",'ШАБЛОН для ЗАПОЛНЕНИЯ'!P26,\"\")","v":""},{"$f":"IF('ШАБЛОН для ЗАПОЛНЕНИЯ'!Q26<>\"\",'ШАБЛОН для ЗАПОЛНЕНИЯ'!Q26,\"\")","v":""},{"$f":"IF('ШАБЛОН для ЗАПОЛНЕНИЯ'!R26<>\"\",'ШАБЛОН для ЗАПОЛНЕНИЯ'!R26,\"\")","v":""},{"$f":"IF('ШАБЛОН для ЗАПОЛНЕНИЯ'!S26<>\"\",'ШАБЛОН для ЗАПОЛНЕНИЯ'!S26,\"\")","v":"Рус.язык"},{"$f":"IF('ШАБЛОН для ЗАПОЛНЕНИЯ'!T26<>\"\",'ШАБЛОН для ЗАПОЛНЕНИЯ'!T26,\"\")","v":""},{"$f":"IF('ШАБЛОН для ЗАПОЛНЕНИЯ'!U26<>\"\",'ШАБЛОН для ЗАПОЛНЕНИЯ'!U26,\"\")","v":""},{"$f":"IF('ШАБЛОН для ЗАПОЛНЕНИЯ'!V26<>\"\",'ШАБЛОН для ЗАПОЛНЕНИЯ'!V26,\"\")","v":""},{"$f":"IF('ШАБЛОН для ЗАПОЛНЕНИЯ'!W26<>\"\",'ШАБЛОН для ЗАПОЛНЕНИЯ'!W26,\"\")","v":"Математика"},{"$f":"IF('ШАБЛОН для ЗАПОЛНЕНИЯ'!X26<>\"\",'ШАБЛОН для ЗАПОЛНЕНИЯ'!X26,\"\")","v":""},{"$f":"IF('ШАБЛОН для ЗАПОЛНЕНИЯ'!Y26<>\"\",'ШАБЛОН для ЗАПОЛНЕНИЯ'!Y26,\"\")","v":""},{"$f":"IF('ШАБЛОН для ЗАПОЛНЕНИЯ'!Z26<>\"\",'ШАБЛОН для ЗАПОЛНЕНИЯ'!Z26,\"\")","v":""},{"$f":"IF('ШАБЛОН для ЗАПОЛНЕНИЯ'!AA26<>\"\",'ШАБЛОН для ЗАПОЛНЕНИЯ'!AA26,\"\")","v":"Технология"},{"$f":"IF('ШАБЛОН для ЗАПОЛНЕНИЯ'!AB26<>\"\",'ШАБЛОН для ЗАПОЛНЕНИЯ'!AB26,\"\")","v":""},{"$f":"IF('ШАБЛОН для ЗАПОЛНЕНИЯ'!AC26<>\"\",'ШАБЛОН для ЗАПОЛНЕНИЯ'!AC26,\"\")","v":""},{"$f":"IF('ШАБЛОН для ЗАПОЛНЕНИЯ'!AD26<>\"\",'ШАБЛОН для ЗАПОЛНЕНИЯ'!AD26,\"\")","v":""},{"$f":"IF('ШАБЛОН для ЗАПОЛНЕНИЯ'!AE26<>\"\",'ШАБЛОН для ЗАПОЛНЕНИЯ'!AE26,\"\")","v":"Обществознание"},{"$f":"IF('ШАБЛОН для ЗАПОЛНЕНИЯ'!AF26<>\"\",'ШАБЛОН для ЗАПОЛНЕНИЯ'!AF26,\"\")","v":""},{"$f":"IF('ШАБЛОН для ЗАПОЛНЕНИЯ'!AG26<>\"\",'ШАБЛОН для ЗАПОЛНЕНИЯ'!AG26,\"\")","v":""},{"$f":"IF('ШАБЛОН для ЗАПОЛНЕНИЯ'!AH26<>\"\",'ШАБЛОН для ЗАПОЛНЕНИЯ'!AH26,\"\")","v":""},{"$f":"IF('ШАБЛОН для ЗАПОЛНЕНИЯ'!AI26<>\"\",'ШАБЛОН для ЗАПОЛНЕНИЯ'!AI26,\"\")","v":"Химия"},{"$f":"IF('ШАБЛОН для ЗАПОЛНЕНИЯ'!AJ26<>\"\",'ШАБЛОН для ЗАПОЛНЕНИЯ'!AJ26,\"\")","v":""},{"$f":"IF('ШАБЛОН для ЗАПОЛНЕНИЯ'!AK26<>\"\",'ШАБЛОН для ЗАПОЛНЕНИЯ'!AK26,\"\")","v":""},{"$f":"IF('ШАБЛОН для ЗАПОЛНЕНИЯ'!AL26<>\"\",'ШАБЛОН для ЗАПОЛНЕНИЯ'!AL26,\"\")","v":""},{"$f":"IF('ШАБЛОН для ЗАПОЛНЕНИЯ'!AM26<>\"\",'ШАБЛОН для ЗАПОЛНЕНИЯ'!AM26,\"\")","v":""},{"$f":"IF('ШАБЛОН для ЗАПОЛНЕНИЯ'!AN26<>\"\",'ШАБЛОН для ЗАПОЛНЕНИЯ'!AN26,\"\")","v":""},{"$f":"IF('ШАБЛОН для ЗАПОЛНЕНИЯ'!AO26<>\"\",'ШАБЛОН для ЗАПОЛНЕНИЯ'!AO26,\"\")","v":""},{"$f":"IF('ШАБЛОН для ЗАПОЛНЕНИЯ'!AP26<>\"\",'ШАБЛОН для ЗАПОЛНЕНИЯ'!AP26,\"\")","v":""},{"$f":"IF('ШАБЛОН для ЗАПОЛНЕНИЯ'!AQ26<>\"\",'ШАБЛОН для ЗАПОЛНЕНИЯ'!AQ26,\"\")","v":""},{"$f":"IF('ШАБЛОН для ЗАПОЛНЕНИЯ'!AR26<>\"\",'ШАБЛОН для ЗАПОЛНЕНИЯ'!AR26,\"\")","v":""},{"$f":"IF('ШАБЛОН для ЗАПОЛНЕНИЯ'!AS26<>\"\",'ШАБЛОН для ЗАПОЛНЕНИЯ'!AS26,\"\")","v":""},{"$f":"IF('ШАБЛОН для ЗАПОЛНЕНИЯ'!AT26<>\"\",'ШАБЛОН для ЗАПОЛНЕНИЯ'!AT26,\"\")","v":""},{"$f":"IF('ШАБЛОН для ЗАПОЛНЕНИЯ'!AU26<>\"\",'ШАБЛОН для ЗАПОЛНЕНИЯ'!AU26,\"\")","v":""},{"$f":"IF('ШАБЛОН для ЗАПОЛНЕНИЯ'!AV26<>\"\",'ШАБЛОН для ЗАПОЛНЕНИЯ'!AV26,\"\")","v":""},{"$f":"IF('ШАБЛОН для ЗАПОЛНЕНИЯ'!AW26<>\"\",'ШАБЛОН для ЗАПОЛНЕНИЯ'!AW26,\"\")","v":""},{"$f":"IF('ШАБЛОН для ЗАПОЛНЕНИЯ'!AX26<>\"\",'ШАБЛОН для ЗАПОЛНЕНИЯ'!AX26,\"\")","v":""},{"$f":"IF('ШАБЛОН для ЗАПОЛНЕНИЯ'!AY26<>\"\",'ШАБЛОН для ЗАПОЛНЕНИЯ'!AY26,\"\")","v":""},{"$f":"IF('ШАБЛОН для ЗАПОЛНЕНИЯ'!AZ26<>\"\",'ШАБЛОН для ЗАПОЛНЕНИЯ'!AZ26,\"\")","v":""},{"$f":"IF('ШАБЛОН для ЗАПОЛНЕНИЯ'!BA26<>\"\",'ШАБЛОН для ЗАПОЛНЕНИЯ'!BA26,\"\")","v":""},{"$f":"IF('ШАБЛОН для ЗАПОЛНЕНИЯ'!BB26<>\"\",'ШАБЛОН для ЗАПОЛНЕНИЯ'!BB26,\"\")","v":""},{"$f":"IF('ШАБЛОН для ЗАПОЛНЕНИЯ'!BC26<>\"\",'ШАБЛОН для ЗАПОЛНЕНИЯ'!BC26,\"\")","v":""},{"$f":"IF('ШАБЛОН для ЗАПОЛНЕНИЯ'!BD26<>\"\",'ШАБЛОН для ЗАПОЛНЕНИЯ'!BD26,\"\")","v":""},{"$f":"IF('ШАБЛОН для ЗАПОЛНЕНИЯ'!BE26<>\"\",'ШАБЛОН для ЗАПОЛНЕНИЯ'!BE26,\"\")","v":""},{"$f":"IF('ШАБЛОН для ЗАПОЛНЕНИЯ'!BF26<>\"\",'ШАБЛОН для ЗАПОЛНЕНИЯ'!BF26,\"\")","v":""},{"$f":"IF('ШАБЛОН для ЗАПОЛНЕНИЯ'!BG26<>\"\",'ШАБЛОН для ЗАПОЛНЕНИЯ'!BG26,\"\")","v":""},{"$f":"IF('ШАБЛОН для ЗАПОЛНЕНИЯ'!BH26<>\"\",'ШАБЛОН для ЗАПОЛНЕНИЯ'!BH26,\"\")","v":""},{"$f":"IF('ШАБЛОН для ЗАПОЛНЕНИЯ'!BI26<>\"\",'ШАБЛОН для ЗАПОЛНЕНИЯ'!BI26,\"\")","v":""},{"$f":"IF('ШАБЛОН для ЗАПОЛНЕНИЯ'!BJ26<>\"\",'ШАБЛОН для ЗАПОЛНЕНИЯ'!BJ26,\"\")","v":""},{"$f":"IF('ШАБЛОН для ЗАПОЛНЕНИЯ'!BK26<>\"\",'ШАБЛОН для ЗАПОЛНЕНИЯ'!BK26,\"\")","v":""},{"$f":"IF('ШАБЛОН для ЗАПОЛНЕНИЯ'!BL26<>\"\",'ШАБЛОН для ЗАПОЛНЕНИЯ'!BL26,\"\")","v":""},{"$f":"IF('ШАБЛОН для ЗАПОЛНЕНИЯ'!BM26<>\"\",'ШАБЛОН для ЗАПОЛНЕНИЯ'!BM26,\"\")","v":""},{"$f":"IF('ШАБЛОН для ЗАПОЛНЕНИЯ'!BN26<>\"\",'ШАБЛОН для ЗАПОЛНЕНИЯ'!BN26,\"\")","v":""},{"$f":"IF('ШАБЛОН для ЗАПОЛНЕНИЯ'!BO26<>\"\",'ШАБЛОН для ЗАПОЛНЕНИЯ'!BO26,\"\")","v":""},{"$f":"IF('ШАБЛОН для ЗАПОЛНЕНИЯ'!BP26<>\"\",'ШАБЛОН для ЗАПОЛНЕНИЯ'!BP26,\"\")","v":""},{"$f":"IF('ШАБЛОН для ЗАПОЛНЕНИЯ'!BQ26<>\"\",'ШАБЛОН для ЗАПОЛНЕНИЯ'!BQ26,\"\")","v":""},{"$f":"IF('ШАБЛОН для ЗАПОЛНЕНИЯ'!BR26<>\"\",'ШАБЛОН для ЗАПОЛНЕНИЯ'!BR26,\"\")","v":""},{"$f":"IF('ШАБЛОН для ЗАПОЛНЕНИЯ'!BS26<>\"\",'ШАБЛОН для ЗАПОЛНЕНИЯ'!BS26,\"\")","v":""},{"$f":"IF('ШАБЛОН для ЗАПОЛНЕНИЯ'!BT26<>\"\",'ШАБЛОН для ЗАПОЛНЕНИЯ'!BT26,\"\")","v":""},{"$f":"IF('ШАБЛОН для ЗАПОЛНЕНИЯ'!BU26<>\"\",'ШАБЛОН для ЗАПОЛНЕНИЯ'!BU26,\"\")","v":""},{"$f":"IF('ШАБЛОН для ЗАПОЛНЕНИЯ'!BV26<>\"\",'ШАБЛОН для ЗАПОЛНЕНИЯ'!BV26,\"\")","v":""},{"$f":"IF('ШАБЛОН для ЗАПОЛНЕНИЯ'!BW26<>\"\",'ШАБЛОН для ЗАПОЛНЕНИЯ'!BW26,\"\")","v":""},{"$f":"IF('ШАБЛОН для ЗАПОЛНЕНИЯ'!BX26<>\"\",'ШАБЛОН для ЗАПОЛНЕНИЯ'!BX26,\"\")","v":""},{"$f":"IF('ШАБЛОН для ЗАПОЛНЕНИЯ'!BY26<>\"\",'ШАБЛОН для ЗАПОЛНЕНИЯ'!BY26,\"\")","v":""},{"$f":"IF('ШАБЛОН для ЗАПОЛНЕНИЯ'!BZ26<>\"\",'ШАБЛОН для ЗАПОЛНЕНИЯ'!BZ26,\"\")","v":""},{"$f":"IF('ШАБЛОН для ЗАПОЛНЕНИЯ'!CA26<>\"\",'ШАБЛОН для ЗАПОЛНЕНИЯ'!CA26,\"\")","v":""},{"$f":"IF('ШАБЛОН для ЗАПОЛНЕНИЯ'!CB26<>\"\",'ШАБЛОН для ЗАПОЛНЕНИЯ'!CB26,\"\")","v":""},{"$f":"IF('ШАБЛОН для ЗАПОЛНЕНИЯ'!CC26<>\"\",'ШАБЛОН для ЗАПОЛНЕНИЯ'!CC26,\"\")","v":""},{"$f":"IF('ШАБЛОН для ЗАПОЛНЕНИЯ'!CD26<>\"\",'ШАБЛОН для ЗАПОЛНЕНИЯ'!CD26,\"\")","v":""},{"$f":"IF('ШАБЛОН для ЗАПОЛНЕНИЯ'!CE26<>\"\",'ШАБЛОН для ЗАПОЛНЕНИЯ'!CE26,\"\")","v":""},{"$f":"IF('ШАБЛОН для ЗАПОЛНЕНИЯ'!CF26<>\"\",'ШАБЛОН для ЗАПОЛНЕНИЯ'!CF26,\"\")","v":""},{"$f":"IF('ШАБЛОН для ЗАПОЛНЕНИЯ'!CG26<>\"\",'ШАБЛОН для ЗАПОЛНЕНИЯ'!CG26,\"\")","v":""},{"$f":"IF('ШАБЛОН для ЗАПОЛНЕНИЯ'!CH26<>\"\",'ШАБЛОН для ЗАПОЛНЕНИЯ'!CH26,\"\")","v":""},{"$f":"IF('ШАБЛОН для ЗАПОЛНЕНИЯ'!CI26<>\"\",'ШАБЛОН для ЗАПОЛНЕНИЯ'!CI26,\"\")","v":""},{"$f":"IF('ШАБЛОН для ЗАПОЛНЕНИЯ'!CJ26<>\"\",'ШАБЛОН для ЗАПОЛНЕНИЯ'!CJ26,\"\")","v":""},{"$f":"IF('ШАБЛОН для ЗАПОЛНЕНИЯ'!CK26<>\"\",'ШАБЛОН для ЗАПОЛНЕНИЯ'!CK26,\"\")","v":""},{"$f":"IF('ШАБЛОН для ЗАПОЛНЕНИЯ'!CL26<>\"\",'ШАБЛОН для ЗАПОЛНЕНИЯ'!CL26,\"\")","v":""},{"$f":"IF('ШАБЛОН для ЗАПОЛНЕНИЯ'!CM26<>\"\",'ШАБЛОН для ЗАПОЛНЕНИЯ'!CM26,\"\")","v":""},{"$f":"IF('ШАБЛОН для ЗАПОЛНЕНИЯ'!CN26<>\"\",'ШАБЛОН для ЗАПОЛНЕНИЯ'!CN26,\"\")","v":""},{"$f":"IF('ШАБЛОН для ЗАПОЛНЕНИЯ'!CO26<>\"\",'ШАБЛОН для ЗАПОЛНЕНИЯ'!CO26,\"\")","v":""},{"$f":"IF('ШАБЛОН для ЗАПОЛНЕНИЯ'!CP26<>\"\",'ШАБЛОН для ЗАПОЛНЕНИЯ'!CP26,\"\")","v":""},{"$f":"IF('ШАБЛОН для ЗАПОЛНЕНИЯ'!CQ26<>\"\",'ШАБЛОН для ЗАПОЛНЕНИЯ'!CQ26,\"\")","v":""},{"$f":"IF('ШАБЛОН для ЗАПОЛНЕНИЯ'!CR26<>\"\",'ШАБЛОН для ЗАПОЛНЕНИЯ'!CR26,\"\")","v":""},{"$f":"IF('ШАБЛОН для ЗАПОЛНЕНИЯ'!CS26<>\"\",'ШАБЛОН для ЗАПОЛНЕНИЯ'!CS26,\"\")","v":""},{"$f":"IF('ШАБЛОН для ЗАПОЛНЕНИЯ'!CT26<>\"\",'ШАБЛОН для ЗАПОЛНЕНИЯ'!CT26,\"\")","v":""}]
[null,4,{"$f":"IF('ШАБЛОН для ЗАПОЛНЕНИЯ'!C27<>\"\",'ШАБЛОН для ЗАПОЛНЕНИЯ'!C27,\"\")","v":"Физкультура"},{"$f":"IF('ШАБЛОН для ЗАПОЛНЕНИЯ'!D27<>\"\",'ШАБЛОН для ЗАПОЛНЕНИЯ'!D27,\"\")","v":""},{"$f":"IF('ШАБЛОН для ЗАПОЛНЕНИЯ'!E27<>\"\",'ШАБЛОН для ЗАПОЛНЕНИЯ'!E27,\"\")","v":""},{"$f":"IF('ШАБЛОН для ЗАПОЛНЕНИЯ'!F27<>\"\",'ШАБЛОН для ЗАПОЛНЕНИЯ'!F27,\"\")","v":""},{"$f":"IF('ШАБЛОН для ЗАПОЛНЕНИЯ'!G27<>\"\",'ШАБЛОН для ЗАПОЛНЕНИЯ'!G27,\"\")","v":"Окр.мир"},{"$f":"IF('ШАБЛОН для ЗАПОЛНЕНИЯ'!H27<>\"\",'ШАБЛОН для ЗАПОЛНЕНИЯ'!H27,\"\")","v":""},{"$f":"IF('ШАБЛОН для ЗАПОЛНЕНИЯ'!I27<>\"\",'ШАБЛОН для ЗАПОЛНЕНИЯ'!I27,\"\")","v":""},{"$f":"IF('ШАБЛОН для ЗАПОЛНЕНИЯ'!J27<>\"\",'ШАБЛОН для ЗАПОЛНЕНИЯ'!J27,\"\")","v":""},{"$f":"IF('ШАБЛОН для ЗАПОЛНЕНИЯ'!K27<>\"\",'ШАБЛОН для ЗАПОЛНЕНИЯ'!K27,\"\")","v":"Физкультура"},{"$f":"IF('ШАБЛОН для ЗАПОЛНЕНИЯ'!L27<>\"\",'ШАБЛОН для ЗАПОЛНЕНИЯ'!L27,\"\")","v":""},{"$f":"IF('ШАБЛОН для ЗАПОЛНЕНИЯ'!M27<>\"\",'ШАБЛОН для ЗАПОЛНЕНИЯ'!M27,\"\")","v":""},{"$f":"IF('ШАБЛОН для ЗАПОЛНЕНИЯ'!N27<>\"\",'ШАБЛОН для ЗАПОЛНЕНИЯ'!N27,\"\")","v":""},{"$f":"IF('ШАБЛОН для ЗАПОЛНЕНИЯ'!O27<>\"\",'ШАБЛОН для ЗАПОЛНЕНИЯ'!O27,\"\")","v":"Окр.мир"},{"$f":"IF('ШАБЛОН для ЗАПОЛНЕНИЯ'!P27<>\"\",'ШАБЛОН для ЗАПОЛНЕНИЯ'!P27,\"\")","v":""},{"$f":"IF('ШАБЛОН для ЗАПОЛНЕНИЯ'!Q27<>\"\",'ШАБЛОН для ЗАПОЛНЕНИЯ'!Q27,\"\")","v":""},{"$f":"IF('ШАБЛОН для ЗАПОЛНЕНИЯ'!R27<>\"\",'ШАБЛОН для ЗАПОЛНЕНИЯ'!R27,\"\")","v":""},{"$f":"IF('ШАБЛОН для ЗАПОЛНЕНИЯ'!S27<>\"\",'ШАБЛОН для ЗАПОЛНЕНИЯ'!S27,\"\")","v":"Англ.язык"},{"$f":"IF('ШАБЛОН для ЗАПОЛНЕНИЯ'!T27<>\"\",'ШАБЛОН для ЗАПОЛНЕНИЯ'!T27,\"\")","v":""},{"$f":"IF('ШАБЛОН для ЗАПОЛНЕНИЯ'!U27<>\"\",'ШАБЛОН для ЗАПОЛНЕНИЯ'!U27,\"\")","v":""},{"$f":"IF('ШАБЛОН для ЗАПОЛНЕНИЯ'!V27<>\"\",'ШАБЛОН для ЗАПОЛНЕНИЯ'!V27,\"\")","v":""},{"$f":"IF('ШАБЛОН для ЗАПОЛНЕНИЯ'!W27<>\"\",'ШАБЛОН для ЗАПОЛНЕНИЯ'!W27,\"\")","v":"Математика"},{"$f":"IF('ШАБЛОН для ЗАПОЛНЕНИЯ'!X27<>\"\",'ШАБЛОН для ЗАПОЛНЕНИЯ'!X27,\"\")","v":""},{"$f":"IF('ШАБЛОН для ЗАПОЛНЕНИЯ'!Y27<>\"\",'ШАБЛОН для ЗАПОЛНЕНИЯ'!Y27,\"\")","v":""},{"$f":"IF('ШАБЛОН для ЗАПОЛНЕНИЯ'!Z27<>\"\",'ШАБЛОН для ЗАПОЛНЕНИЯ'!Z27,\"\")","v":""},{"$f":"IF('ШАБЛОН для ЗАПОЛНЕНИЯ'!AA27<>\"\",'ШАБЛОН для ЗАПОЛНЕНИЯ'!AA27,\"\")","v":"Информатика"},{"$f":"IF('ШАБЛОН для ЗАПОЛНЕНИЯ'!AB27<>\"\",'ШАБЛОН для ЗАПОЛНЕНИЯ'!AB27,\"\")","v":""},{"$f":"IF('ШАБЛОН для ЗАПОЛНЕНИЯ'!AC27<>\"\",'ШАБЛОН для ЗАПОЛНЕНИЯ'!AC27,\"\")","v":""},{"$f":"IF('ШАБЛОН для ЗАПОЛНЕНИЯ'!AD27<>\"\",'ШАБЛОН для ЗАПОЛНЕНИЯ'!AD27,\"\")","v":""},{"$f":"IF('ШАБЛОН для ЗАПОЛНЕНИЯ'!AE27<>\"\",'ШАБЛОН для ЗАПОЛНЕНИЯ'!AE27,\"\")","v":"География"},{"$f":"IF('ШАБЛОН для ЗАПОЛНЕНИЯ'!AF27<>\"\",'ШАБЛОН для ЗАПОЛНЕНИЯ'!AF27,\"\")","v":""},{"$f":"IF('ШАБЛОН для ЗАПОЛНЕНИЯ'!AG27<>\"\",'ШАБЛОН для ЗАПОЛНЕНИЯ'!AG27,\"\")","v":""},{"$f":"IF('ШАБЛОН для ЗАПОЛНЕНИЯ'!AH27<>\"\",'ШАБЛОН для ЗАПОЛНЕНИЯ'!AH27,\"\")","v":""},{"$f":"IF('ШАБЛОН для ЗАПОЛНЕНИЯ'!AI27<>\"\",'ШАБЛОН для ЗАПОЛНЕНИЯ'!AI27,\"\")","v":"Родной язык"},{"$f":"IF('ШАБЛОН для ЗАПОЛНЕНИЯ'!AJ27<>\"\",'ШАБЛОН для ЗАПОЛНЕНИЯ'!AJ27,\"\")","v":""},{"$f":"IF('ШАБЛОН для ЗАПОЛНЕНИЯ'!AK27<>\"\",'ШАБЛОН для ЗАПОЛНЕНИЯ'!AK27,\"\")","v":""},{"$f":"IF('ШАБЛОН для ЗАПОЛНЕНИЯ'!AL27<>\"\",'ШАБЛОН для ЗАПОЛНЕНИЯ'!AL27,\"\")","v":""},{"$f":"IF('ШАБЛОН для ЗАПОЛНЕНИЯ'!AM27<>\"\",'ШАБЛОН для ЗАПОЛНЕНИЯ'!AM27,\"\")","v":""},{"$f":"IF('ШАБЛОН для ЗАПОЛНЕНИЯ'!AN27<>\"\",'ШАБЛОН для ЗАПОЛНЕНИЯ'!AN27,\"\")","v":""},{"$f":"IF('ШАБЛОН для ЗАПОЛНЕНИЯ'!AO27<>\"\",'ШАБЛОН для ЗАПОЛНЕНИЯ'!AO27,\"\")","v":""},{"$f":"IF('ШАБЛОН для ЗАПОЛНЕНИЯ'!AP27<>\"\",'ШАБЛОН для ЗАПОЛНЕНИЯ'!AP27,\"\")","v":""},{"$f":"IF('ШАБЛОН для ЗАПОЛНЕНИЯ'!AQ27<>\"\",'ШАБЛОН для ЗАПОЛНЕНИЯ'!AQ27,\"\")","v":""},{"$f":"IF('ШАБЛОН для ЗАПОЛНЕНИЯ'!AR27<>\"\",'ШАБЛОН для ЗАПОЛНЕНИЯ'!AR27,\"\")","v":""},{"$f":"IF('ШАБЛОН для ЗАПОЛНЕНИЯ'!AS27<>\"\",'ШАБЛОН для ЗАПОЛНЕНИЯ'!AS27,\"\")","v":""},{"$f":"IF('ШАБЛОН для ЗАПОЛНЕНИЯ'!AT27<>\"\",'ШАБЛОН для ЗАПОЛНЕНИЯ'!AT27,\"\")","v":""},{"$f":"IF('ШАБЛОН для ЗАПОЛНЕНИЯ'!AU27<>\"\",'ШАБЛОН для ЗАПОЛНЕНИЯ'!AU27,\"\")","v":""},{"$f":"IF('ШАБЛОН для ЗАПОЛНЕНИЯ'!AV27<>\"\",'ШАБЛОН для ЗАПОЛНЕНИЯ'!AV27,\"\")","v":""},{"$f":"IF('ШАБЛОН для ЗАПОЛНЕНИЯ'!AW27<>\"\",'ШАБЛОН для ЗАПОЛНЕНИЯ'!AW27,\"\")","v":""},{"$f":"IF('ШАБЛОН для ЗАПОЛНЕНИЯ'!AX27<>\"\",'ШАБЛОН для ЗАПОЛНЕНИЯ'!AX27,\"\")","v":""},{"$f":"IF('ШАБЛОН для ЗАПОЛНЕНИЯ'!AY27<>\"\",'ШАБЛОН для ЗАПОЛНЕНИЯ'!AY27,\"\")","v":""},{"$f":"IF('ШАБЛОН для ЗАПОЛНЕНИЯ'!AZ27<>\"\",'ШАБЛОН для ЗАПОЛНЕНИЯ'!AZ27,\"\")","v":""},{"$f":"IF('ШАБЛОН для ЗАПОЛНЕНИЯ'!BA27<>\"\",'ШАБЛОН для ЗАПОЛНЕНИЯ'!BA27,\"\")","v":""},{"$f":"IF('ШАБЛОН для ЗАПОЛНЕНИЯ'!BB27<>\"\",'ШАБЛОН для ЗАПОЛНЕНИЯ'!BB27,\"\")","v":""},{"$f":"IF('ШАБЛОН для ЗАПОЛНЕНИЯ'!BC27<>\"\",'ШАБЛОН для ЗАПОЛНЕНИЯ'!BC27,\"\")","v":""},{"$f":"IF('ШАБЛОН для ЗАПОЛНЕНИЯ'!BD27<>\"\",'ШАБЛОН для ЗАПОЛНЕНИЯ'!BD27,\"\")","v":""},{"$f":"IF('ШАБЛОН для ЗАПОЛНЕНИЯ'!BE27<>\"\",'ШАБЛОН для ЗАПОЛНЕНИЯ'!BE27,\"\")","v":""},{"$f":"IF('ШАБЛОН для ЗАПОЛНЕНИЯ'!BF27<>\"\",'ШАБЛОН для ЗАПОЛНЕНИЯ'!BF27,\"\")","v":""},{"$f":"IF('ШАБЛОН для ЗАПОЛНЕНИЯ'!BG27<>\"\",'ШАБЛОН для ЗАПОЛНЕНИЯ'!BG27,\"\")","v":""},{"$f":"IF('ШАБЛОН для ЗАПОЛНЕНИЯ'!BH27<>\"\",'ШАБЛОН для ЗАПОЛНЕНИЯ'!BH27,\"\")","v":""},{"$f":"IF('ШАБЛОН для ЗАПОЛНЕНИЯ'!BI27<>\"\",'ШАБЛОН для ЗАПОЛНЕНИЯ'!BI27,\"\")","v":""},{"$f":"IF('ШАБЛОН для ЗАПОЛНЕНИЯ'!BJ27<>\"\",'ШАБЛОН для ЗАПОЛНЕНИЯ'!BJ27,\"\")","v":""},{"$f":"IF('ШАБЛОН для ЗАПОЛНЕНИЯ'!BK27<>\"\",'ШАБЛОН для ЗАПОЛНЕНИЯ'!BK27,\"\")","v":""},{"$f":"IF('ШАБЛОН для ЗАПОЛНЕНИЯ'!BL27<>\"\",'ШАБЛОН для ЗАПОЛНЕНИЯ'!BL27,\"\")","v":""},{"$f":"IF('ШАБЛОН для ЗАПОЛНЕНИЯ'!BM27<>\"\",'ШАБЛОН для ЗАПОЛНЕНИЯ'!BM27,\"\")","v":""},{"$f":"IF('ШАБЛОН для ЗАПОЛНЕНИЯ'!BN27<>\"\",'ШАБЛОН для ЗАПОЛНЕНИЯ'!BN27,\"\")","v":""},{"$f":"IF('ШАБЛОН для ЗАПОЛНЕНИЯ'!BO27<>\"\",'ШАБЛОН для ЗАПОЛНЕНИЯ'!BO27,\"\")","v":""},{"$f":"IF('ШАБЛОН для ЗАПОЛНЕНИЯ'!BP27<>\"\",'ШАБЛОН для ЗАПОЛНЕНИЯ'!BP27,\"\")","v":""},{"$f":"IF('ШАБЛОН для ЗАПОЛНЕНИЯ'!BQ27<>\"\",'ШАБЛОН для ЗАПОЛНЕНИЯ'!BQ27,\"\")","v":""},{"$f":"IF('ШАБЛОН для ЗАПОЛНЕНИЯ'!BR27<>\"\",'ШАБЛОН для ЗАПОЛНЕНИЯ'!BR27,\"\")","v":""},{"$f":"IF('ШАБЛОН для ЗАПОЛНЕНИЯ'!BS27<>\"\",'ШАБЛОН для ЗАПОЛНЕНИЯ'!BS27,\"\")","v":""},{"$f":"IF('ШАБЛОН для ЗАПОЛНЕНИЯ'!BT27<>\"\",'ШАБЛОН для ЗАПОЛНЕНИЯ'!BT27,\"\")","v":""},{"$f":"IF('ШАБЛОН для ЗАПОЛНЕНИЯ'!BU27<>\"\",'ШАБЛОН для ЗАПОЛНЕНИЯ'!BU27,\"\")","v":""},{"$f":"IF('ШАБЛОН для ЗАПОЛНЕНИЯ'!BV27<>\"\",'ШАБЛОН для ЗАПОЛНЕНИЯ'!BV27,\"\")","v":""},{"$f":"IF('ШАБЛОН для ЗАПОЛНЕНИЯ'!BW27<>\"\",'ШАБЛОН для ЗАПОЛНЕНИЯ'!BW27,\"\")","v":""},{"$f":"IF('ШАБЛОН для ЗАПОЛНЕНИЯ'!BX27<>\"\",'ШАБЛОН для ЗАПОЛНЕНИЯ'!BX27,\"\")","v":""},{"$f":"IF('ШАБЛОН для ЗАПОЛНЕНИЯ'!BY27<>\"\",'ШАБЛОН для ЗАПОЛНЕНИЯ'!BY27,\"\")","v":""},{"$f":"IF('ШАБЛОН для ЗАПОЛНЕНИЯ'!BZ27<>\"\",'ШАБЛОН для ЗАПОЛНЕНИЯ'!BZ27,\"\")","v":""},{"$f":"IF('ШАБЛОН для ЗАПОЛНЕНИЯ'!CA27<>\"\",'ШАБЛОН для ЗАПОЛНЕНИЯ'!CA27,\"\")","v":""},{"$f":"IF('ШАБЛОН для ЗАПОЛНЕНИЯ'!CB27<>\"\",'ШАБЛОН для ЗАПОЛНЕНИЯ'!CB27,\"\")","v":""},{"$f":"IF('ШАБЛОН для ЗАПОЛНЕНИЯ'!CC27<>\"\",'ШАБЛОН для ЗАПОЛНЕНИЯ'!CC27,\"\")","v":""},{"$f":"IF('ШАБЛОН для ЗАПОЛНЕНИЯ'!CD27<>\"\",'ШАБЛОН для ЗАПОЛНЕНИЯ'!CD27,\"\")","v":""},{"$f":"IF('ШАБЛОН для ЗАПОЛНЕНИЯ'!CE27<>\"\",'ШАБЛОН для ЗАПОЛНЕНИЯ'!CE27,\"\")","v":""},{"$f":"IF('ШАБЛОН для ЗАПОЛНЕНИЯ'!CF27<>\"\",'ШАБЛОН для ЗАПОЛНЕНИЯ'!CF27,\"\")","v":""},{"$f":"IF('ШАБЛОН для ЗАПОЛНЕНИЯ'!CG27<>\"\",'ШАБЛОН для ЗАПОЛНЕНИЯ'!CG27,\"\")","v":""},{"$f":"IF('ШАБЛОН для ЗАПОЛНЕНИЯ'!CH27<>\"\",'ШАБЛОН для ЗАПОЛНЕНИЯ'!CH27,\"\")","v":""},{"$f":"IF('ШАБЛОН для ЗАПОЛНЕНИЯ'!CI27<>\"\",'ШАБЛОН для ЗАПОЛНЕНИЯ'!CI27,\"\")","v":""},{"$f":"IF('ШАБЛОН для ЗАПОЛНЕНИЯ'!CJ27<>\"\",'ШАБЛОН для ЗАПОЛНЕНИЯ'!CJ27,\"\")","v":""},{"$f":"IF('ШАБЛОН для ЗАПОЛНЕНИЯ'!CK27<>\"\",'ШАБЛОН для ЗАПОЛНЕНИЯ'!CK27,\"\")","v":""},{"$f":"IF('ШАБЛОН для ЗАПОЛНЕНИЯ'!CL27<>\"\",'ШАБЛОН для ЗАПОЛНЕНИЯ'!CL27,\"\")","v":""},{"$f":"IF('ШАБЛОН для ЗАПОЛНЕНИЯ'!CM27<>\"\",'ШАБЛОН для ЗАПОЛНЕНИЯ'!CM27,\"\")","v":""},{"$f":"IF('ШАБЛОН для ЗАПОЛНЕНИЯ'!CN27<>\"\",'ШАБЛОН для ЗАПОЛНЕНИЯ'!CN27,\"\")","v":""},{"$f":"IF('ШАБЛОН для ЗАПОЛНЕНИЯ'!CO27<>\"\",'ШАБЛОН для ЗАПОЛНЕНИЯ'!CO27,\"\")","v":""},{"$f":"IF('ШАБЛОН для ЗАПОЛНЕНИЯ'!CP27<>\"\",'ШАБЛОН для ЗАПОЛНЕНИЯ'!CP27,\"\")","v":""},{"$f":"IF('ШАБЛОН для ЗАПОЛНЕНИЯ'!CQ27<>\"\",'ШАБЛОН для ЗАПОЛНЕНИЯ'!CQ27,\"\")","v":""},{"$f":"IF('ШАБЛОН для ЗАПОЛНЕНИЯ'!CR27<>\"\",'ШАБЛОН для ЗАПОЛНЕНИЯ'!CR27,\"\")","v":""},{"$f":"IF('ШАБЛОН для ЗАПОЛНЕНИЯ'!CS27<>\"\",'ШАБЛОН для ЗАПОЛНЕНИЯ'!CS27,\"\")","v":""},{"$f":"IF('ШАБЛОН для ЗАПОЛНЕНИЯ'!CT27<>\"\",'ШАБЛОН для ЗАПОЛНЕНИЯ'!CT27,\"\")","v":""}]
[null,5,{"$f":"IF('ШАБЛОН для ЗАПОЛНЕНИЯ'!C28<>\"\",'ШАБЛОН для ЗАПОЛНЕНИЯ'!C28,\"\")","v":"Технология"},{"$f":"IF('ШАБЛОН для ЗАПОЛНЕНИЯ'!D28<>\"\",'ШАБЛОН для ЗАПОЛНЕНИЯ'!D28,\"\")","v":""},{"$f":"IF('ШАБЛОН для ЗАПОЛНЕНИЯ'!E28<>\"\",'ШАБЛОН для ЗАПОЛНЕНИЯ'!E28,\"\")","v":""},{"$f":"IF('ШАБЛОН для ЗАПОЛНЕНИЯ'!F28<>\"\",'ШАБЛОН для ЗАПОЛНЕНИЯ'!F28,\"\")","v":""},{"$f":"IF('ШАБЛОН для ЗАПОЛНЕНИЯ'!G28<>\"\",'ШАБЛОН для ЗАПОЛНЕНИЯ'!G28,\"\")","v":"Технология"},{"$f":"IF('ШАБЛОН для ЗАПОЛНЕНИЯ'!H28<>\"\",'ШАБЛОН для ЗАПОЛНЕНИЯ'!H28,\"\")","v":""},{"$f":"IF('ШАБЛОН для ЗАПОЛНЕНИЯ'!I28<>\"\",'ШАБЛОН для ЗАПОЛНЕНИЯ'!I28,\"\")","v":""},{"$f":"IF('ШАБЛОН для ЗАПОЛНЕНИЯ'!J28<>\"\",'ШАБЛОН для ЗАПОЛНЕНИЯ'!J28,\"\")","v":""},{"$f":"IF('ШАБЛОН для ЗАПОЛНЕНИЯ'!K28<>\"\",'ШАБЛОН для ЗАПОЛНЕНИЯ'!K28,\"\")","v":"Технология"},{"$f":"IF('ШАБЛОН для ЗАПОЛНЕНИЯ'!L28<>\"\",'ШАБЛОН для ЗАПОЛНЕНИЯ'!L28,\"\")","v":""},{"$f":"IF('ШАБЛОН для ЗАПОЛНЕНИЯ'!M28<>\"\",'ШАБЛОН для ЗАПОЛНЕНИЯ'!M28,\"\")","v":""},{"$f":"IF('ШАБЛОН для ЗАПОЛНЕНИЯ'!N28<>\"\",'ШАБЛОН для ЗАПОЛНЕНИЯ'!N28,\"\")","v":""},{"$f":"IF('ШАБЛОН для ЗАПОЛНЕНИЯ'!O28<>\"\",'ШАБЛОН для ЗАПОЛНЕНИЯ'!O28,\"\")","v":"Технология"},{"$f":"IF('ШАБЛОН для ЗАПОЛНЕНИЯ'!P28<>\"\",'ШАБЛОН для ЗАПОЛНЕНИЯ'!P28,\"\")","v":""},{"$f":"IF('ШАБЛОН для ЗАПОЛНЕНИЯ'!Q28<>\"\",'ШАБЛОН для ЗАПОЛНЕНИЯ'!Q28,\"\")","v":""},{"$f":"IF('ШАБЛОН для ЗАПОЛНЕНИЯ'!R28<>\"\",'ШАБЛОН для ЗАПОЛНЕНИЯ'!R28,\"\")","v":""},{"$f":"IF('ШАБЛОН для ЗАПОЛНЕНИЯ'!S28<>\"\",'ШАБЛОН для ЗАПОЛНЕНИЯ'!S28,\"\")","v":"Технология"},{"$f":"IF('ШАБЛОН для ЗАПОЛНЕНИЯ'!T28<>\"\",'ШАБЛОН для ЗАПОЛНЕНИЯ'!T28,\"\")","v":""},{"$f":"IF('ШАБЛОН для ЗАПОЛНЕНИЯ'!U28<>\"\",'ШАБЛОН для ЗАПОЛНЕНИЯ'!U28,\"\")","v":""},{"$f":"IF('ШАБЛОН для ЗАПОЛНЕНИЯ'!V28<>\"\",'ШАБЛОН для ЗАПОЛНЕНИЯ'!V28,\"\")","v":""},{"$f":"IF('ШАБЛОН для ЗАПОЛНЕНИЯ'!W28<>\"\",'ШАБЛОН для ЗАПОЛНЕНИЯ'!W28,\"\")","v":"История"},{"$f":"IF('ШАБЛОН для ЗАПОЛНЕНИЯ'!X28<>\"\",'ШАБЛОН для ЗАПОЛНЕНИЯ'!X28,\"\")","v":""},{"$f":"IF('ШАБЛОН для ЗАПОЛНЕНИЯ'!Y28<>\"\",'ШАБЛОН для ЗАПОЛНЕНИЯ'!Y28,\"\")","v":""},{"$f":"IF('ШАБЛОН для ЗАПОЛНЕНИЯ'!Z28<>\"\",'ШАБЛОН для ЗАПОЛНЕНИЯ'!Z28,\"\")","v":""},{"$f":"IF('ШАБЛОН для ЗАПОЛНЕНИЯ'!AA28<>\"\",'ШАБЛОН для ЗАПОЛНЕНИЯ'!AA28,\"\")","v":"Родн.литер."},{"$f":"IF('ШАБЛОН для ЗАПОЛНЕНИЯ'!AB28<>\"\",'ШАБЛОН для ЗАПОЛНЕНИЯ'!AB28,\"\")","v":""},{"$f":"IF('ШАБЛОН для ЗАПОЛНЕНИЯ'!AC28<>\"\",'ШАБЛОН для ЗАПОЛНЕНИЯ'!AC28,\"\")","v":""},{"$f":"IF('ШАБЛОН для ЗАПОЛНЕНИЯ'!AD28<>\"\",'ШАБЛОН для ЗАПОЛНЕНИЯ'!AD28,\"\")","v":""},{"$f":"IF('ШАБЛОН для ЗАПОЛНЕНИЯ'!AE28<>\"\",'ШАБЛОН для ЗАПОЛНЕНИЯ'!AE28,\"\")","v":"Англ.язык"},{"$f":"IF('ШАБЛОН для ЗАПОЛНЕНИЯ'!AF28<>\"\",'ШАБЛОН для ЗАПОЛНЕНИЯ'!AF28,\"\")","v":""},{"$f":"IF('ШАБЛОН для ЗАПОЛНЕНИЯ'!AG28<>\"\",'ШАБЛОН для ЗАПОЛНЕНИЯ'!AG28,\"\")","v":""},{"$f":"IF('ШАБЛОН для ЗАПОЛНЕНИЯ'!AH28<>\"\",'ШАБЛОН для ЗАПОЛНЕНИЯ'!AH28,\"\")","v":""},{"$f":"IF('ШАБЛОН для ЗАПОЛНЕНИЯ'!AI28<>\"\",'ШАБЛОН для ЗАПОЛНЕНИЯ'!AI28,\"\")","v":"География"},{"$f":"IF('ШАБЛОН для ЗАПОЛНЕНИЯ'!AJ28<>\"\",'ШАБЛОН для ЗАПОЛНЕНИЯ'!AJ28,\"\")","v":""},{"$f":"IF('ШАБЛОН для ЗАПОЛНЕНИЯ'!AK28<>\"\",'ШАБЛОН для ЗАПОЛНЕНИЯ'!AK28,\"\")","v":""},{"$f":"IF('ШАБЛОН для ЗАПОЛНЕНИЯ'!AL28<>\"\",'ШАБЛОН для ЗАПОЛНЕНИЯ'!AL28,\"\")","v":""},{"$f":"IF('ШАБЛОН для ЗАПОЛНЕНИЯ'!AM28<>\"\",'ШАБЛОН для ЗАПОЛНЕНИЯ'!AM28,\"\")","v":""},{"$f":"IF('ШАБЛОН для ЗАПОЛНЕНИЯ'!AN28<>\"\",'ШАБЛОН для ЗАПОЛНЕНИЯ'!AN28,\"\")","v":""},{"$f":"IF('ШАБЛОН для ЗАПОЛНЕНИЯ'!AO28<>\"\",'ШАБЛОН для ЗАПОЛНЕНИЯ'!AO28,\"\")","v":""},{"$f":"IF('ШАБЛОН для ЗАПОЛНЕНИЯ'!AP28<>\"\",'ШАБЛОН для ЗАПОЛНЕНИЯ'!AP28,\"\")","v":""},{"$f":"IF('ШАБЛОН для ЗАПОЛНЕНИЯ'!AQ28<>\"\",'ШАБЛОН для ЗАПОЛНЕНИЯ'!AQ28,\"\")","v":""},{"$f":"IF('ШАБЛОН для ЗАПОЛНЕНИЯ'!AR28<>\"\",'ШАБЛОН для ЗАПОЛНЕНИЯ'!AR28,\"\")","v":""},{"$f":"IF('ШАБЛОН для ЗАПОЛНЕНИЯ'!AS28<>\"\",'ШАБЛОН для ЗАПОЛНЕНИЯ'!AS28,\"\")","v":""},{"$f":"IF('ШАБЛОН для ЗАПОЛНЕНИЯ'!AT28<>\"\",'ШАБЛОН для ЗАПОЛНЕНИЯ'!AT28,\"\")","v":""},{"$f":"IF('ШАБЛОН для ЗАПОЛНЕНИЯ'!AU28<>\"\",'ШАБЛОН для ЗАПОЛНЕНИЯ'!AU28,\"\")","v":""},{"$f":"IF('ШАБЛОН для ЗАПОЛНЕНИЯ'!AV28<>\"\",'ШАБЛОН для ЗАПОЛНЕНИЯ'!AV28,\"\")","v":""},{"$f":"IF('ШАБЛОН для ЗАПОЛНЕНИЯ'!AW28<>\"\",'ШАБЛОН для ЗАПОЛНЕНИЯ'!AW28,\"\")","v":""},{"$f":"IF('ШАБЛОН для ЗАПОЛНЕНИЯ'!AX28<>\"\",'ШАБЛОН для ЗАПОЛНЕНИЯ'!AX28,\"\")","v":""},{"$f":"IF('ШАБЛОН для ЗАПОЛНЕНИЯ'!AY28<>\"\",'ШАБЛОН для ЗАПОЛНЕНИЯ'!AY28,\"\")","v":""},{"$f":"IF('ШАБЛОН для ЗАПОЛНЕНИЯ'!AZ28<>\"\",'ШАБЛОН для ЗАПОЛНЕНИЯ'!AZ28,\"\")","v":""},{"$f":"IF('ШАБЛОН для ЗАПОЛНЕНИЯ'!BA28<>\"\",'ШАБЛОН для ЗАПОЛНЕНИЯ'!BA28,\"\")","v":""},{"$f":"IF('ШАБЛОН для ЗАПОЛНЕНИЯ'!BB28<>\"\",'ШАБЛОН для ЗАПОЛНЕНИЯ'!BB28,\"\")","v":""},{"$f":"IF('ШАБЛОН для ЗАПОЛНЕНИЯ'!BC28<>\"\",'ШАБЛОН для ЗАПОЛНЕНИЯ'!BC28,\"\")","v":""},{"$f":"IF('ШАБЛОН для ЗАПОЛНЕНИЯ'!BD28<>\"\",'ШАБЛОН для ЗАПОЛНЕНИЯ'!BD28,\"\")","v":""},{"$f":"IF('ШАБЛОН для ЗАПОЛНЕНИЯ'!BE28<>\"\",'ШАБЛОН для ЗАПОЛНЕНИЯ'!BE28,\"\")","v":""},{"$f":"IF('ШАБЛОН для ЗАПОЛНЕНИЯ'!BF28<>\"\",'ШАБЛОН для ЗАПОЛНЕНИЯ'!BF28,\"\")","v":""},{"$f":"IF('ШАБЛОН для ЗАПОЛНЕНИЯ'!BG28<>\"\",'ШАБЛОН для ЗАПОЛНЕНИЯ'!BG28,\"\")","v":""},{"$f":"IF('ШАБЛОН для ЗАПОЛНЕНИЯ'!BH28<>\"\",'ШАБЛОН для ЗАПОЛНЕНИЯ'!BH28,\"\")","v":""},{"$f":"IF('ШАБЛОН для ЗАПОЛНЕНИЯ'!BI28<>\"\",'ШАБЛОН для ЗАПОЛНЕНИЯ'!BI28,\"\")","v":""},{"$f":"IF('ШАБЛОН для ЗАПОЛНЕНИЯ'!BJ28<>\"\",'ШАБЛОН для ЗАПОЛНЕНИЯ'!BJ28,\"\")","v":""},{"$f":"IF('ШАБЛОН для ЗАПОЛНЕНИЯ'!BK28<>\"\",'ШАБЛОН для ЗАПОЛНЕНИЯ'!BK28,\"\")","v":""},{"$f":"IF('ШАБЛОН для ЗАПОЛНЕНИЯ'!BL28<>\"\",'ШАБЛОН для ЗАПОЛНЕНИЯ'!BL28,\"\")","v":""},{"$f":"IF('ШАБЛОН для ЗАПОЛНЕНИЯ'!BM28<>\"\",'ШАБЛОН для ЗАПОЛНЕНИЯ'!BM28,\"\")","v":""},{"$f":"IF('ШАБЛОН для ЗАПОЛНЕНИЯ'!BN28<>\"\",'ШАБЛОН для ЗАПОЛНЕНИЯ'!BN28,\"\")","v":""},{"$f":"IF('ШАБЛОН для ЗАПОЛНЕНИЯ'!BO28<>\"\",'ШАБЛОН для ЗАПОЛНЕНИЯ'!BO28,\"\")","v":""},{"$f":"IF('ШАБЛОН для ЗАПОЛНЕНИЯ'!BP28<>\"\",'ШАБЛОН для ЗАПОЛНЕНИЯ'!BP28,\"\")","v":""},{"$f":"IF('ШАБЛОН для ЗАПОЛНЕНИЯ'!BQ28<>\"\",'ШАБЛОН для ЗАПОЛНЕНИЯ'!BQ28,\"\")","v":""},{"$f":"IF('ШАБЛОН для ЗАПОЛНЕНИЯ'!BR28<>\"\",'ШАБЛОН для ЗАПОЛНЕНИЯ'!BR28,\"\")","v":""},{"$f":"IF('ШАБЛОН для ЗАПОЛНЕНИЯ'!BS28<>\"\",'ШАБЛОН для ЗАПОЛНЕНИЯ'!BS28,\"\")","v":""},{"$f":"IF('ШАБЛОН для ЗАПОЛНЕНИЯ'!BT28<>\"\",'ШАБЛОН для ЗАПОЛНЕНИЯ'!BT28,\"\")","v":""},{"$f":"IF('ШАБЛОН для ЗАПОЛНЕНИЯ'!BU28<>\"\",'ШАБЛОН для ЗАПОЛНЕНИЯ'!BU28,\"\")","v":""},{"$f":"IF('ШАБЛОН для ЗАПОЛНЕНИЯ'!BV28<>\"\",'ШАБЛОН для ЗАПОЛНЕНИЯ'!BV28,\"\")","v":""},{"$f":"IF('ШАБЛОН для ЗАПОЛНЕНИЯ'!BW28<>\"\",'ШАБЛОН для ЗАПОЛНЕНИЯ'!BW28,\"\")","v":""},{"$f":"IF('ШАБЛОН для ЗАПОЛНЕНИЯ'!BX28<>\"\",'ШАБЛОН для ЗАПОЛНЕНИЯ'!BX28,\"\")","v":""},{"$f":"IF('ШАБЛОН для ЗАПОЛНЕНИЯ'!BY28<>\"\",'ШАБЛОН для ЗАПОЛНЕНИЯ'!BY28,\"\")","v":""},{"$f":"IF('ШАБЛОН для ЗАПОЛНЕНИЯ'!BZ28<>\"\",'ШАБЛОН для ЗАПОЛНЕНИЯ'!BZ28,\"\")","v":""},{"$f":"IF('ШАБЛОН для ЗАПОЛНЕНИЯ'!CA28<>\"\",'ШАБЛОН для ЗАПОЛНЕНИЯ'!CA28,\"\")","v":""},{"$f":"IF('ШАБЛОН для ЗАПОЛНЕНИЯ'!CB28<>\"\",'ШАБЛОН для ЗАПОЛНЕНИЯ'!CB28,\"\")","v":""},{"$f":"IF('ШАБЛОН для ЗАПОЛНЕНИЯ'!CC28<>\"\",'ШАБЛОН для ЗАПОЛНЕНИЯ'!CC28,\"\")","v":""},{"$f":"IF('ШАБЛОН для ЗАПОЛНЕНИЯ'!CD28<>\"\",'ШАБЛОН для ЗАПОЛНЕНИЯ'!CD28,\"\")","v":""},{"$f":"IF('ШАБЛОН для ЗАПОЛНЕНИЯ'!CE28<>\"\",'ШАБЛОН для ЗАПОЛНЕНИЯ'!CE28,\"\")","v":""},{"$f":"IF('ШАБЛОН для ЗАПОЛНЕНИЯ'!CF28<>\"\",'ШАБЛОН для ЗАПОЛНЕНИЯ'!CF28,\"\")","v":""},{"$f":"IF('ШАБЛОН для ЗАПОЛНЕНИЯ'!CG28<>\"\",'ШАБЛОН для ЗАПОЛНЕНИЯ'!CG28,\"\")","v":""},{"$f":"IF('ШАБЛОН для ЗАПОЛНЕНИЯ'!CH28<>\"\",'ШАБЛОН для ЗАПОЛНЕНИЯ'!CH28,\"\")","v":""},{"$f":"IF('ШАБЛОН для ЗАПОЛНЕНИЯ'!CI28<>\"\",'ШАБЛОН для ЗАПОЛНЕНИЯ'!CI28,\"\")","v":""},{"$f":"IF('ШАБЛОН для ЗАПОЛНЕНИЯ'!CJ28<>\"\",'ШАБЛОН для ЗАПОЛНЕНИЯ'!CJ28,\"\")","v":""},{"$f":"IF('ШАБЛОН для ЗАПОЛНЕНИЯ'!CK28<>\"\",'ШАБЛОН для ЗАПОЛНЕНИЯ'!CK28,\"\")","v":""},{"$f":"IF('ШАБЛОН для ЗАПОЛНЕНИЯ'!CL28<>\"\",'ШАБЛОН для ЗАПОЛНЕНИЯ'!CL28,\"\")","v":""},{"$f":"IF('ШАБЛОН для ЗАПОЛНЕНИЯ'!CM28<>\"\",'ШАБЛОН для ЗАПОЛНЕНИЯ'!CM28,\"\")","v":""},{"$f":"IF('ШАБЛОН для ЗАПОЛНЕНИЯ'!CN28<>\"\",'ШАБЛОН для ЗАПОЛНЕНИЯ'!CN28,\"\")","v":""},{"$f":"IF('ШАБЛОН для ЗАПОЛНЕНИЯ'!CO28<>\"\",'ШАБЛОН для ЗАПОЛНЕНИЯ'!CO28,\"\")","v":""},{"$f":"IF('ШАБЛОН для ЗАПОЛНЕНИЯ'!CP28<>\"\",'ШАБЛОН для ЗАПОЛНЕНИЯ'!CP28,\"\")","v":""},{"$f":"IF('ШАБЛОН для ЗАПОЛНЕНИЯ'!CQ28<>\"\",'ШАБЛОН для ЗАПОЛНЕНИЯ'!CQ28,\"\")","v":""},{"$f":"IF('ШАБЛОН для ЗАПОЛНЕНИЯ'!CR28<>\"\",'ШАБЛОН для ЗАПОЛНЕНИЯ'!CR28,\"\")","v":""},{"$f":"IF('ШАБЛОН для ЗАПОЛНЕНИЯ'!CS28<>\"\",'ШАБЛОН для ЗАПОЛНЕНИЯ'!CS28,\"\")","v":""},{"$f":"IF('ШАБЛОН для ЗАПОЛНЕНИЯ'!CT28<>\"\",'ШАБЛОН для ЗАПОЛНЕНИЯ'!CT28,\"\")","v":""}]
[null,6,{"$f":"IF('ШАБЛОН для ЗАПОЛНЕНИЯ'!C29<>\"\",'ШАБЛОН для ЗАПОЛНЕНИЯ'!C29,\"\")","v":""},{"$f":"IF('ШАБЛОН для ЗАПОЛНЕНИЯ'!D29<>\"\",'ШАБЛОН для ЗАПОЛНЕНИЯ'!D29,\"\")","v":""},{"$f":"IF('ШАБЛОН для ЗАПОЛНЕНИЯ'!E29<>\"\",'ШАБЛОН для ЗАПОЛНЕНИЯ'!E29,\"\")","v":""},{"$f":"IF('ШАБЛОН для ЗАПОЛНЕНИЯ'!F29<>\"\",'ШАБЛОН для ЗАПОЛНЕНИЯ'!F29,\"\")","v":""},{"$f":"IF('ШАБЛОН для ЗАПОЛНЕНИЯ'!G29<>\"\",'ШАБЛОН для ЗАПОЛНЕНИЯ'!G29,\"\")","v":""},{"$f":"IF('ШАБЛОН для ЗАПОЛНЕНИЯ'!H29<>\"\",'ШАБЛОН для ЗАПОЛНЕНИЯ'!H29,\"\")","v":""},{"$f":"IF('ШАБЛОН для ЗАПОЛНЕНИЯ'!I29<>\"\",'ШАБЛОН для ЗАПОЛНЕНИЯ'!I29,\"\")","v":""},{"$f":"IF('ШАБЛОН для ЗАПОЛНЕНИЯ'!J29<>\"\",'ШАБЛОН для ЗАПОЛНЕНИЯ'!J29,\"\")","v":""},{"$f":"IF('ШАБЛОН для ЗАПОЛНЕНИЯ'!K29<>\"\",'ШАБЛОН для ЗАПОЛНЕНИЯ'!K29,\"\")","v":""},{"$f":"IF('ШАБЛОН для ЗАПОЛНЕНИЯ'!L29<>\"\",'ШАБЛОН для ЗАПОЛНЕНИЯ'!L29,\"\")","v":""},{"$f":"IF('ШАБЛОН для ЗАПОЛНЕНИЯ'!M29<>\"\",'ШАБЛОН для ЗАПОЛНЕНИЯ'!M29,\"\")","v":""},{"$f":"IF('ШАБЛОН для ЗАПОЛНЕНИЯ'!N29<>\"\",'ШАБЛОН для ЗАПОЛНЕНИЯ'!N29,\"\")","v":""},{"$f":"IF('ШАБЛОН для ЗАПОЛНЕНИЯ'!O29<>\"\",'ШАБЛОН для ЗАПОЛНЕНИЯ'!O29,\"\")","v":""},{"$f":"IF('ШАБЛОН для ЗАПОЛНЕНИЯ'!P29<>\"\",'ШАБЛОН для ЗАПОЛНЕНИЯ'!P29,\"\")","v":""},{"$f":"IF('ШАБЛОН для ЗАПОЛНЕНИЯ'!Q29<>\"\",'ШАБЛОН для ЗАПОЛНЕНИЯ'!Q29,\"\")","v":""},{"$f":"IF('ШАБЛОН для ЗАПОЛНЕНИЯ'!R29<>\"\",'ШАБЛОН для ЗАПОЛНЕНИЯ'!R29,\"\")","v":""},{"$f":"IF('ШАБЛОН для ЗАПОЛНЕНИЯ'!S29<>\"\",'ШАБЛОН для ЗАПОЛНЕНИЯ'!S29,\"\")","v":"ОДНКР"},{"$f":"IF('ШАБЛОН для ЗАПОЛНЕНИЯ'!T29<>\"\",'ШАБЛОН для ЗАПОЛНЕНИЯ'!T29,\"\")","v":""},{"$f":"IF('ШАБЛОН для ЗАПОЛНЕНИЯ'!U29<>\"\",'ШАБЛОН для ЗАПОЛНЕНИЯ'!U29,\"\")","v":""},{"$f":"IF('ШАБЛОН для ЗАПОЛНЕНИЯ'!V29<>\"\",'ШАБЛОН для ЗАПОЛНЕНИЯ'!V29,\"\")","v":""},{"$f":"IF('ШАБЛОН для ЗАПОЛНЕНИЯ'!W29<>\"\",'ШАБЛОН для ЗАПОЛНЕНИЯ'!W29,\"\")","v":"Литература"},{"$f":"IF('ШАБЛОН для ЗАПОЛНЕНИЯ'!X29<>\"\",'ШАБЛОН для ЗАПОЛНЕНИЯ'!X29,\"\")","v":""},{"$f":"IF('ШАБЛОН для ЗАПОЛНЕНИЯ'!Y29<>\"\",'ШАБЛОН для ЗАПОЛНЕНИЯ'!Y29,\"\")","v":""},{"$f":"IF('ШАБЛОН для ЗАПОЛНЕНИЯ'!Z29<>\"\",'ШАБЛОН для ЗАПОЛНЕНИЯ'!Z29,\"\")","v":""},{"$f":"IF('ШАБЛОН для ЗАПОЛНЕНИЯ'!AA29<>\"\",'ШАБЛОН для ЗАПОЛНЕНИЯ'!AA29,\"\")","v":"Англ.язык"},{"$f":"IF('ШАБЛОН для ЗАПОЛНЕНИЯ'!AB29<>\"\",'ШАБЛОН для ЗАПОЛНЕНИЯ'!AB29,\"\")","v":""},{"$f":"IF('ШАБЛОН для ЗАПОЛНЕНИЯ'!AC29<>\"\",'ШАБЛОН для ЗАПОЛНЕНИЯ'!AC29,\"\")","v":""},{"$f":"IF('ШАБЛОН для ЗАПОЛНЕНИЯ'!AD29<>\"\",'ШАБЛОН для ЗАПОЛНЕНИЯ'!AD29,\"\")","v":""},{"$f":"IF('ШАБЛОН для ЗАПОЛНЕНИЯ'!AE29<>\"\",'ШАБЛОН для ЗАПОЛНЕНИЯ'!AE29,\"\")","v":"Алгебра"},{"$f":"IF('ШАБЛОН для ЗАПОЛНЕНИЯ'!AF29<>\"\",'ШАБЛОН для ЗАПОЛНЕНИЯ'!AF29,\"\")","v":""},{"$f":"IF('ШАБЛОН для ЗАПОЛНЕНИЯ'!AG29<>\"\",'ШАБЛОН для ЗАПОЛНЕНИЯ'!AG29,\"\")","v":""},{"$f":"IF('ШАБЛОН для ЗАПОЛНЕНИЯ'!AH29<>\"\",'ШАБЛОН для ЗАПОЛНЕНИЯ'!AH29,\"\")","v":""},{"$f":"IF('ШАБЛОН для ЗАПОЛНЕНИЯ'!AI29<>\"\",'ШАБЛОН для ЗАПОЛНЕНИЯ'!AI29,\"\")","v":"Информатика"},{"$f":"IF('ШАБЛОН для ЗАПОЛНЕНИЯ'!AJ29<>\"\",'ШАБЛОН для ЗАПОЛНЕНИЯ'!AJ29,\"\")","v":""},{"$f":"IF('ШАБЛОН для ЗАПОЛНЕНИЯ'!AK29<>\"\",'ШАБЛОН для ЗАПОЛНЕНИЯ'!AK29,\"\")","v":""},{"$f":"IF('ШАБЛОН для ЗАПОЛНЕНИЯ'!AL29<>\"\",'ШАБЛОН для ЗАПОЛНЕНИЯ'!AL29,\"\")","v":""},{"$f":"IF('ШАБЛОН для ЗАПОЛНЕНИЯ'!AM29<>\"\",'ШАБЛОН для ЗАПОЛНЕНИЯ'!AM29,\"\")","v":""},{"$f":"IF('ШАБЛОН для ЗАПОЛНЕНИЯ'!AN29<>\"\",'ШАБЛОН для ЗАПОЛНЕНИЯ'!AN29,\"\")","v":""},{"$f":"IF('ШАБЛОН для ЗАПОЛНЕНИЯ'!AO29<>\"\",'ШАБЛОН для ЗАПОЛНЕНИЯ'!AO29,\"\")","v":""},{"$f":"IF('ШАБЛОН для ЗАПОЛНЕНИЯ'!AP29<>\"\",'ШАБЛОН для ЗАПОЛНЕНИЯ'!AP29,\"\")","v":""},{"$f":"IF('ШАБЛОН для ЗАПОЛНЕНИЯ'!AQ29<>\"\",'ШАБЛОН для ЗАПОЛНЕНИЯ'!AQ29,\"\")","v":""},{"$f":"IF('ШАБЛОН для ЗАПОЛНЕНИЯ'!AR29<>\"\",'ШАБЛОН для ЗАПОЛНЕНИЯ'!AR29,\"\")","v":""},{"$f":"IF('ШАБЛОН для ЗАПОЛНЕНИЯ'!AS29<>\"\",'ШАБЛОН для ЗАПОЛНЕНИЯ'!AS29,\"\")","v":""},{"$f":"IF('ШАБЛОН для ЗАПОЛНЕНИЯ'!AT29<>\"\",'ШАБЛОН для ЗАПОЛНЕНИЯ'!AT29,\"\")","v":""},{"$f":"IF('ШАБЛОН для ЗАПОЛНЕНИЯ'!AU29<>\"\",'ШАБЛОН для ЗАПОЛНЕНИЯ'!AU29,\"\")","v":""},{"$f":"IF('ШАБЛОН для ЗАПОЛНЕНИЯ'!AV29<>\"\",'ШАБЛОН для ЗАПОЛНЕНИЯ'!AV29,\"\")","v":""},{"$f":"IF('ШАБЛОН для ЗАПОЛНЕНИЯ'!AW29<>\"\",'ШАБЛОН для ЗАПОЛНЕНИЯ'!AW29,\"\")","v":""},{"$f":"IF('ШАБЛОН для ЗАПОЛНЕНИЯ'!AX29<>\"\",'ШАБЛОН для ЗАПОЛНЕНИЯ'!AX29,\"\")","v":""},{"$f":"IF('ШАБЛОН для ЗАПОЛНЕНИЯ'!AY29<>\"\",'ШАБЛОН для ЗАПОЛНЕНИЯ'!AY29,\"\")","v":""},{"$f":"IF('ШАБЛОН для ЗАПОЛНЕНИЯ'!AZ29<>\"\",'ШАБЛОН для ЗАПОЛНЕНИЯ'!AZ29,\"\")","v":""},{"$f":"IF('ШАБЛОН для ЗАПОЛНЕНИЯ'!BA29<>\"\",'ШАБЛОН для ЗАПОЛНЕНИЯ'!BA29,\"\")","v":""},{"$f":"IF('ШАБЛОН для ЗАПОЛНЕНИЯ'!BB29<>\"\",'ШАБЛОН для ЗАПОЛНЕНИЯ'!BB29,\"\")","v":""},{"$f":"IF('ШАБЛОН для ЗАПОЛНЕНИЯ'!BC29<>\"\",'ШАБЛОН для ЗАПОЛНЕНИЯ'!BC29,\"\")","v":""},{"$f":"IF('ШАБЛОН для ЗАПОЛНЕНИЯ'!BD29<>\"\",'ШАБЛОН для ЗАПОЛНЕНИЯ'!BD29,\"\")","v":""},{"$f":"IF('ШАБЛОН для ЗАПОЛНЕНИЯ'!BE29<>\"\",'ШАБЛОН для ЗАПОЛНЕНИЯ'!BE29,\"\")","v":""},{"$f":"IF('ШАБЛОН для ЗАПОЛНЕНИЯ'!BF29<>\"\",'ШАБЛОН для ЗАПОЛНЕНИЯ'!BF29,\"\")","v":""},{"$f":"IF('ШАБЛОН для ЗАПОЛНЕНИЯ'!BG29<>\"\",'ШАБЛОН для ЗАПОЛНЕНИЯ'!BG29,\"\")","v":""},{"$f":"IF('ШАБЛОН для ЗАПОЛНЕНИЯ'!BH29<>\"\",'ШАБЛОН для ЗАПОЛНЕНИЯ'!BH29,\"\")","v":""},{"$f":"IF('ШАБЛОН для ЗАПОЛНЕНИЯ'!BI29<>\"\",'ШАБЛОН для ЗАПОЛНЕНИЯ'!BI29,\"\")","v":""},{"$f":"IF('ШАБЛОН для ЗАПОЛНЕНИЯ'!BJ29<>\"\",'ШАБЛОН для ЗАПОЛНЕНИЯ'!BJ29,\"\")","v":""},{"$f":"IF('ШАБЛОН для ЗАПОЛНЕНИЯ'!BK29<>\"\",'ШАБЛОН для ЗАПОЛНЕНИЯ'!BK29,\"\")","v":""},{"$f":"IF('ШАБЛОН для ЗАПОЛНЕНИЯ'!BL29<>\"\",'ШАБЛОН для ЗАПОЛНЕНИЯ'!BL29,\"\")","v":""},{"$f":"IF('ШАБЛОН для ЗАПОЛНЕНИЯ'!BM29<>\"\",'ШАБЛОН для ЗАПОЛНЕНИЯ'!BM29,\"\")","v":""},{"$f":"IF('ШАБЛОН для ЗАПОЛНЕНИЯ'!BN29<>\"\",'ШАБЛОН для ЗАПОЛНЕНИЯ'!BN29,\"\")","v":""},{"$f":"IF('ШАБЛОН для ЗАПОЛНЕНИЯ'!BO29<>\"\",'ШАБЛОН для ЗАПОЛНЕНИЯ'!BO29,\"\")","v":""},{"$f":"IF('ШАБЛОН для ЗАПОЛНЕНИЯ'!BP29<>\"\",'ШАБЛОН для ЗАПОЛНЕНИЯ'!BP29,\"\")","v":""},{"$f":"IF('ШАБЛОН для ЗАПОЛНЕНИЯ'!BQ29<>\"\",'ШАБЛОН для ЗАПОЛНЕНИЯ'!BQ29,\"\")","v":""},{"$f":"IF('ШАБЛОН для ЗАПОЛНЕНИЯ'!BR29<>\"\",'ШАБЛОН для ЗАПОЛНЕНИЯ'!BR29,\"\")","v":""},{"$f":"IF('ШАБЛОН для ЗАПОЛНЕНИЯ'!BS29<>\"\",'ШАБЛОН для ЗАПОЛНЕНИЯ'!BS29,\"\")","v":""},{"$f":"IF('ШАБЛОН для ЗАПОЛНЕНИЯ'!BT29<>\"\",'ШАБЛОН для ЗАПОЛНЕНИЯ'!BT29,\"\")","v":""},{"$f":"IF('ШАБЛОН для ЗАПОЛНЕНИЯ'!BU29<>\"\",'ШАБЛОН для ЗАПОЛНЕНИЯ'!BU29,\"\")","v":""},{"$f":"IF('ШАБЛОН для ЗАПОЛНЕНИЯ'!BV29<>\"\",'ШАБЛОН для ЗАПОЛНЕНИЯ'!BV29,\"\")","v":""},{"$f":"IF('ШАБЛОН для ЗАПОЛНЕНИЯ'!BW29<>\"\",'ШАБЛОН для ЗАПОЛНЕНИЯ'!BW29,\"\")","v":""},{"$f":"IF('ШАБЛОН для ЗАПОЛНЕНИЯ'!BX29<>\"\",'ШАБЛОН для ЗАПОЛНЕНИЯ'!BX29,\"\")","v":""},{"$f":"IF('ШАБЛОН для ЗАПОЛНЕНИЯ'!BY29<>\"\",'ШАБЛОН для ЗАПОЛНЕНИЯ'!BY29,\"\")","v":""},{"$f":"IF('ШАБЛОН для ЗАПОЛНЕНИЯ'!BZ29<>\"\",'ШАБЛОН для ЗАПОЛНЕНИЯ'!BZ29,\"\")","v":""},{"$f":"IF('ШАБЛОН для ЗАПОЛНЕНИЯ'!CA29<>\"\",'ШАБЛОН для ЗАПОЛНЕНИЯ'!CA29,\"\")","v":""},{"$f":"IF('ШАБЛОН для ЗАПОЛНЕНИЯ'!CB29<>\"\",'ШАБЛОН для ЗАПОЛНЕНИЯ'!CB29,\"\")","v":""},{"$f":"IF('ШАБЛОН для ЗАПОЛНЕНИЯ'!CC29<>\"\",'ШАБЛОН для ЗАПОЛНЕНИЯ'!CC29,\"\")","v":""},{"$f":"IF('ШАБЛОН для ЗАПОЛНЕНИЯ'!CD29<>\"\",'ШАБЛОН для ЗАПОЛНЕНИЯ'!CD29,\"\")","v":""},{"$f":"IF('ШАБЛОН для ЗАПОЛНЕНИЯ'!CE29<>\"\",'ШАБЛОН для ЗАПОЛНЕНИЯ'!CE29,\"\")","v":""},{"$f":"IF('ШАБЛОН для ЗАПОЛНЕНИЯ'!CF29<>\"\",'ШАБЛОН для ЗАПОЛНЕНИЯ'!CF29,\"\")","v":""},{"$f":"IF('ШАБЛОН для ЗАПОЛНЕНИЯ'!CG29<>\"\",'ШАБЛОН для ЗАПОЛНЕНИЯ'!CG29,\"\")","v":""},{"$f":"IF('ШАБЛОН для ЗАПОЛНЕНИЯ'!CH29<>\"\",'ШАБЛОН для ЗАПОЛНЕНИЯ'!CH29,\"\")","v":""},{"$f":"IF('ШАБЛОН для ЗАПОЛНЕНИЯ'!CI29<>\"\",'ШАБЛОН для ЗАПОЛНЕНИЯ'!CI29,\"\")","v":""},{"$f":"IF('ШАБЛОН для ЗАПОЛНЕНИЯ'!CJ29<>\"\",'ШАБЛОН для ЗАПОЛНЕНИЯ'!CJ29,\"\")","v":""},{"$f":"IF('ШАБЛОН для ЗАПОЛНЕНИЯ'!CK29<>\"\",'ШАБЛОН для ЗАПОЛНЕНИЯ'!CK29,\"\")","v":""},{"$f":"IF('ШАБЛОН для ЗАПОЛНЕНИЯ'!CL29<>\"\",'ШАБЛОН для ЗАПОЛНЕНИЯ'!CL29,\"\")","v":""},{"$f":"IF('ШАБЛОН для ЗАПОЛНЕНИЯ'!CM29<>\"\",'ШАБЛОН для ЗАПОЛНЕНИЯ'!CM29,\"\")","v":""},{"$f":"IF('ШАБЛОН для ЗАПОЛНЕНИЯ'!CN29<>\"\",'ШАБЛОН для ЗАПОЛНЕНИЯ'!CN29,\"\")","v":""},{"$f":"IF('ШАБЛОН для ЗАПОЛНЕНИЯ'!CO29<>\"\",'ШАБЛОН для ЗАПОЛНЕНИЯ'!CO29,\"\")","v":""},{"$f":"IF('ШАБЛОН для ЗАПОЛНЕНИЯ'!CP29<>\"\",'ШАБЛОН для ЗАПОЛНЕНИЯ'!CP29,\"\")","v":""},{"$f":"IF('ШАБЛОН для ЗАПОЛНЕНИЯ'!CQ29<>\"\",'ШАБЛОН для ЗАПОЛНЕНИЯ'!CQ29,\"\")","v":""},{"$f":"IF('ШАБЛОН для ЗАПОЛНЕНИЯ'!CR29<>\"\",'ШАБЛОН для ЗАПОЛНЕНИЯ'!CR29,\"\")","v":""},{"$f":"IF('ШАБЛОН для ЗАПОЛНЕНИЯ'!CS29<>\"\",'ШАБЛОН для ЗАПОЛНЕНИЯ'!CS29,\"\")","v":""},{"$f":"IF('ШАБЛОН для ЗАПОЛНЕНИЯ'!CT29<>\"\",'ШАБЛОН для ЗАПОЛНЕНИЯ'!CT29,\"\")","v":""}]
[null,7,{"$f":"IF('ШАБЛОН для ЗАПОЛНЕНИЯ'!C30<>\"\",'ШАБЛОН для ЗАПОЛНЕНИЯ'!C30,\"\")","v":""},{"$f":"IF('ШАБЛОН для ЗАПОЛНЕНИЯ'!D30<>\"\",'ШАБЛОН для ЗАПОЛНЕНИЯ'!D30,\"\")","v":""},{"$f":"IF('ШАБЛОН для ЗАПОЛНЕНИЯ'!E30<>\"\",'ШАБЛОН для ЗАПОЛНЕНИЯ'!E30,\"\")","v":""},{"$f":"IF('ШАБЛОН для ЗАПОЛНЕНИЯ'!F30<>\"\",'ШАБЛОН для ЗАПОЛНЕНИЯ'!F30,\"\")","v":""},{"$f":"IF('ШАБЛОН для ЗАПОЛНЕНИЯ'!G30<>\"\",'ШАБЛОН для ЗАПОЛНЕНИЯ'!G30,\"\")","v":""},{"$f":"IF('ШАБЛОН для ЗАПОЛНЕНИЯ'!H30<>\"\",'ШАБЛОН для ЗАПОЛНЕНИЯ'!H30,\"\")","v":""},{"$f":"IF('ШАБЛОН для ЗАПОЛНЕНИЯ'!I30<>\"\",'ШАБЛОН для ЗАПОЛНЕНИЯ'!I30,\"\")","v":""},{"$f":"IF('ШАБЛОН для ЗАПОЛНЕНИЯ'!J30<>\"\",'ШАБЛОН для ЗАПОЛНЕНИЯ'!J30,\"\")","v":""},{"$f":"IF('ШАБЛОН для ЗАПОЛНЕНИЯ'!K30<>\"\",'ШАБЛОН для ЗАПОЛНЕНИЯ'!K30,\"\")","v":""},{"$f":"IF('ШАБЛОН для ЗАПОЛНЕНИЯ'!L30<>\"\",'ШАБЛОН для ЗАПОЛНЕНИЯ'!L30,\"\")","v":""},{"$f":"IF('ШАБЛОН для ЗАПОЛНЕНИЯ'!M30<>\"\",'ШАБЛОН для ЗАПОЛНЕНИЯ'!M30,\"\")","v":""},{"$f":"IF('ШАБЛОН для ЗАПОЛНЕНИЯ'!N30<>\"\",'ШАБЛОН для ЗАПОЛНЕНИЯ'!N30,\"\")","v":""},{"$f":"IF('ШАБЛОН для ЗАПОЛНЕНИЯ'!O30<>\"\",'ШАБЛОН для ЗАПОЛНЕНИЯ'!O30,\"\")","v":""},{"$f":"IF('ШАБЛОН для ЗАПОЛНЕНИЯ'!P30<>\"\",'ШАБЛОН для ЗАПОЛНЕНИЯ'!P30,\"\")","v":""},{"$f":"IF('ШАБЛОН для ЗАПОЛНЕНИЯ'!Q30<>\"\",'ШАБЛОН для ЗАПОЛНЕНИЯ'!Q30,\"\")","v":""},{"$f":"IF('ШАБЛОН для ЗАПОЛНЕНИЯ'!R30<>\"\",'ШАБЛОН для ЗАПОЛНЕНИЯ'!R30,\"\")","v":""},{"$f":"IF('ШАБЛОН для ЗАПОЛНЕНИЯ'!S30<>\"\",'ШАБЛОН для ЗАПОЛНЕНИЯ'!S30,\"\")","v":""},{"$f":"IF('ШАБЛОН для ЗАПОЛНЕНИЯ'!T30<>\"\",'ШАБЛОН для ЗАПОЛНЕНИЯ'!T30,\"\")","v":""},{"$f":"IF('ШАБЛОН для ЗАПОЛНЕНИЯ'!U30<>\"\",'ШАБЛОН для ЗАПОЛНЕНИЯ'!U30,\"\")","v":""},{"$f":"IF('ШАБЛОН для ЗАПОЛНЕНИЯ'!V30<>\"\",'ШАБЛОН для ЗАПОЛНЕНИЯ'!V30,\"\")","v":""},{"$f":"IF('ШАБЛОН для ЗАПОЛНЕНИЯ'!W30<>\"\",'ШАБЛОН для ЗАПОЛНЕНИЯ'!W30,\"\")","v":""},{"$f":"IF('ШАБЛОН для ЗАПОЛНЕНИЯ'!X30<>\"\",'ШАБЛОН для ЗАПОЛНЕНИЯ'!X30,\"\")","v":""},{"$f":"IF('ШАБЛОН для ЗАПОЛНЕНИЯ'!Y30<>\"\",'ШАБЛОН для ЗАПОЛНЕНИЯ'!Y30,\"\")","v":""},{"$f":"IF('ШАБЛОН для ЗАПОЛНЕНИЯ'!Z30<>\"\",'ШАБЛОН для ЗАПОЛНЕНИЯ'!Z30,\"\")","v":""},{"$f":"IF('ШАБЛОН для ЗАПОЛНЕНИЯ'!AA30<>\"\",'ШАБЛОН для ЗАПОЛНЕНИЯ'!AA30,\"\")","v":""},{"$f":"IF('ШАБЛОН для ЗАПОЛНЕНИЯ'!AB30<>\"\",'ШАБЛОН для ЗАПОЛНЕНИЯ'!AB30,\"\")","v":""},{"$f":"IF('ШАБЛОН для ЗАПОЛНЕНИЯ'!AC30<>\"\",'ШАБЛОН для ЗАПОЛНЕНИЯ'!AC30,\"\")","v":""},{"$f":"IF('ШАБЛОН для ЗАПОЛНЕНИЯ'!AD30<>\"\",'ШАБЛОН для ЗАПОЛНЕНИЯ'!AD30,\"\")","v":""},{"$f":"IF('ШАБЛОН для ЗАПОЛНЕНИЯ'!AE30<>\"\",'ШАБЛОН для ЗАПОЛНЕНИЯ'!AE30,\"\")","v":""},{"$f":"IF('ШАБЛОН для ЗАПОЛНЕНИЯ'!AF30<>\"\",'ШАБЛОН для ЗАПОЛНЕНИЯ'!AF30,\"\")","v":""},{"$f":"IF('ШАБЛОН для ЗАПОЛНЕНИЯ'!AG30<>\"\",'ШАБЛОН для ЗАПОЛНЕНИЯ'!AG30,\"\")","v":""},{"$f":"IF('ШАБЛОН для ЗАПОЛНЕНИЯ'!AH30<>\"\",'ШАБЛОН для ЗАПОЛНЕНИЯ'!AH30,\"\")","v":""},{"$f":"IF('ШАБЛОН для ЗАПОЛНЕНИЯ'!AI30<>\"\",'ШАБЛОН для ЗАПОЛНЕНИЯ'!AI30,\"\")","v":""},{"$f":"IF('ШАБЛОН для ЗАПОЛНЕНИЯ'!AJ30<>\"\",'ШАБЛОН для ЗАПОЛНЕНИЯ'!AJ30,\"\")","v":""},{"$f":"IF('ШАБЛОН для ЗАПОЛНЕНИЯ'!AK30<>\"\",'ШАБЛОН для ЗАПОЛНЕНИЯ'!AK30,\"\")","v":""},{"$f":"IF('ШАБЛОН для ЗАПОЛНЕНИЯ'!AL30<>\"\",'ШАБЛОН для ЗАПОЛНЕНИЯ'!AL30,\"\")","v":""},{"$f":"IF('ШАБЛОН для ЗАПОЛНЕНИЯ'!AM30<>\"\",'ШАБЛОН для ЗАПОЛНЕНИЯ'!AM30,\"\")","v":""},{"$f":"IF('ШАБЛОН для ЗАПОЛНЕНИЯ'!AN30<>\"\",'ШАБЛОН для ЗАПОЛНЕНИЯ'!AN30,\"\")","v":""},{"$f":"IF('ШАБЛОН для ЗАПОЛНЕНИЯ'!AO30<>\"\",'ШАБЛОН для ЗАПОЛНЕНИЯ'!AO30,\"\")","v":""},{"$f":"IF('ШАБЛОН для ЗАПОЛНЕНИЯ'!AP30<>\"\",'ШАБЛОН для ЗАПОЛНЕНИЯ'!AP30,\"\")","v":""},{"$f":"IF('ШАБЛОН для ЗАПОЛНЕНИЯ'!AQ30<>\"\",'ШАБЛОН для ЗАПОЛНЕНИЯ'!AQ30,\"\")","v":""},{"$f":"IF('ШАБЛОН для ЗАПОЛНЕНИЯ'!AR30<>\"\",'ШАБЛОН для ЗАПОЛНЕНИЯ'!AR30,\"\")","v":""},{"$f":"IF('ШАБЛОН для ЗАПОЛНЕНИЯ'!AS30<>\"\",'ШАБЛОН для ЗАПОЛНЕНИЯ'!AS30,\"\")","v":""},{"$f":"IF('ШАБЛОН для ЗАПОЛНЕНИЯ'!AT30<>\"\",'ШАБЛОН для ЗАПОЛНЕНИЯ'!AT30,\"\")","v":""},{"$f":"IF('ШАБЛОН для ЗАПОЛНЕНИЯ'!AU30<>\"\",'ШАБЛОН для ЗАПОЛНЕНИЯ'!AU30,\"\")","v":""},{"$f":"IF('ШАБЛОН для ЗАПОЛНЕНИЯ'!AV30<>\"\",'ШАБЛОН для ЗАПОЛНЕНИЯ'!AV30,\"\")","v":""},{"$f":"IF('ШАБЛОН для ЗАПОЛНЕНИЯ'!AW30<>\"\",'ШАБЛОН для ЗАПОЛНЕНИЯ'!AW30,\"\")","v":""},{"$f":"IF('ШАБЛОН для ЗАПОЛНЕНИЯ'!AX30<>\"\",'ШАБЛОН для ЗАПОЛНЕНИЯ'!AX30,\"\")","v":""},{"$f":"IF('ШАБЛОН для ЗАПОЛНЕНИЯ'!AY30<>\"\",'ШАБЛОН для ЗАПОЛНЕНИЯ'!AY30,\"\")","v":""},{"$f":"IF('ШАБЛОН для ЗАПОЛНЕНИЯ'!AZ30<>\"\",'ШАБЛОН для ЗАПОЛНЕНИЯ'!AZ30,\"\")","v":""},{"$f":"IF('ШАБЛОН для ЗАПОЛНЕНИЯ'!BA30<>\"\",'ШАБЛОН для ЗАПОЛНЕНИЯ'!BA30,\"\")","v":""},{"$f":"IF('ШАБЛОН для ЗАПОЛНЕНИЯ'!BB30<>\"\",'ШАБЛОН для ЗАПОЛНЕНИЯ'!BB30,\"\")","v":""},{"$f":"IF('ШАБЛОН для ЗАПОЛНЕНИЯ'!BC30<>\"\",'ШАБЛОН для ЗАПОЛНЕНИЯ'!BC30,\"\")","v":""},{"$f":"IF('ШАБЛОН для ЗАПОЛНЕНИЯ'!BD30<>\"\",'ШАБЛОН для ЗАПОЛНЕНИЯ'!BD30,\"\")","v":""},{"$f":"IF('ШАБЛОН для ЗАПОЛНЕНИЯ'!BE30<>\"\",'ШАБЛОН для ЗАПОЛНЕНИЯ'!BE30,\"\")","v":""},{"$f":"IF('ШАБЛОН для ЗАПОЛНЕНИЯ'!BF30<>\"\",'ШАБЛОН для ЗАПОЛНЕНИЯ'!BF30,\"\")","v":""},{"$f":"IF('ШАБЛОН для ЗАПОЛНЕНИЯ'!BG30<>\"\",'ШАБЛОН для ЗАПОЛНЕНИЯ'!BG30,\"\")","v":""},{"$f":"IF('ШАБЛОН для ЗАПОЛНЕНИЯ'!BH30<>\"\",'ШАБЛОН для ЗАПОЛНЕНИЯ'!BH30,\"\")","v":""},{"$f":"IF('ШАБЛОН для ЗАПОЛНЕНИЯ'!BI30<>\"\",'ШАБЛОН для ЗАПОЛНЕНИЯ'!BI30,\"\")","v":""},{"$f":"IF('ШАБЛОН для ЗАПОЛНЕНИЯ'!BJ30<>\"\",'ШАБЛОН для ЗАПОЛНЕНИЯ'!BJ30,\"\")","v":""},{"$f":"IF('ШАБЛОН для ЗАПОЛНЕНИЯ'!BK30<>\"\",'ШАБЛОН для ЗАПОЛНЕНИЯ'!BK30,\"\")","v":""},{"$f":"IF('ШАБЛОН для ЗАПОЛНЕНИЯ'!BL30<>\"\",'ШАБЛОН для ЗАПОЛНЕНИЯ'!BL30,\"\")","v":""},{"$f":"IF('ШАБЛОН для ЗАПОЛНЕНИЯ'!BM30<>\"\",'ШАБЛОН для ЗАПОЛНЕНИЯ'!BM30,\"\")","v":""},{"$f":"IF('ШАБЛОН для ЗАПОЛНЕНИЯ'!BN30<>\"\",'ШАБЛОН для ЗАПОЛНЕНИЯ'!BN30,\"\")","v":""},{"$f":"IF('ШАБЛОН для ЗАПОЛНЕНИЯ'!BO30<>\"\",'ШАБЛОН для ЗАПОЛНЕНИЯ'!BO30,\"\")","v":""},{"$f":"IF('ШАБЛОН для ЗАПОЛНЕНИЯ'!BP30<>\"\",'ШАБЛОН для ЗАПОЛНЕНИЯ'!BP30,\"\")","v":""},{"$f":"IF('ШАБЛОН для ЗАПОЛНЕНИЯ'!BQ30<>\"\",'ШАБЛОН для ЗАПОЛНЕНИЯ'!BQ30,\"\")","v":""},{"$f":"IF('ШАБЛОН для ЗАПОЛНЕНИЯ'!BR30<>\"\",'ШАБЛОН для ЗАПОЛНЕНИЯ'!BR30,\"\")","v":""},{"$f":"IF('ШАБЛОН для ЗАПОЛНЕНИЯ'!BS30<>\"\",'ШАБЛОН для ЗАПОЛНЕНИЯ'!BS30,\"\")","v":""},{"$f":"IF('ШАБЛОН для ЗАПОЛНЕНИЯ'!BT30<>\"\",'ШАБЛОН для ЗАПОЛНЕНИЯ'!BT30,\"\")","v":""},{"$f":"IF('ШАБЛОН для ЗАПОЛНЕНИЯ'!BU30<>\"\",'ШАБЛОН для ЗАПОЛНЕНИЯ'!BU30,\"\")","v":""},{"$f":"IF('ШАБЛОН для ЗАПОЛНЕНИЯ'!BV30<>\"\",'ШАБЛОН для ЗАПОЛНЕНИЯ'!BV30,\"\")","v":""},{"$f":"IF('ШАБЛОН для ЗАПОЛНЕНИЯ'!BW30<>\"\",'ШАБЛОН для ЗАПОЛНЕНИЯ'!BW30,\"\")","v":""},{"$f":"IF('ШАБЛОН для ЗАПОЛНЕНИЯ'!BX30<>\"\",'ШАБЛОН для ЗАПОЛНЕНИЯ'!BX30,\"\")","v":""},{"$f":"IF('ШАБЛОН для ЗАПОЛНЕНИЯ'!BY30<>\"\",'ШАБЛОН для ЗАПОЛНЕНИЯ'!BY30,\"\")","v":""},{"$f":"IF('ШАБЛОН для ЗАПОЛНЕНИЯ'!BZ30<>\"\",'ШАБЛОН для ЗАПОЛНЕНИЯ'!BZ30,\"\")","v":""},{"$f":"IF('ШАБЛОН для ЗАПОЛНЕНИЯ'!CA30<>\"\",'ШАБЛОН для ЗАПОЛНЕНИЯ'!CA30,\"\")","v":""},{"$f":"IF('ШАБЛОН для ЗАПОЛНЕНИЯ'!CB30<>\"\",'ШАБЛОН для ЗАПОЛНЕНИЯ'!CB30,\"\")","v":""},{"$f":"IF('ШАБЛОН для ЗАПОЛНЕНИЯ'!CC30<>\"\",'ШАБЛОН для ЗАПОЛНЕНИЯ'!CC30,\"\")","v":""},{"$f":"IF('ШАБЛОН для ЗАПОЛНЕНИЯ'!CD30<>\"\",'ШАБЛОН для ЗАПОЛНЕНИЯ'!CD30,\"\")","v":""},{"$f":"IF('ШАБЛОН для ЗАПОЛНЕНИЯ'!CE30<>\"\",'ШАБЛОН для ЗАПОЛНЕНИЯ'!CE30,\"\")","v":""},{"$f":"IF('ШАБЛОН для ЗАПОЛНЕНИЯ'!CF30<>\"\",'ШАБЛОН для ЗАПОЛНЕНИЯ'!CF30,\"\")","v":""},{"$f":"IF('ШАБЛОН для ЗАПОЛНЕНИЯ'!CG30<>\"\",'ШАБЛОН для ЗАПОЛНЕНИЯ'!CG30,\"\")","v":""},{"$f":"IF('ШАБЛОН для ЗАПОЛНЕНИЯ'!CH30<>\"\",'ШАБЛОН для ЗАПОЛНЕНИЯ'!CH30,\"\")","v":""},{"$f":"IF('ШАБЛОН для ЗАПОЛНЕНИЯ'!CI30<>\"\",'ШАБЛОН для ЗАПОЛНЕНИЯ'!CI30,\"\")","v":""},{"$f":"IF('ШАБЛОН для ЗАПОЛНЕНИЯ'!CJ30<>\"\",'ШАБЛОН для ЗАПОЛНЕНИЯ'!CJ30,\"\")","v":""},{"$f":"IF('ШАБЛОН для ЗАПОЛНЕНИЯ'!CK30<>\"\",'ШАБЛОН для ЗАПОЛНЕНИЯ'!CK30,\"\")","v":""},{"$f":"IF('ШАБЛОН для ЗАПОЛНЕНИЯ'!CL30<>\"\",'ШАБЛОН для ЗАПОЛНЕНИЯ'!CL30,\"\")","v":""},{"$f":"IF('ШАБЛОН для ЗАПОЛНЕНИЯ'!CM30<>\"\",'ШАБЛОН для ЗАПОЛНЕНИЯ'!CM30,\"\")","v":""},{"$f":"IF('ШАБЛОН для ЗАПОЛНЕНИЯ'!CN30<>\"\",'ШАБЛОН для ЗАПОЛНЕНИЯ'!CN30,\"\")","v":""},{"$f":"IF('ШАБЛОН для ЗАПОЛНЕНИЯ'!CO30<>\"\",'ШАБЛОН для ЗАПОЛНЕНИЯ'!CO30,\"\")","v":""},{"$f":"IF('ШАБЛОН для ЗАПОЛНЕНИЯ'!CP30<>\"\",'ШАБЛОН для ЗАПОЛНЕНИЯ'!CP30,\"\")","v":""},{"$f":"IF('ШАБЛОН для ЗАПОЛНЕНИЯ'!CQ30<>\"\",'ШАБЛОН для ЗАПОЛНЕНИЯ'!CQ30,\"\")","v":""},{"$f":"IF('ШАБЛОН для ЗАПОЛНЕНИЯ'!CR30<>\"\",'ШАБЛОН для ЗАПОЛНЕНИЯ'!CR30,\"\")","v":""},{"$f":"IF('ШАБЛОН для ЗАПОЛНЕНИЯ'!CS30<>\"\",'ШАБЛОН для ЗАПОЛНЕНИЯ'!CS30,\"\")","v":""},{"$f":"IF('ШАБЛОН для ЗАПОЛНЕНИЯ'!CT30<>\"\",'ШАБЛОН для ЗАПОЛНЕНИЯ'!CT30,\"\")","v":""}]
["ЧЕТВЕРГ",1,{"$f":"IF('ШАБЛОН для ЗАПОЛНЕНИЯ'!C31<>\"\",'ШАБЛОН для ЗАПОЛНЕНИЯ'!C31,\"\")","v":"Рус.язык"},{"$f":"IF('ШАБЛОН для ЗАПОЛНЕНИЯ'!D31<>\"\",'ШАБЛОН для ЗАПОЛНЕНИЯ'!D31,\"\")","v":""},{"$f":"IF('ШАБЛОН для ЗАПОЛНЕНИЯ'!E31<>\"\",'ШАБЛОН для ЗАПОЛНЕНИЯ'!E31,\"\")","v":""},{"$f":"IF('ШАБЛОН для ЗАПОЛНЕНИЯ'!F31<>\"\",'ШАБЛОН для ЗАПОЛНЕНИЯ'!F31,\"\")","v":""},{"$f":"IF('ШАБЛОН для ЗАПОЛНЕНИЯ'!G31<>\"\",'ШАБЛОН для ЗАПОЛНЕНИЯ'!G31,\"\")","v":"ИЗО"},{"$f":"IF('ШАБЛОН для ЗАПОЛНЕНИЯ'!H31<>\"\",'ШАБЛОН для ЗАПОЛНЕНИЯ'!H31,\"\")","v":"---"},{"$f":"IF('ШАБЛОН для ЗАПОЛНЕНИЯ'!I31<>\"\",'ШАБЛОН для ЗАПОЛНЕНИЯ'!I31,\"\")","v":""},{"$f":"IF('ШАБЛОН для ЗАПОЛНЕНИЯ'!J31<>\"\",'ШАБЛОН для ЗАПОЛНЕНИЯ'!J31,\"\")","v":""},{"$f":"IF('ШАБЛОН для ЗАПОЛНЕНИЯ'!K31<>\"\",'ШАБЛОН для ЗАПОЛНЕНИЯ'!K31,\"\")","v":"Рус.язык"},{"$f":"IF('ШАБЛОН для ЗАПОЛНЕНИЯ'!L31<>\"\",'ШАБЛОН для ЗАПОЛНЕНИЯ'!L31,\"\")","v":""},{"$f":"IF('ШАБЛОН для ЗАПОЛНЕНИЯ'!M31<>\"\",'ШАБЛОН для ЗАПОЛНЕНИЯ'!M31,\"\")","v":""},{"$f":"IF('ШАБЛОН для ЗАПОЛНЕНИЯ'!N31<>\"\",'ШАБЛОН для ЗАПОЛНЕНИЯ'!N31,\"\")","v":""},{"$f":"IF('ШАБЛОН для ЗАПОЛНЕНИЯ'!O31<>\"\",'ШАБЛОН для ЗАПОЛНЕНИЯ'!O31,\"\")","v":"ИЗО"},{"$f":"IF('ШАБЛОН для ЗАПОЛНЕНИЯ'!P31<>\"\",'ШАБЛОН для ЗАПОЛНЕНИЯ'!P31,\"\")","v":""},{"$f":"IF('ШАБЛОН для ЗАПОЛНЕНИЯ'!Q31<>\"\",'ШАБЛОН для ЗАПОЛНЕНИЯ'!Q31,\"\")","v":""},{"$f":"IF('ШАБЛОН для ЗАПОЛНЕНИЯ'!R31<>\"\",'ШАБЛОН для ЗАПОЛНЕНИЯ'!R31,\"\")","v":""},{"$f":"IF('ШАБЛОН для ЗАПОЛНЕНИЯ'!S31<>\"\",'ШАБЛОН для ЗАПОЛНЕНИЯ'!S31,\"\")","v":"Литература"},{"$f":"IF('ШАБЛОН для ЗАПОЛНЕНИЯ'!T31<>\"\",'ШАБЛОН для ЗАПОЛНЕНИЯ'!T31,\"\")","v":""},{"$f":"IF('ШАБЛОН для ЗАПОЛНЕНИЯ'!U31<>\"\",'ШАБЛОН для ЗАПОЛНЕНИЯ'!U31,\"\")","v":""},{"$f":"IF('ШАБЛОН для ЗАПОЛНЕНИЯ'!V31<>\"\",'ШАБЛОН для ЗАПОЛНЕНИЯ'!V31,\"\")","v":""},{"$f":"IF('ШАБЛОН для ЗАПОЛНЕНИЯ'!W31<>\"\",'ШАБЛОН для ЗАПОЛНЕНИЯ'!W31,\"\")","v":"Англ.язык"},{"$f":"IF('ШАБЛОН для ЗАПОЛНЕНИЯ'!X31<>\"\",'ШАБЛОН для ЗАПОЛНЕНИЯ'!X31,\"\")","v":""},{"$f":"IF('ШАБЛОН для ЗАПОЛНЕНИЯ'!Y31<>\"\",'ШАБЛОН для ЗАПОЛНЕНИЯ'!Y31,\"\")","v":""},{"$f":"IF('ШАБЛОН для ЗАПОЛНЕНИЯ'!Z31<>\"\",'ШАБЛОН для ЗАПОЛНЕНИЯ'!Z31,\"\")","v":""},{"$f":"IF('ШАБЛОН для ЗАПОЛНЕНИЯ'!AA31<>\"\",'ШАБЛОН для ЗАПОЛНЕНИЯ'!AA31,\"\")","v":"Технология"},{"$f":"IF('ШАБЛОН для ЗАПОЛНЕНИЯ'!AB31<>\"\",'ШАБЛОН для ЗАПОЛНЕНИЯ'!AB31,\"\")","v":""},{"$f":"IF('ШАБЛОН для ЗАПОЛНЕНИЯ'!AC31<>\"\",'ШАБЛОН для ЗАПОЛНЕНИЯ'!AC31,\"\")","v":""},{"$f":"IF('ШАБЛОН для ЗАПОЛНЕНИЯ'!AD31<>\"\",'ШАБЛОН для ЗАПОЛНЕНИЯ'!AD31,\"\")","v":""},{"$f":"IF('ШАБЛОН для ЗАПОЛНЕНИЯ'!AE31<>\"\",'ШАБЛОН для ЗАПОЛНЕНИЯ'!AE31,\"\")","v":"История"},{"$f":"IF('ШАБЛОН для ЗАПОЛНЕНИЯ'!AF31<>\"\",'ШАБЛОН для ЗАПОЛНЕНИЯ'!AF31,\"\")","v":""},{"$f":"IF('ШАБЛОН для ЗАПОЛНЕНИЯ'!AG31<>\"\",'ШАБЛОН для ЗАПОЛНЕНИЯ'!AG31,\"\")","v":""},{"$f":"IF('ШАБЛОН для ЗАПОЛНЕНИЯ'!AH31<>\"\",'ШАБЛОН для ЗАПОЛНЕНИЯ'!AH31,\"\")","v":""},{"$f":"IF('ШАБЛОН для ЗАПОЛНЕНИЯ'!AI31<>\"\",'ШАБЛОН для ЗАПОЛНЕНИЯ'!AI31,\"\")","v":"Физкультура"},{"$f":"IF('ШАБЛОН для ЗАПОЛНЕНИЯ'!AJ31<>\"\",'ШАБЛОН для ЗАПОЛНЕНИЯ'!AJ31,\"\")","v":""},{"$f":"IF('ШАБЛОН для ЗАПОЛНЕНИЯ'!AK31<>\"\",'ШАБЛОН для ЗАПОЛНЕНИЯ'!AK31,\"\")","v":""},{"$f":"IF('ШАБЛОН для ЗАПОЛНЕНИЯ'!AL31<>\"\",'ШАБЛОН для ЗАПОЛНЕНИЯ'!AL31,\"\")","v":""},{"$f":"IF('ШАБЛОН для ЗАПОЛНЕНИЯ'!AM31<>\"\",'ШАБЛОН для ЗАПОЛНЕНИЯ'!AM31,\"\")","v":""},{"$f":"IF('ШАБЛОН для ЗАПОЛНЕНИЯ'!AN31<>\"\",'ШАБЛОН для ЗАПОЛНЕНИЯ'!AN31,\"\")","v":"---"},{"$f":"IF('ШАБЛОН для ЗАПОЛНЕНИЯ'!AO31<>\"\",'ШАБЛОН для ЗАПОЛНЕНИЯ'!AO31,\"\")","v":""},{"$f":"IF('ШАБЛОН для ЗАПОЛНЕНИЯ'!AP31<>\"\",'ШАБЛОН для ЗАПОЛНЕНИЯ'!AP31,\"\")","v":""},{"$f":"IF('ШАБЛОН для ЗАПОЛНЕНИЯ'!AQ31<>\"\",'ШАБЛОН для ЗАПОЛНЕНИЯ'!AQ31,\"\")","v":""},{"$f":"IF('ШАБЛОН для ЗАПОЛНЕНИЯ'!AR31<>\"\",'ШАБЛОН для ЗАПОЛНЕНИЯ'!AR31,\"\")","v":"---"},{"$f":"IF('ШАБЛОН для ЗАПОЛНЕНИЯ'!AS31<>\"\",'ШАБЛОН для ЗАПОЛНЕНИЯ'!AS31,\"\")","v":""},{"$f":"IF('ШАБЛОН для ЗАПОЛНЕНИЯ'!AT31<>\"\",'ШАБЛОН для ЗАПОЛНЕНИЯ'!AT31,\"\")","v":""},{"$f":"IF('ШАБЛОН для ЗАПОЛНЕНИЯ'!AU31<>\"\",'ШАБЛОН для ЗАПОЛНЕНИЯ'!AU31,\"\")","v":""},{"$f":"IF('ШАБЛОН для ЗАПОЛНЕНИЯ'!AV31<>\"\",'ШАБЛОН для ЗАПОЛНЕНИЯ'!AV31,\"\")","v":"---"},{"$f":"IF('ШАБЛОН для ЗАПОЛНЕНИЯ'!AW31<>\"\",'ШАБЛОН для ЗАПОЛНЕНИЯ'!AW31,\"\")","v":""},{"$f":"IF('ШАБЛОН для ЗАПОЛНЕНИЯ'!AX31<>\"\",'ШАБЛОН для ЗАПОЛНЕНИЯ'!AX31,\"\")","v":""},{"$f":"IF('ШАБЛОН для ЗАПОЛНЕНИЯ'!AY31<>\"\",'ШАБЛОН для ЗАПОЛНЕНИЯ'!AY31,\"\")","v":""},{"$f":"IF('ШАБЛОН для ЗАПОЛНЕНИЯ'!AZ31<>\"\",'ШАБЛОН для ЗАПОЛНЕНИЯ'!AZ31,\"\")","v":"---"},{"$f":"IF('ШАБЛОН для ЗАПОЛНЕНИЯ'!BA31<>\"\",'ШАБЛОН для ЗАПОЛНЕНИЯ'!BA31,\"\")","v":""},{"$f":"IF('ШАБЛОН для ЗАПОЛНЕНИЯ'!BB31<>\"\",'ШАБЛОН для ЗАПОЛНЕНИЯ'!BB31,\"\")","v":""},{"$f":"IF('ШАБЛОН для ЗАПОЛНЕНИЯ'!BC31<>\"\",'ШАБЛОН для ЗАПОЛНЕНИЯ'!BC31,\"\")","v":""},{"$f":"IF('ШАБЛОН для ЗАПОЛНЕНИЯ'!BD31<>\"\",'ШАБЛОН для ЗАПОЛНЕНИЯ'!BD31,\"\")","v":"---"},{"$f":"IF('ШАБЛОН для ЗАПОЛНЕНИЯ'!BE31<>\"\",'ШАБЛОН для ЗАПОЛНЕНИЯ'!BE31,\"\")","v":""},{"$f":"IF('ШАБЛОН для ЗАПОЛНЕНИЯ'!BF31<>\"\",'ШАБЛОН для ЗАПОЛНЕНИЯ'!BF31,\"\")","v":""},{"$f":"IF('ШАБЛОН для ЗАПОЛНЕНИЯ'!BG31<>\"\",'ШАБЛОН для ЗАПОЛНЕНИЯ'!BG31,\"\")","v":""},{"$f":"IF('ШАБЛОН для ЗАПОЛНЕНИЯ'!BH31<>\"\",'ШАБЛОН для ЗАПОЛНЕНИЯ'!BH31,\"\")","v":"---"},{"$f":"IF('ШАБЛОН для ЗАПОЛНЕНИЯ'!BI31<>\"\",'ШАБЛОН для ЗАПОЛНЕНИЯ'!BI31,\"\")","v":""},{"$f":"IF('ШАБЛОН для ЗАПОЛНЕНИЯ'!BJ31<>\"\",'ШАБЛОН для ЗАПОЛНЕНИЯ'!BJ31,\"\")","v":""},{"$f":"IF('ШАБЛОН для ЗАПОЛНЕНИЯ'!BK31<>\"\",'ШАБЛОН для ЗАПОЛНЕНИЯ'!BK31,\"\")","v":""},{"$f":"IF('ШАБЛОН для ЗАПОЛНЕНИЯ'!BL31<>\"\",'ШАБЛОН для ЗАПОЛНЕНИЯ'!BL31,\"\")","v":"---"},{"$f":"IF('ШАБЛОН для ЗАПОЛНЕНИЯ'!BM31<>\"\",'ШАБЛОН для ЗАПОЛНЕНИЯ'!BM31,\"\")","v":""},{"$f":"IF('ШАБЛОН для ЗАПОЛНЕНИЯ'!BN31<>\"\",'ШАБЛОН для ЗАПОЛНЕНИЯ'!BN31,\"\")","v":""},{"$f":"IF('ШАБЛОН для ЗАПОЛНЕНИЯ'!BO31<>\"\",'ШАБЛОН для ЗАПОЛНЕНИЯ'!BO31,\"\")","v":""},{"$f":"IF('ШАБЛОН для ЗАПОЛНЕНИЯ'!BP31<>\"\",'ШАБЛОН для ЗАПОЛНЕНИЯ'!BP31,\"\")","v":"---"},{"$f":"IF('ШАБЛОН для ЗАПОЛНЕНИЯ'!BQ31<>\"\",'ШАБЛОН для ЗАПОЛНЕНИЯ'!BQ31,\"\")","v":""},{"$f":"IF('ШАБЛОН для ЗАПОЛНЕНИЯ'!BR31<>\"\",'ШАБЛОН для ЗАПОЛНЕНИЯ'!BR31,\"\")","v":""},{"$f":"IF('ШАБЛОН для ЗАПОЛНЕНИЯ'!BS31<>\"\",'ШАБЛОН для ЗАПОЛНЕНИЯ'!BS31,\"\")","v":""},{"$f":"IF('ШАБЛОН для ЗАПОЛНЕНИЯ'!BT31<>\"\",'ШАБЛОН для ЗАПОЛНЕНИЯ'!BT31,\"\")","v":"---"},{"$f":"IF('ШАБЛОН для ЗАПОЛНЕНИЯ'!BU31<>\"\",'ШАБЛОН для ЗАПОЛНЕНИЯ'!BU31,\"\")","v":""},{"$f":"IF('ШАБЛОН для ЗАПОЛНЕНИЯ'!BV31<>\"\",'ШАБЛОН для ЗАПОЛНЕНИЯ'!BV31,\"\")","v":""},{"$f":"IF('ШАБЛОН для ЗАПОЛНЕНИЯ'!BW31<>\"\",'ШАБЛОН для ЗАПОЛНЕНИЯ'!BW31,\"\")","v":""},{"$f":"IF('ШАБЛОН для ЗАПОЛНЕНИЯ'!BX31<>\"\",'ШАБЛОН для ЗАПОЛНЕНИЯ'!BX31,\"\")","v":"---"},{"$f":"IF('ШАБЛОН для ЗАПОЛНЕНИЯ'!BY31<>\"\",'ШАБЛОН для ЗАПОЛНЕНИЯ'!BY31,\"\")","v":""},{"$f":"IF('ШАБЛОН для ЗАПОЛНЕНИЯ'!BZ31<>\"\",'ШАБЛОН для ЗАПОЛНЕНИЯ'!BZ31,\"\")","v":""},{"$f":"IF('ШАБЛОН для ЗАПОЛНЕНИЯ'!CA31<>\"\",'ШАБЛОН для ЗАПОЛНЕНИЯ'!CA31,\"\")","v":""},{"$f":"IF('ШАБЛОН для ЗАПОЛНЕНИЯ'!CB31<>\"\",'ШАБЛОН для ЗАПОЛНЕНИЯ'!CB31,\"\")","v":"---"},{"$f":"IF('ШАБЛОН для ЗАПОЛНЕНИЯ'!CC31<>\"\",'ШАБЛОН для ЗАПОЛНЕНИЯ'!CC31,\"\")","v":""},{"$f":"IF('ШАБЛОН для ЗАПОЛНЕНИЯ'!CD31<>\"\",'ШАБЛОН для ЗАПОЛНЕНИЯ'!CD31,\"\")","v":""},{"$f":"IF('ШАБЛОН для ЗАПОЛНЕНИЯ'!CE31<>\"\",'ШАБЛОН для ЗАПОЛНЕНИЯ'!CE31,\"\")","v":""},{"$f":"IF('ШАБЛОН для ЗАПОЛНЕНИЯ'!CF31<>\"\",'ШАБЛОН для ЗАПОЛНЕНИЯ'!CF31,\"\")","v":"---"},{"$f":"IF('ШАБЛОН для ЗАПОЛНЕНИЯ'!CG31<>\"\",'ШАБЛОН для ЗАПОЛНЕНИЯ'!CG31,\"\")","v":""},{"$f":"IF('ШАБЛОН для ЗАПОЛНЕНИЯ'!CH31<>\"\",'ШАБЛОН для ЗАПОЛНЕНИЯ'!CH31,\"\")","v":""},{"$f":"IF('ШАБЛОН для ЗАПОЛНЕНИЯ'!CI31<>\"\",'ШАБЛОН для ЗАПОЛНЕНИЯ'!CI31,\"\")","v":""},{"$f":"IF('ШАБЛОН для ЗАПОЛНЕНИЯ'!CJ31<>\"\",'ШАБЛОН для ЗАПОЛНЕНИЯ'!CJ31,\"\")","v":"---"},{"$f":"IF('ШАБЛОН для ЗАПОЛНЕНИЯ'!CK31<>\"\",'ШАБЛОН для ЗАПОЛНЕНИЯ'!CK31,\"\")","v":""},{"$f":"IF('ШАБЛОН для ЗАПОЛНЕНИЯ'!CL31<>\"\",'ШАБЛОН для ЗАПОЛНЕНИЯ'!CL31,\"\")","v":""},{"$f":"IF('ШАБЛОН для ЗАПОЛНЕНИЯ'!CM31<>\"\",'ШАБЛОН для ЗАПОЛНЕНИЯ'!CM31,\"\")","v":""},{"$f":"IF('ШАБЛОН для ЗАПОЛНЕНИЯ'!CN31<>\"\",'ШАБЛОН для ЗАПОЛНЕНИЯ'!CN31,\"\")","v":"---"},{"$f":"IF('ШАБЛОН для ЗАПОЛНЕНИЯ'!CO31<>\"\",'ШАБЛОН для ЗАПОЛНЕНИЯ'!CO31,\"\")","v":""},{"$f":"IF('ШАБЛОН для ЗАПОЛНЕНИЯ'!CP31<>\"\",'ШАБЛОН для ЗАПОЛНЕНИЯ'!CP31,\"\")","v":""},{"$f":"IF('ШАБЛОН для ЗАПОЛНЕНИЯ'!CQ31<>\"\",'ШАБЛОН для ЗАПОЛНЕНИЯ'!CQ31,\"\")","v":""},{"$f":"IF('ШАБЛОН для ЗАПОЛНЕНИЯ'!CR31<>\"\",'ШАБЛОН для ЗАПОЛНЕНИЯ'!CR31,\"\")","v":"---"},{"$f":"IF('ШАБЛОН для ЗАПОЛНЕНИЯ'!CS31<>\"\",'ШАБЛОН для ЗАПОЛНЕНИЯ'!CS31,\"\")","v":""},{"$f":"IF('ШАБЛОН для ЗАПОЛНЕНИЯ'!CT31<>\"\",'ШАБЛОН для ЗАПОЛНЕНИЯ'!CT31,\"\")","v":""}]
[null,2,{"$f":"IF('ШАБЛОН для ЗАПОЛНЕНИЯ'!C32<>\"\",'ШАБЛОН для ЗАПОЛНЕНИЯ'!C32,\"\")","v":"ИЗО"},{"$f":"IF('ШАБЛОН для ЗАПОЛНЕНИЯ'!D32<>\"\",'ШАБЛОН для ЗАПОЛНЕНИЯ'!D32,\"\")","v":""},{"$f":"IF('ШАБЛОН для ЗАПОЛНЕНИЯ'!E32<>\"\",'ШАБЛОН для ЗАПОЛНЕНИЯ'!E32,\"\")","v":""},{"$f":"IF('ШАБЛОН для ЗАПОЛНЕНИЯ'!F32<>\"\",'ШАБЛОН для ЗАПОЛНЕНИЯ'!F32,\"\")","v":""},{"$f":"IF('ШАБЛОН для ЗАПОЛНЕНИЯ'!G32<>\"\",'ШАБЛОН для ЗАПОЛНЕНИЯ'!G32,\"\")","v":"Математика"},{"$f":"IF('ШАБЛОН для ЗАПОЛНЕНИЯ'!H32<>\"\",'ШАБЛОН для ЗАПОЛНЕНИЯ'!H32,\"\")","v":""},{"$f":"IF('ШАБЛОН для ЗАПОЛНЕНИЯ'!I32<>\"\",'ШАБЛОН для ЗАПОЛНЕНИЯ'!I32,\"\")","v":""},{"$f":"IF('ШАБЛОН для ЗАПОЛНЕНИЯ'!J32<>\"\",'ШАБЛОН для ЗАПОЛНЕНИЯ'!J32,\"\")","v":""},{"$f":"IF('ШАБЛОН для ЗАПОЛНЕНИЯ'!K32<>\"\",'ШАБЛОН для ЗАПОЛНЕНИЯ'!K32,\"\")","v":"Рус.язык"},{"$f":"IF('ШАБЛОН для ЗАПОЛНЕНИЯ'!L32<>\"\",'ШАБЛОН для ЗАПОЛНЕНИЯ'!L32,\"\")","v":""},{"$f":"IF('ШАБЛОН для ЗАПОЛНЕНИЯ'!M32<>\"\",'ШАБЛОН для ЗАПОЛНЕНИЯ'!M32,\"\")","v":""},{"$f":"IF('ШАБЛОН для ЗАПОЛНЕНИЯ'!N32<>\"\",'ШАБЛОН для ЗАПОЛНЕНИЯ'!N32,\"\")","v":""},{"$f":"IF('ШАБЛОН для ЗАПОЛНЕНИЯ'!O32<>\"\",'ШАБЛОН для ЗАПОЛНЕНИЯ'!O32,\"\")","v":"Математика"},{"$f":"IF('ШАБЛОН для ЗАПОЛНЕНИЯ'!P32<>\"\",'ШАБЛОН для ЗАПОЛНЕНИЯ'!P32,\"\")","v":""},{"$f":"IF('ШАБЛОН для ЗАПОЛНЕНИЯ'!Q32<>\"\",'ШАБЛОН для ЗАПОЛНЕНИЯ'!Q32,\"\")","v":""},{"$f":"IF('ШАБЛОН для ЗАПОЛНЕНИЯ'!R32<>\"\",'ШАБЛОН для ЗАПОЛНЕНИЯ'!R32,\"\")","v":""},{"$f":"IF('ШАБЛОН для ЗАПОЛНЕНИЯ'!S32<>\"\",'ШАБЛОН для ЗАПОЛНЕНИЯ'!S32,\"\")","v":"География"},{"$f":"IF('ШАБЛОН для ЗАПОЛНЕНИЯ'!T32<>\"\",'ШАБЛОН для ЗАПОЛНЕНИЯ'!T32,\"\")","v":""},{"$f":"IF('ШАБЛОН для ЗАПОЛНЕНИЯ'!U32<>\"\",'ШАБЛОН для ЗАПОЛНЕНИЯ'!U32,\"\")","v":""},{"$f":"IF('ШАБЛОН для ЗАПОЛНЕНИЯ'!V32<>\"\",'ШАБЛОН для ЗАПОЛНЕНИЯ'!V32,\"\")","v":""},{"$f":"IF('ШАБЛОН для ЗАПОЛНЕНИЯ'!W32<>\"\",'ШАБЛОН для ЗАПОЛНЕНИЯ'!W32,\"\")","v":"Литература"},{"$f":"IF('ШАБЛОН для ЗАПОЛНЕНИЯ'!X32<>\"\",'ШАБЛОН для ЗАПОЛНЕНИЯ'!X32,\"\")","v":""},{"$f":"IF('ШАБЛОН для ЗАПОЛНЕНИЯ'!Y32<>\"\",'ШАБЛОН для ЗАПОЛНЕНИЯ'!Y32,\"\")","v":""},{"$f":"IF('ШАБЛОН для ЗАПОЛНЕНИЯ'!Z32<>\"\",'ШАБЛОН для ЗАПОЛНЕНИЯ'!Z32,\"\")","v":""},{"$f":"IF('ШАБЛОН для ЗАПОЛНЕНИЯ'!AA32<>\"\",'ШАБЛОН для ЗАПОЛНЕНИЯ'!AA32,\"\")","v":"История"},{"$f":"IF('ШАБЛОН для ЗАПОЛНЕНИЯ'!AB32<>\"\",'ШАБЛОН для ЗАПОЛНЕНИЯ'!AB32,\"\")","v":""},{"$f":"IF('ШАБЛОН для ЗАПОЛНЕНИЯ'!AC32<>\"\",'ШАБЛОН для ЗАПОЛНЕНИЯ'!AC32,\"\")","v":""},{"$f":"IF('ШАБЛОН для ЗАПОЛНЕНИЯ'!AD32<>\"\",'ШАБЛОН для ЗАПОЛНЕНИЯ'!AD32,\"\")","v":""},{"$f":"IF('ШАБЛОН для ЗАПОЛНЕНИЯ'!AE32<>\"\",'ШАБЛОН для ЗАПОЛНЕНИЯ'!AE32,\"\")","v":"Англ.язык"},{"$f":"IF('ШАБЛОН для ЗАПОЛНЕНИЯ'!AF32<>\"\",'ШАБЛОН для ЗАПОЛНЕНИЯ'!AF32,\"\")","v":""},{"$f":"IF('ШАБЛОН для ЗАПОЛНЕНИЯ'!AG32<>\"\",'ШАБЛОН для ЗАПОЛНЕНИЯ'!AG32,\"\")","v":""},{"$f":"IF('ШАБЛОН для ЗАПОЛНЕНИЯ'!AH32<>\"\",'ШАБЛОН для ЗАПОЛНЕНИЯ'!AH32,\"\")","v":""},{"$f":"IF('ШАБЛОН для ЗАПОЛНЕНИЯ'!AI32<>\"\",'ШАБЛОН для ЗАПОЛНЕНИЯ'!AI32,\"\")","v":"Алгебра"},{"$f":"IF('ШАБЛОН для ЗАПОЛНЕНИЯ'!AJ32<>\"\",'ШАБЛОН для ЗАПОЛНЕНИЯ'!AJ32,\"\")","v":""},{"$f":"IF('ШАБЛОН для ЗАПОЛНЕНИЯ'!AK32<>\"\",'ШАБЛОН для ЗАПОЛНЕНИЯ'!AK32,\"\")","v":""},{"$f":"IF('ШАБЛОН для ЗАПОЛНЕНИЯ'!AL32<>\"\",'ШАБЛОН для ЗАПОЛНЕНИЯ'!AL32,\"\")","v":""},{"$f":"IF('ШАБЛОН для ЗАПОЛНЕНИЯ'!AM32<>\"\",'ШАБЛОН для ЗАПОЛНЕНИЯ'!AM32,\"\")","v":""},{"$f":"IF('ШАБЛОН для ЗАПОЛНЕНИЯ'!AN32<>\"\",'ШАБЛОН для ЗАПОЛНЕНИЯ'!AN32,\"\")","v":""},{"$f":"IF('ШАБЛОН для ЗАПОЛНЕНИЯ'!AO32<>\"\",'ШАБЛОН для ЗАПОЛНЕНИЯ'!AO32,\"\")","v":""},{"$f":"IF('ШАБЛОН для ЗАПОЛНЕНИЯ'!AP32<>\"\",'ШАБЛОН для ЗАПОЛНЕНИЯ'!AP32,\"\")","v":""},{"$f":"IF('ШАБЛОН для ЗАПОЛНЕНИЯ'!AQ32<>\"\",'ШАБЛОН для ЗАПОЛНЕНИЯ'!AQ32,\"\")","v":""},{"$f":"IF('ШАБЛОН для ЗАПОЛНЕНИЯ'!AR32<>\"\",'ШАБЛОН для ЗАПОЛНЕНИЯ'!AR32,\"\")","v":""},{"$f":"IF('ШАБЛОН для ЗАПОЛНЕНИЯ'!AS32<>\"\",'ШАБЛОН для ЗАПОЛНЕНИЯ'!AS32,\"\")","v":""},{"$f":"IF('ШАБЛОН для ЗАПОЛНЕНИЯ'!AT32<>\"\",'ШАБЛОН для ЗАПОЛНЕНИЯ'!AT32,\"\")","v":""},{"$f":"IF('ШАБЛОН для ЗАПОЛНЕНИЯ'!AU32<>\"\",'ШАБЛОН для ЗАПОЛНЕНИЯ'!AU32,\"\")","v":""},{"$f":"IF('ШАБЛОН для ЗАПОЛНЕНИЯ'!AV32<>\"\",'ШАБЛОН для ЗАПОЛНЕНИЯ'!AV32,\"\")","v":""},{"$f":"IF('ШАБЛОН для ЗАПОЛНЕНИЯ'!AW32<>\"\",'ШАБЛОН для ЗАПОЛНЕНИЯ'!AW32,\"\")","v":""},{"$f":"IF('ШАБЛОН для ЗАПОЛНЕНИЯ'!AX32<>\"\",'ШАБЛОН для ЗАПОЛНЕНИЯ'!AX32,\"\")","v":""},{"$f":"IF('ШАБЛОН для ЗАПОЛНЕНИЯ'!AY32<>\"\",'ШАБЛОН для ЗАПОЛНЕНИЯ'!AY32,\"\")","v":""},{"$f":"IF('ШАБЛОН для ЗАПОЛНЕНИЯ'!AZ32<>\"\",'ШАБЛОН для ЗАПОЛНЕНИЯ'!AZ32,\"\")","v":""},{"$f":"IF('ШАБЛОН для ЗАПОЛНЕНИЯ'!BA32<>\"\",'ШАБЛОН для ЗАПОЛНЕНИЯ'!BA32,\"\")","v":""},{"$f":"IF('ШАБЛОН для ЗАПОЛНЕНИЯ'!BB32<>\"\",'ШАБЛОН для ЗАПОЛНЕНИЯ'!BB32,\"\")","v":""},{"$f":"IF('ШАБЛОН для ЗАПОЛНЕНИЯ'!BC32<>\"\",'ШАБЛОН для ЗАПОЛНЕНИЯ'!BC32,\"\")","v":""},{"$f":"IF('ШАБЛОН для ЗАПОЛНЕНИЯ'!BD32<>\"\",'ШАБЛОН для ЗАПОЛНЕНИЯ'!BD32,\"\")","v":""},{"$f":"IF('ШАБЛОН для ЗАПОЛНЕНИЯ'!BE32<>\"\",'ШАБЛОН для ЗАПОЛНЕНИЯ'!BE32,\"\")","v":""},{"$f":"IF('ШАБЛОН для ЗАПОЛНЕНИЯ'!BF32<>\"\",'ШАБЛОН для ЗАПОЛНЕНИЯ'!BF32,\"\")","v":""},{"$f":"IF('ШАБЛОН для ЗАПОЛНЕНИЯ'!BG32<>\"\",'ШАБЛОН для ЗАПОЛНЕНИЯ'!BG32,\"\")","v":""},{"$f":"IF('ШАБЛОН для ЗАПОЛНЕНИЯ'!BH32<>\"\",'ШАБЛОН для ЗАПОЛНЕНИЯ'!BH32,\"\")","v":""},{"$f":"IF('ШАБЛОН для ЗАПОЛНЕНИЯ'!BI32<>\"\",'ШАБЛОН для ЗАПОЛНЕНИЯ'!BI32,\"\")","v":""},{"$f":"IF('ШАБЛОН для ЗАПОЛНЕНИЯ'!BJ32<>\"\",'ШАБЛОН для ЗАПОЛНЕНИЯ'!BJ32,\"\")","v":""},{"$f":"IF('ШАБЛОН для ЗАПОЛНЕНИЯ'!BK32<>\"\",'ШАБЛОН для ЗАПОЛНЕНИЯ'!BK32,\"\")","v":""},{"$f":"IF('ШАБЛОН для ЗАПОЛНЕНИЯ'!BL32<>\"\",'ШАБЛОН для ЗАПОЛНЕНИЯ'!BL32,\"\")","v":""},{"$f":"IF('ШАБЛОН для ЗАПОЛНЕНИЯ'!BM32<>\"\",'ШАБЛОН для ЗАПОЛНЕНИЯ'!BM32,\"\")","v":""},{"$f":"IF('ШАБЛОН для ЗАПОЛНЕНИЯ'!BN32<>\"\",'ШАБЛОН для ЗАПОЛНЕНИЯ'!BN32,\"\")","v":""},{"$f":"IF('ШАБЛОН для ЗАПОЛНЕНИЯ'!BO32<>\"\",'ШАБЛОН для ЗАПОЛНЕНИЯ'!BO32,\"\")","v":""},{"$f":"IF('ШАБЛОН для ЗАПОЛНЕНИЯ'!BP32<>\"\",'ШАБЛОН для ЗАПОЛНЕНИЯ'!BP32,\"\")","v":""},{"$f":"IF('ШАБЛОН для ЗАПОЛНЕНИЯ'!BQ32<>\"\",'ШАБЛОН для ЗАПОЛНЕНИЯ'!BQ32,\"\")","v":""},{"$f":"IF('ШАБЛОН для ЗАПОЛНЕНИЯ'!BR32<>\"\",'ШАБЛОН для ЗАПОЛНЕНИЯ'!BR32,\"\")","v":""},{"$f":"IF('ШАБЛОН для ЗАПОЛНЕНИЯ'!BS32<>\"\",'ШАБЛОН для ЗАПОЛНЕНИЯ'!BS32,\"\")","v":""},{"$f":"IF('ШАБЛОН для ЗАПОЛНЕНИЯ'!BT32<>\"\",'ШАБЛОН для ЗАПОЛНЕНИЯ'!BT32,\"\")","v":""},{"$f":"IF('ШАБЛОН для ЗАПОЛНЕНИЯ'!BU32<>\"\",'ШАБЛОН для ЗАПОЛНЕНИЯ'!BU32,\"\")","v":""},{"$f":"IF('ШАБЛОН для ЗАПОЛНЕНИЯ'!BV32<>\"\",'ШАБЛОН для ЗАПОЛНЕНИЯ'!BV32,\"\")","v":""},{"$f":"IF('ШАБЛОН для ЗАПОЛНЕНИЯ'!BW32<>\"\",'ШАБЛОН для ЗАПОЛНЕНИЯ'!BW32,\"\")","v":""},{"$f":"IF('ШАБЛОН для ЗАПОЛНЕНИЯ'!BX32<>\"\",'ШАБЛОН для ЗАПОЛНЕНИЯ'!BX32,\"\")","v":""},{"$f":"IF('ШАБЛОН для ЗАПОЛНЕНИЯ'!BY32<>\"\",'ШАБЛОН для ЗАПОЛНЕНИЯ'!BY32,\"\")","v":""},{"$f":"IF('ШАБЛОН для ЗАПОЛНЕНИЯ'!BZ32<>\"\",'ШАБЛОН для ЗАПОЛНЕНИЯ'!BZ32,\"\")","v":""},{"$f":"IF('ШАБЛОН для ЗАПОЛНЕНИЯ'!CA32<>\"\",'ШАБЛОН для ЗАПОЛНЕНИЯ'!CA32,\"\")","v":""},{"$f":"IF('ШАБЛОН для ЗАПОЛНЕНИЯ'!CB32<>\"\",'ШАБЛОН для ЗАПОЛНЕНИЯ'!CB32,\"\")","v":""},{"$f":"IF('ШАБЛОН для ЗАПОЛНЕНИЯ'!CC32<>\"\",'ШАБЛОН для ЗАПОЛНЕНИЯ'!CC32,\"\")","v":""},{"$f":"IF('ШАБЛОН для ЗАПОЛНЕНИЯ'!CD32<>\"\",'ШАБЛОН для ЗАПОЛНЕНИЯ'!CD32,\"\")","v":""},{"$f":"IF('ШАБЛОН для ЗАПОЛНЕНИЯ'!CE32<>\"\",'ШАБЛОН для ЗАПОЛНЕНИЯ'!CE32,\"\")","v":""},{"$f":"IF('ШАБЛОН для ЗАПОЛНЕНИЯ'!CF32<>\"\",'ШАБЛОН для ЗАПОЛНЕНИЯ'!CF32,\"\")","v":""},{"$f":"IF('ШАБЛОН для ЗАПОЛНЕНИЯ'!CG32<>\"\",'ШАБЛОН для ЗАПОЛНЕНИЯ'!CG32,\"\")","v":""},{"$f":"IF('ШАБЛОН для ЗАПОЛНЕНИЯ'!CH32<>\"\",'ШАБЛОН для ЗАПОЛНЕНИЯ'!CH32,\"\")","v":""},{"$f":"IF('ШАБЛОН для ЗАПОЛНЕНИЯ'!CI32<>\"\",'ШАБЛОН для ЗАПОЛНЕНИЯ'!CI32,\"\")","v":""},{"$f":"IF('ШАБЛОН для ЗАПОЛНЕНИЯ'!CJ32<>\"\",'ШАБЛОН для ЗАПОЛНЕНИЯ'!CJ32,\"\")","v":""},{"$f":"IF('ШАБЛОН для ЗАПОЛНЕНИЯ'!CK32<>\"\",'ШАБЛОН для ЗАПОЛНЕНИЯ'!CK32,\"\")","v":""},{"$f":"IF('ШАБЛОН для ЗАПОЛНЕНИЯ'!CL32<>\"\",'ШАБЛОН для ЗАПОЛНЕНИЯ'!CL32,\"\")","v":""},{"$f":"IF('ШАБЛОН для ЗАПОЛНЕНИЯ'!CM32<>\"\",'ШАБЛОН для ЗАПОЛНЕНИЯ'!CM32,\"\")","v":""},{"$f":"IF('ШАБЛОН для ЗАПОЛНЕНИЯ'!CN32<>\"\",'ШАБЛОН для ЗАПОЛНЕНИЯ'!CN32,\"\")","v":""},{"$f":"IF('ШАБЛОН для ЗАПОЛНЕНИЯ'!CO32<>\"\",'ШАБЛОН для ЗАПОЛНЕНИЯ'!CO32,\"\")","v":""},{"$f":"IF('ШАБЛОН для ЗАПОЛНЕНИЯ'!CP32<>\"\",'ШАБЛОН для ЗАПОЛНЕНИЯ'!CP32,\"\")","v":""},{"$f":"IF('ШАБЛОН для ЗАПОЛНЕНИЯ'!CQ32<>\"\",'ШАБЛОН для ЗАПОЛНЕНИЯ'!CQ32,\"\")","v":""},{"$f":"IF('ШАБЛОН для ЗАПОЛНЕНИЯ'!CR32<>\"\",'ШАБЛОН для ЗАПОЛНЕНИЯ'!CR32,\"\")","v":""},{"$f":"IF('ШАБЛОН для ЗАПОЛНЕНИЯ'!CS32<>\"\",'ШАБЛОН для ЗАПОЛНЕНИЯ'!CS32,\"\")","v":""},{"$f":"IF('ШАБЛОН для ЗАПОЛНЕНИЯ'!CT32<>\"\",'ШАБЛОН для ЗАПОЛНЕНИЯ'!CT32,\"\")","v":""}]
[null,3,{"$f":"IF('ШАБЛОН для ЗАПОЛНЕНИЯ'!C33<>\"\",'ШАБЛОН для ЗАПОЛНЕНИЯ'!C33,\"\")","v":"Математика"},{"$f":"IF('ШАБЛОН для ЗАПОЛНЕНИЯ'!D33<>\"\",'ШАБЛОН для ЗАПОЛНЕНИЯ'!D33,\"\")","v":""},{"$f":"IF('ШАБЛОН для ЗАПОЛНЕНИЯ'!E33<>\"\",'ШАБЛОН для ЗАПОЛНЕНИЯ'!E33,\"\")","v":""},{"$f":"IF('ШАБЛОН для ЗАПОЛНЕНИЯ'!F33<>\"\",'ШАБЛОН для ЗАПОЛНЕНИЯ'!F33,\"\")","v":""},{"$f":"IF('ШАБЛОН для ЗАПОЛНЕНИЯ'!G33<>\"\",'ШАБЛОН для ЗАПОЛНЕНИЯ'!G33,\"\")","v":"Рус.язык"},{"$f":"IF('ШАБЛОН для ЗАПОЛНЕНИЯ'!H33<>\"\",'ШАБЛОН для ЗАПОЛНЕНИЯ'!H33,\"\")","v":""},{"$f":"IF('ШАБЛОН для ЗАПОЛНЕНИЯ'!I33<>\"\",'ШАБЛОН для ЗАПОЛНЕНИЯ'!I33,\"\")","v":""},{"$f":"IF('ШАБЛОН для ЗАПОЛНЕНИЯ'!J33<>\"\",'ШАБЛОН для ЗАПОЛНЕНИЯ'!J33,\"\")","v":""},{"$f":"IF('ШАБЛОН для ЗАПОЛНЕНИЯ'!K33<>\"\",'ШАБЛОН для ЗАПОЛНЕНИЯ'!K33,\"\")","v":"Математика"},{"$f":"IF('ШАБЛОН для ЗАПОЛНЕНИЯ'!L33<>\"\",'ШАБЛОН для ЗАПОЛНЕНИЯ'!L33,\"\")","v":""},{"$f":"IF('ШАБЛОН для ЗАПОЛНЕНИЯ'!M33<>\"\",'ШАБЛОН для ЗАПОЛНЕНИЯ'!M33,\"\")","v":""},{"$f":"IF('ШАБЛОН для ЗАПОЛНЕНИЯ'!N33<>\"\",'ШАБЛОН для ЗАПОЛНЕНИЯ'!N33,\"\")","v":""},{"$f":"IF('ШАБЛОН для ЗАПОЛНЕНИЯ'!O33<>\"\",'ШАБЛОН для ЗАПОЛНЕНИЯ'!O33,\"\")","v":"Рус.язык"},{"$f":"IF('ШАБЛОН для ЗАПОЛНЕНИЯ'!P33<>\"\",'ШАБЛОН для ЗАПОЛНЕНИЯ'!P33,\"\")","v":""},{"$f":"IF('ШАБЛОН для ЗАПОЛНЕНИЯ'!Q33<>\"\",'ШАБЛОН для ЗАПОЛНЕНИЯ'!Q33,\"\")","v":""},{"$f":"IF('ШАБЛОН для ЗАПОЛНЕНИЯ'!R33<>\"\",'ШАБЛОН для ЗАПОЛНЕНИЯ'!R33,\"\")","v":""},{"$f":"IF('ШАБЛОН для ЗАПОЛНЕНИЯ'!S33<>\"\",'ШАБЛОН для ЗАПОЛНЕНИЯ'!S33,\"\")","v":"Англ.язык"},{"$f":"IF('ШАБЛОН для ЗАПОЛНЕНИЯ'!T33<>\"\",'ШАБЛОН для ЗАПОЛНЕНИЯ'!T33,\"\")","v":""},{"$f":"IF('ШАБЛОН для ЗАПОЛНЕНИЯ'!U33<>\"\",'ШАБЛОН для ЗАПОЛНЕНИЯ'!U33,\"\")","v":""},{"$f":"IF('ШАБЛОН для ЗАПОЛНЕНИЯ'!V33<>\"\",'ШАБЛОН для ЗАПОЛНЕНИЯ'!V33,\"\")","v":""},{"$f":"IF('ШАБЛОН для ЗАПОЛНЕНИЯ'!W33<>\"\",'ШАБЛОН для ЗАПОЛНЕНИЯ'!W33,\"\")","v":"Рус.язык"},{"$f":"IF('ШАБЛОН для ЗАПОЛНЕНИЯ'!X33<>\"\",'ШАБЛОН для ЗАПОЛНЕНИЯ'!X33,\"\")","v":""},{"$f":"IF('ШАБЛОН для ЗАПОЛНЕНИЯ'!Y33<>\"\",'ШАБЛОН для ЗАПОЛНЕНИЯ'!Y33,\"\")","v":""},{"$f":"IF('ШАБЛОН для ЗАПОЛНЕНИЯ'!Z33<>\"\",'ШАБЛОН для ЗАПОЛНЕНИЯ'!Z33,\"\")","v":""},{"$f":"IF('ШАБЛОН для ЗАПОЛНЕНИЯ'!AA33<>\"\",'ШАБЛОН для ЗАПОЛНЕНИЯ'!AA33,\"\")","v":"Рус.язык"},{"$f":"IF('ШАБЛОН для ЗАПОЛНЕНИЯ'!AB33<>\"\",'ШАБЛОН для ЗАПОЛНЕНИЯ'!AB33,\"\")","v":""},{"$f":"IF('ШАБЛОН для ЗАПОЛНЕНИЯ'!AC33<>\"\",'ШАБЛОН для ЗАПОЛНЕНИЯ'!AC33,\"\")","v":""},{"$f":"IF('ШАБЛОН для ЗАПОЛНЕНИЯ'!AD33<>\"\",'ШАБЛОН для ЗАПОЛНЕНИЯ'!AD33,\"\")","v":""},{"$f":"IF('ШАБЛОН для ЗАПОЛНЕНИЯ'!AE33<>\"\",'ШАБЛОН для ЗАПОЛНЕНИЯ'!AE33,\"\")","v":"Информатика"},{"$f":"IF('ШАБЛОН для ЗАПОЛНЕНИЯ'!AF33<>\"\",'ШАБЛОН для ЗАПОЛНЕНИЯ'!AF33,\"\")","v":""},{"$f":"IF('ШАБЛОН для ЗАПОЛНЕНИЯ'!AG33<>\"\",'ШАБЛОН для ЗАПОЛНЕНИЯ'!AG33,\"\")","v":""},{"$f":"IF('ШАБЛОН для ЗАПОЛНЕНИЯ'!AH33<>\"\",'ШАБЛОН для ЗАПОЛНЕНИЯ'!AH33,\"\")","v":""},{"$f":"IF('ШАБЛОН для ЗАПОЛНЕНИЯ'!AI33<>\"\",'ШАБЛОН для ЗАПОЛНЕНИЯ'!AI33,\"\")","v":"Химия"},{"$f":"IF('ШАБЛОН для ЗАПОЛНЕНИЯ'!AJ33<>\"\",'ШАБЛОН для ЗАПОЛНЕНИЯ'!AJ33,\"\")","v":""},{"$f":"IF('ШАБЛОН для ЗАПОЛНЕНИЯ'!AK33<>\"\",'ШАБЛОН для ЗАПОЛНЕНИЯ'!AK33,\"\")","v":""},{"$f":"IF('ШАБЛОН для ЗАПОЛНЕНИЯ'!AL33<>\"\",'ШАБЛОН для ЗАПОЛНЕНИЯ'!AL33,\"\")","v":""},{"$f":"IF('ШАБЛОН для ЗАПОЛНЕНИЯ'!AM33<>\"\",'ШАБЛОН для ЗАПОЛНЕНИЯ'!AM33,\"\")","v":""},{"$f":"IF('ШАБЛОН для ЗАПОЛНЕНИЯ'!AN33<>\"\",'ШАБЛОН для ЗАПОЛНЕНИЯ'!AN33,\"\")","v":""},{"$f":"IF('ШАБЛОН для ЗАПОЛНЕНИЯ'!AO33<>\"\",'ШАБЛОН для ЗАПОЛНЕНИЯ'!AO33,\"\")","v":""},{"$f":"IF('ШАБЛОН для ЗАПОЛНЕНИЯ'!AP33<>\"\",'ШАБЛОН для ЗАПОЛНЕНИЯ'!AP33,\"\")","v":""},{"$f":"IF('ШАБЛОН для ЗАПОЛНЕНИЯ'!AQ33<>\"\",'ШАБЛОН для ЗАПОЛНЕНИЯ'!AQ33,\"\")","v":""},{"$f":"IF('ШАБЛОН для ЗАПОЛНЕНИЯ'!AR33<>\"\",'ШАБЛОН для ЗАПОЛНЕНИЯ'!AR33,\"\")","v":""},{"$f":"IF('ШАБЛОН для ЗАПОЛНЕНИЯ'!AS33<>\"\",'ШАБЛОН для ЗАПОЛНЕНИЯ'!AS33,\"\")","v":""},{"$f":"IF('ШАБЛОН для ЗАПОЛНЕНИЯ'!AT33<>\"\",'ШАБЛОН для ЗАПОЛНЕНИЯ'!AT33,\"\")","v":""},{"$f":"IF('ШАБЛОН для ЗАПОЛНЕНИЯ'!AU33<>\"\",'ШАБЛОН для ЗАПОЛНЕНИЯ'!AU33,\"\")","v":""},{"$f":"IF('ШАБЛОН для ЗАПОЛНЕНИЯ'!AV33<>\"\",'ШАБЛОН для ЗАПОЛНЕНИЯ'!AV33,\"\")","v":""},{"$f":"IF('ШАБЛОН для ЗАПОЛНЕНИЯ'!AW33<>\"\",'ШАБЛОН для ЗАПОЛНЕНИЯ'!AW33,\"\")","v":""},{"$f":"IF('ШАБЛОН для ЗАПОЛНЕНИЯ'!AX33<>\"\",'ШАБЛОН для ЗАПОЛНЕНИЯ'!AX33,\"\")","v":""},{"$f":"IF('ШАБЛОН для ЗАПОЛНЕНИЯ'!AY33<>\"\",'ШАБЛОН для ЗАПОЛНЕНИЯ'!AY33,\"\")","v":""},{"$f":"IF('ШАБЛОН для ЗАПОЛНЕНИЯ'!AZ33<>\"\",'ШАБЛОН для ЗАПОЛНЕНИЯ'!AZ33,\"\")","v":""},{"$f":"IF('ШАБЛОН для ЗАПОЛНЕНИЯ'!BA33<>\"\",'ШАБЛОН для ЗАПОЛНЕНИЯ'!BA33,\"\")","v":""},{"$f":"IF('ШАБЛОН для ЗАПОЛНЕНИЯ'!BB33<>\"\",'ШАБЛОН для ЗАПОЛНЕНИЯ'!BB33,\"\")","v":""},{"$f":"IF('ШАБЛОН для ЗАПОЛНЕНИЯ'!BC33<>\"\",'ШАБЛОН для ЗАПОЛНЕНИЯ'!BC33,\"\")","v":""},{"$f":"IF('ШАБЛОН для ЗАПОЛНЕНИЯ'!BD33<>\"\",'ШАБЛОН для ЗАПОЛНЕНИЯ'!BD33,\"\")","v":""},{"$f":"IF('ШАБЛОН для ЗАПОЛНЕНИЯ'!BE33<>\"\",'ШАБЛОН для ЗАПОЛНЕНИЯ'!BE33,\"\")","v":""},{"$f":"IF('ШАБЛОН для ЗАПОЛНЕНИЯ'!BF33<>\"\",'ШАБЛОН для ЗАПОЛНЕНИЯ'!BF33,\"\")","v":""},{"$f":"IF('ШАБЛОН для ЗАПОЛНЕНИЯ'!BG33<>\"\",'ШАБЛОН для ЗАПОЛНЕНИЯ'!BG33,\"\")","v":""},{"$f":"IF('ШАБЛОН для ЗАПОЛНЕНИЯ'!BH33<>\"\",'ШАБЛОН для ЗАПОЛНЕНИЯ'!BH33,\"\")","v":""},{"$f":"IF('ШАБЛОН для ЗАПОЛНЕНИЯ'!BI33<>\"\",'ШАБЛОН для ЗАПОЛНЕНИЯ'!BI33,\"\")","v":""},{"$f":"IF('ШАБЛОН для ЗАПОЛНЕНИЯ'!BJ33<>\"\",'ШАБЛОН для ЗАПОЛНЕНИЯ'!BJ33,\"\")","v":""},{"$f":"IF('ШАБЛОН для ЗАПОЛНЕНИЯ'!BK33<>\"\",'ШАБЛОН для ЗАПОЛНЕНИЯ'!BK33,\"\")","v":""},{"$f":"IF('ШАБЛОН для ЗАПОЛНЕНИЯ'!BL33<>\"\",'ШАБЛОН для ЗАПОЛНЕНИЯ'!BL33,\"\")","v":""},{"$f":"IF('ШАБЛОН для ЗАПОЛНЕНИЯ'!BM33<>\"\",'ШАБЛОН для ЗАПОЛНЕНИЯ'!BM33,\"\")","v":""},{"$f":"IF('ШАБЛОН для ЗАПОЛНЕНИЯ'!BN33<>\"\",'ШАБЛОН для ЗАПОЛНЕНИЯ'!BN33,\"\")","v":""},{"$f":"IF('ШАБЛОН для ЗАПОЛНЕНИЯ'!BO33<>\"\",'ШАБЛОН для ЗАПОЛНЕНИЯ'!BO33,\"\")","v":""},{"$f":"IF('ШАБЛОН для ЗАПОЛНЕНИЯ'!BP33<>\"\",'ШАБЛОН для ЗАПОЛНЕНИЯ'!BP33,\"\")","v":""},{"$f":"IF('ШАБЛОН для ЗАПОЛНЕНИЯ'!BQ33<>\"\",'ШАБЛОН для ЗАПОЛНЕНИЯ'!BQ33,\"\")","v":""},{"$f":"IF('ШАБЛОН для ЗАПОЛНЕНИЯ'!BR33<>\"\",'ШАБЛОН для ЗАПОЛНЕНИЯ'!BR33,\"\")","v":""},{"$f":"IF('ШАБЛОН для ЗАПОЛНЕНИЯ'!BS33<>\"\",'ШАБЛОН для ЗАПОЛНЕНИЯ'!BS33,\"\")","v":""},{"$f":"IF('ШАБЛОН для ЗАПОЛНЕНИЯ'!BT33<>\"\",'ШАБЛОН для ЗАПОЛНЕНИЯ'!BT33,\"\")","v":""},{"$f":"IF('ШАБЛОН для ЗАПОЛНЕНИЯ'!BU33<>\"\",'ШАБЛОН для ЗАПОЛНЕНИЯ'!BU33,\"\")","v":""},{"$f":"IF('ШАБЛОН для ЗАПОЛНЕНИЯ'!BV33<>\"\",'ШАБЛОН для ЗАПОЛНЕНИЯ'!BV33,\"\")","v":""},{"$f":"IF('ШАБЛОН для ЗАПОЛНЕНИЯ'!BW33<>\"\",'ШАБЛОН для ЗАПОЛНЕНИЯ'!BW33,\"\")","v":""},{"$f":"IF('ШАБЛОН для ЗАПОЛНЕНИЯ'!BX33<>\"\",'ШАБЛОН для ЗАПОЛНЕНИЯ'!BX33,\"\")","v":""},{"$f":"IF('ШАБЛОН для ЗАПОЛНЕНИЯ'!BY33<>\"\",'ШАБЛОН для ЗАПОЛНЕНИЯ'!BY33,\"\")","v":""},{"$f":"IF('ШАБЛОН для ЗАПОЛНЕНИЯ'!BZ33<>\"\",'ШАБЛОН для ЗАПОЛНЕНИЯ'!BZ33,\"\")","v":""},{"$f":"IF('ШАБЛОН для ЗАПОЛНЕНИЯ'!CA33<>\"\",'ШАБЛОН для ЗАПОЛНЕНИЯ'!CA33,\"\")","v":""},{"$f":"IF('ШАБЛОН для ЗАПОЛНЕНИЯ'!CB33<>\"\",'ШАБЛОН для ЗАПОЛНЕНИЯ'!CB33,\"\")","v":""},{"$f":"IF('ШАБЛОН для ЗАПОЛНЕНИЯ'!CC33<>\"\",'ШАБЛОН для ЗАПОЛНЕНИЯ'!CC33,\"\")","v":""},{"$f":"IF('ШАБЛОН для ЗАПОЛНЕНИЯ'!CD33<>\"\",'ШАБЛОН для ЗАПОЛНЕНИЯ'!CD33,\"\")","v":""},{"$f":"IF('ШАБЛОН для ЗАПОЛНЕНИЯ'!CE33<>\"\",'ШАБЛОН для ЗАПОЛНЕНИЯ'!CE33,\"\")","v":""},{"$f":"IF('ШАБЛОН для ЗАПОЛНЕНИЯ'!CF33<>\"\",'ШАБЛОН для ЗАПОЛНЕНИЯ'!CF33,\"\")","v":""},{"$f":"IF('ШАБЛОН для ЗАПОЛНЕНИЯ'!CG33<>\"\",'ШАБЛОН для ЗАПОЛНЕНИЯ'!CG33,\"\")","v":""},{"$f":"IF('ШАБЛОН для ЗАПОЛНЕНИЯ'!CH33<>\"\",'ШАБЛОН для ЗАПОЛНЕНИЯ'!CH33,\"\")","v":""},{"$f":"IF('ШАБЛОН для ЗАПОЛНЕНИЯ'!CI33<>\"\",'ШАБЛОН для ЗАПОЛНЕНИЯ'!CI33,\"\")","v":""},{"$f":"IF('ШАБЛОН для ЗАПОЛНЕНИЯ'!CJ33<>\"\",'ШАБЛОН для ЗАПОЛНЕНИЯ'!CJ33,\"\")","v":""},{"$f":"IF('ШАБЛОН для ЗАПОЛНЕНИЯ'!CK33<>\"\",'ШАБЛОН для ЗАПОЛНЕНИЯ'!CK33,\"\")","v":""},{"$f":"IF('ШАБЛОН для ЗАПОЛНЕНИЯ'!CL33<>\"\",'ШАБЛОН для ЗАПОЛНЕНИЯ'!CL33,\"\")","v":""},{"$f":"IF('ШАБЛОН для ЗАПОЛНЕНИЯ'!CM33<>\"\",'ШАБЛОН для ЗАПОЛНЕНИЯ'!CM33,\"\")","v":""},{"$f":"IF('ШАБЛОН для ЗАПОЛНЕНИЯ'!CN33<>\"\",'ШАБЛОН для ЗАПОЛНЕНИЯ'!CN33,\"\")","v":""},{"$f":"IF('ШАБЛОН для ЗАПОЛНЕНИЯ'!CO33<>\"\",'ШАБЛОН для ЗАПОЛНЕНИЯ'!CO33,\"\")","v":""},{"$f":"IF('ШАБЛОН для ЗАПОЛНЕНИЯ'!CP33<>\"\",'ШАБЛОН для ЗАПОЛНЕНИЯ'!CP33,\"\")","v":""},{"$f":"IF('ШАБЛОН для ЗАПОЛНЕНИЯ'!CQ33<>\"\",'ШАБЛОН для ЗАПОЛНЕНИЯ'!CQ33,\"\")","v":""},{"$f":"IF('ШАБЛОН для ЗАПОЛНЕНИЯ'!CR33<>\"\",'ШАБЛОН для ЗАПОЛНЕНИЯ'!CR33,\"\")","v":""},{"$f":"IF('ШАБЛОН для ЗАПОЛНЕНИЯ'!CS33<>\"\",'ШАБЛОН для ЗАПОЛНЕНИЯ'!CS33,\"\")","v":""},{"$f":"IF('ШАБЛОН для ЗАПОЛНЕНИЯ'!CT33<>\"\",'ШАБЛОН для ЗАПОЛНЕНИЯ'!CT33,\"\")","v":""}]
[null,4,{"$f":"IF('ШАБЛОН для ЗАПОЛНЕНИЯ'!C34<>\"\",'ШАБЛОН для ЗАПОЛНЕНИЯ'!C34,\"\")","v":"Физкультура"},{"$f":"IF('ШАБЛОН для ЗАПОЛНЕНИЯ'!D34<>\"\",'ШАБЛОН для ЗАПОЛНЕНИЯ'!D34,\"\")","v":""},{"$f":"IF('ШАБЛОН для ЗАПОЛНЕНИЯ'!E34<>\"\",'ШАБЛОН для ЗАПОЛНЕНИЯ'!E34,\"\")","v":""},{"$f":"IF('ШАБЛОН для ЗАПОЛНЕНИЯ'!F34<>\"\",'ШАБЛОН для ЗАПОЛНЕНИЯ'!F34,\"\")","v":""},{"$f":"IF('ШАБЛОН для ЗАПОЛНЕНИЯ'!G34<>\"\",'ШАБЛОН для ЗАПОЛНЕНИЯ'!G34,\"\")","v":"Рус.язык"},{"$f":"IF('ШАБЛОН для ЗАПОЛНЕНИЯ'!H34<>\"\",'ШАБЛОН для ЗАПОЛНЕНИЯ'!H34,\"\")","v":""},{"$f":"IF('ШАБЛОН для ЗАПОЛНЕНИЯ'!I34<>\"\",'ШАБЛОН для ЗАПОЛНЕНИЯ'!I34,\"\")","v":""},{"$f":"IF('ШАБЛОН для ЗАПОЛНЕНИЯ'!J34<>\"\",'ШАБЛОН для ЗАПОЛНЕНИЯ'!J34,\"\")","v":""},{"$f":"IF('ШАБЛОН для ЗАПОЛНЕНИЯ'!K34<>\"\",'ШАБЛОН для ЗАПОЛНЕНИЯ'!K34,\"\")","v":"Физкультура"},{"$f":"IF('ШАБЛОН для ЗАПОЛНЕНИЯ'!L34<>\"\",'ШАБЛОН для ЗАПОЛНЕНИЯ'!L34,\"\")","v":""},{"$f":"IF('ШАБЛОН для ЗАПОЛНЕНИЯ'!M34<>\"\",'ШАБЛОН для ЗАПОЛНЕНИЯ'!M34,\"\")","v":""},{"$f":"IF('ШАБЛОН для ЗАПОЛНЕНИЯ'!N34<>\"\",'ШАБЛОН для ЗАПОЛНЕНИЯ'!N34,\"\")","v":""},{"$f":"IF('ШАБЛОН для ЗАПОЛНЕНИЯ'!O34<>\"\",'ШАБЛОН для ЗАПОЛНЕНИЯ'!O34,\"\")","v":"Рус.язык"},{"$f":"IF('ШАБЛОН для ЗАПОЛНЕНИЯ'!P34<>\"\",'ШАБЛОН для ЗАПОЛНЕНИЯ'!P34,\"\")","v":""},{"$f":"IF('ШАБЛОН для ЗАПОЛНЕНИЯ'!Q34<>\"\",'ШАБЛОН для ЗАПОЛНЕНИЯ'!Q34,\"\")","v":""},{"$f":"IF('ШАБЛОН для ЗАПОЛНЕНИЯ'!R34<>\"\",'ШАБЛОН для ЗАПОЛНЕНИЯ'!R34,\"\")","v":""},{"$f":"IF('ШАБЛОН для ЗАПОЛНЕНИЯ'!S34<>\"\",'ШАБЛОН для ЗАПОЛНЕНИЯ'!S34,\"\")","v":"ИЗО"},{"$f":"IF('ШАБЛОН для ЗАПОЛНЕНИЯ'!T34<>\"\",'ШАБЛОН для ЗАПОЛНЕНИЯ'!T34,\"\")","v":""},{"$f":"IF('ШАБЛОН для ЗАПОЛНЕНИЯ'!U34<>\"\",'ШАБЛОН для ЗАПОЛНЕНИЯ'!U34,\"\")","v":""},{"$f":"IF('ШАБЛОН для ЗАПОЛНЕНИЯ'!V34<>\"\",'ШАБЛОН для ЗАПОЛНЕНИЯ'!V34,\"\")","v":""},{"$f":"IF('ШАБЛОН для ЗАПОЛНЕНИЯ'!W34<>\"\",'ШАБЛОН для ЗАПОЛНЕНИЯ'!W34,\"\")","v":"Технология"},{"$f":"IF('ШАБЛОН для ЗАПОЛНЕНИЯ'!X34<>\"\",'ШАБЛОН для ЗАПОЛНЕНИЯ'!X34,\"\")","v":""},{"$f":"IF('ШАБЛОН для ЗАПОЛНЕНИЯ'!Y34<>\"\",'ШАБЛОН для ЗАПОЛНЕНИЯ'!Y34,\"\")","v":""},{"$f":"IF('ШАБЛОН для ЗАПОЛНЕНИЯ'!Z34<>\"\",'ШАБЛОН для ЗАПОЛНЕНИЯ'!Z34,\"\")","v":""},{"$f":"IF('ШАБЛОН для ЗАПОЛНЕНИЯ'!AA34<>\"\",'ШАБЛОН для ЗАПОЛНЕНИЯ'!AA34,\"\")","v":"Литература"},{"$f":"IF('ШАБЛОН для ЗАПОЛНЕНИЯ'!AB34<>\"\",'ШАБЛОН для ЗАПОЛНЕНИЯ'!AB34,\"\")","v":""},{"$f":"IF('ШАБЛОН для ЗАПОЛНЕНИЯ'!AC34<>\"\",'ШАБЛОН для ЗАПОЛНЕНИЯ'!AC34,\"\")","v":""},{"$f":"IF('ШАБЛОН для ЗАПОЛНЕНИЯ'!AD34<>\"\",'ШАБЛОН для ЗАПОЛНЕНИЯ'!AD34,\"\")","v":""},{"$f":"IF('ШАБЛОН для ЗАПОЛНЕНИЯ'!AE34<>\"\",'ШАБЛОН для ЗАПОЛНЕНИЯ'!AE34,\"\")","v":"Физика"},{"$f":"IF('ШАБЛОН для ЗАПОЛНЕНИЯ'!AF34<>\"\",'ШАБЛОН для ЗАПОЛНЕНИЯ'!AF34,\"\")","v":""},{"$f":"IF('ШАБЛОН для ЗАПОЛНЕНИЯ'!AG34<>\"\",'ШАБЛОН для ЗАПОЛНЕНИЯ'!AG34,\"\")","v":""},{"$f":"IF('ШАБЛОН для ЗАПОЛНЕНИЯ'!AH34<>\"\",'ШАБЛОН для ЗАПОЛНЕНИЯ'!AH34,\"\")","v":""},{"$f":"IF('ШАБЛОН для ЗАПОЛНЕНИЯ'!AI34<>\"\",'ШАБЛОН для ЗАПОЛНЕНИЯ'!AI34,\"\")","v":"Биология"},{"$f":"IF('ШАБЛОН для ЗАПОЛНЕНИЯ'!AJ34<>\"\",'ШАБЛОН для ЗАПОЛНЕНИЯ'!AJ34,\"\")","v":""},{"$f":"IF('ШАБЛОН для ЗАПОЛНЕНИЯ'!AK34<>\"\",'ШАБЛОН для ЗАПОЛНЕНИЯ'!AK34,\"\")","v":""},{"$f":"IF('ШАБЛОН для ЗАПОЛНЕНИЯ'!AL34<>\"\",'ШАБЛОН для ЗАПОЛНЕНИЯ'!AL34,\"\")","v":""},{"$f":"IF('ШАБЛОН для ЗАПОЛНЕНИЯ'!AM34<>\"\",'ШАБЛОН для ЗАПОЛНЕНИЯ'!AM34,\"\")","v":""},{"$f":"IF('ШАБЛОН для ЗАПОЛНЕНИЯ'!AN34<>\"\",'ШАБЛОН для ЗАПОЛНЕНИЯ'!AN34,\"\")","v":""},{"$f":"IF('ШАБЛОН для ЗАПОЛНЕНИЯ'!AO34<>\"\",'ШАБЛОН для ЗАПОЛНЕНИЯ'!AO34,\"\")","v":""},{"$f":"IF('ШАБЛОН для ЗАПОЛНЕНИЯ'!AP34<>\"\",'ШАБЛОН для ЗАПОЛНЕНИЯ'!AP34,\"\")","v":""},{"$f":"IF('ШАБЛОН для ЗАПОЛНЕНИЯ'!AQ34<>\"\",'ШАБЛОН для ЗАПОЛНЕНИЯ'!AQ34,\"\")","v":""},{"$f":"IF('ШАБЛОН для ЗАПОЛНЕНИЯ'!AR34<>\"\",'ШАБЛОН для ЗАПОЛНЕНИЯ'!AR34,\"\")","v":""},{"$f":"IF('ШАБЛОН для ЗАПОЛНЕНИЯ'!AS34<>\"\",'ШАБЛОН для ЗАПОЛНЕНИЯ'!AS34,\"\")","v":""},{"$f":"IF('ШАБЛОН для ЗАПОЛНЕНИЯ'!AT34<>\"\",'ШАБЛОН для ЗАПОЛНЕНИЯ'!AT34,\"\")","v":""},{"$f":"IF('ШАБЛОН для ЗАПОЛНЕНИЯ'!AU34<>\"\",'ШАБЛОН для ЗАПОЛНЕНИЯ'!AU34,\"\")","v":""},{"$f":"IF('ШАБЛОН для ЗАПОЛНЕНИЯ'!AV34<>\"\",'ШАБЛОН для ЗАПОЛНЕНИЯ'!AV34,\"\")","v":""},{"$f":"IF('ШАБЛОН для ЗАПОЛНЕНИЯ'!AW34<>\"\",'ШАБЛОН для ЗАПОЛНЕНИЯ'!AW34,\"\")","v":""},{"$f":"IF('ШАБЛОН для ЗАПОЛНЕНИЯ'!AX34<>\"\",'ШАБЛОН для ЗАПОЛНЕНИЯ'!AX34,\"\")","v":""},{"$f":"IF('ШАБЛОН для ЗАПОЛНЕНИЯ'!AY34<>\"\",'ШАБЛОН для ЗАПОЛНЕНИЯ'!AY34,\"\")","v":""},{"$f":"IF('ШАБЛОН для ЗАПОЛНЕНИЯ'!AZ34<>\"\",'ШАБЛОН для ЗАПОЛНЕНИЯ'!AZ34,\"\")","v":""},{"$f":"IF('ШАБЛОН для ЗАПОЛНЕНИЯ'!BA34<>\"\",'ШАБЛОН для ЗАПОЛНЕНИЯ'!BA34,\"\")","v":""},{"$f":"IF('ШАБЛОН для ЗАПОЛНЕНИЯ'!BB34<>\"\",'ШАБЛОН для ЗАПОЛНЕНИЯ'!BB34,\"\")","v":""},{"$f":"IF('ШАБЛОН для ЗАПОЛНЕНИЯ'!BC34<>\"\",'ШАБЛОН для ЗАПОЛНЕНИЯ'!BC34,\"\")","v":""},{"$f":"IF('ШАБЛОН для ЗАПОЛНЕНИЯ'!BD34<>\"\",'ШАБЛОН для ЗАПОЛНЕНИЯ'!BD34,\"\")","v":""},{"$f":"IF('ШАБЛОН для ЗАПОЛНЕНИЯ'!BE34<>\"\",'ШАБЛОН для ЗАПОЛНЕНИЯ'!BE34,\"\")","v":""},{"$f":"IF('ШАБЛОН для ЗАПОЛНЕНИЯ'!BF34<>\"\",'ШАБЛОН для ЗАПОЛНЕНИЯ'!BF34,\"\")","v":""},{"$f":"IF('ШАБЛОН для ЗАПОЛНЕНИЯ'!BG34<>\"\",'ШАБЛОН для ЗАПОЛНЕНИЯ'!BG34,\"\")","v":""},{"$f":"IF('ШАБЛОН для ЗАПОЛНЕНИЯ'!BH34<>\"\",'ШАБЛОН для ЗАПОЛНЕНИЯ'!BH34,\"\")","v":""},{"$f":"IF('ШАБЛОН для ЗАПОЛНЕНИЯ'!BI34<>\"\",'ШАБЛОН для ЗАПОЛНЕНИЯ'!BI34,\"\")","v":""},{"$f":"IF('ШАБЛОН для ЗАПОЛНЕНИЯ'!BJ34<>\"\",'ШАБЛОН для ЗАПОЛНЕНИЯ'!BJ34,\"\")","v":""},{"$f":"IF('ШАБЛОН для ЗАПОЛНЕНИЯ'!BK34<>\"\",'ШАБЛОН для ЗАПОЛНЕНИЯ'!BK34,\"\")","v":""},{"$f":"IF('ШАБЛОН для ЗАПОЛНЕНИЯ'!BL34<>\"\",'ШАБЛОН для ЗАПОЛНЕНИЯ'!BL34,\"\")","v":""},{"$f":"IF('ШАБЛОН для ЗАПОЛНЕНИЯ'!BM34<>\"\",'ШАБЛОН для ЗАПОЛНЕНИЯ'!BM34,\"\")","v":""},{"$f":"IF('ШАБЛОН для ЗАПОЛНЕНИЯ'!BN34<>\"\",'ШАБЛОН для ЗАПОЛНЕНИЯ'!BN34,\"\")","v":""},{"$f":"IF('ШАБЛОН для ЗАПОЛНЕНИЯ'!BO34<>\"\",'ШАБЛОН для ЗАПОЛНЕНИЯ'!BO34,\"\")","v":""},{"$f":"IF('ШАБЛОН для ЗАПОЛНЕНИЯ'!BP34<>\"\",'ШАБЛОН для ЗАПОЛНЕНИЯ'!BP34,\"\")","v":""},{"$f":"IF('ШАБЛОН для ЗАПОЛНЕНИЯ'!BQ34<>\"\",'ШАБЛОН для ЗАПОЛНЕНИЯ'!BQ34,\"\")","v":""},{"$f":"IF('ШАБЛОН для ЗАПОЛНЕНИЯ'!BR34<>\"\",'ШАБЛОН для ЗАПОЛНЕНИЯ'!BR34,\"\")","v":""},{"$f":"IF('ШАБЛОН для ЗАПОЛНЕНИЯ'!BS34<>\"\",'ШАБЛОН для ЗАПОЛНЕНИЯ'!BS34,\"\")","v":""},{"$f":"IF('ШАБЛОН для ЗАПОЛНЕНИЯ'!BT34<>\"\",'ШАБЛОН для ЗАПОЛНЕНИЯ'!BT34,\"\")","v":""},{"$f":"IF('ШАБЛОН для ЗАПОЛНЕНИЯ'!BU34<>\"\",'ШАБЛОН для ЗАПОЛНЕНИЯ'!BU34,\"\")","v":""},{"$f":"IF('ШАБЛОН для ЗАПОЛНЕНИЯ'!BV34<>\"\",'ШАБЛОН для ЗАПОЛНЕНИЯ'!BV34,\"\")","v":""},{"$f":"IF('ШАБЛОН для ЗАПОЛНЕНИЯ'!BW34<>\"\",'ШАБЛОН для ЗАПОЛНЕНИЯ'!BW34,\"\")","v":""},{"$f":"IF('ШАБЛОН для ЗАПОЛНЕНИЯ'!BX34<>\"\",'ШАБЛОН для ЗАПОЛНЕНИЯ'!BX34,\"\")","v":""},{"$f":"IF('ШАБЛОН для ЗАПОЛНЕНИЯ'!BY34<>\"\",'ШАБЛОН для ЗАПОЛНЕНИЯ'!BY34,\"\")","v":""},{"$f":"IF('ШАБЛОН для ЗАПОЛНЕНИЯ'!BZ34<>\"\",'ШАБЛОН для ЗАПОЛНЕНИЯ'!BZ34,\"\")","v":""},{"$f":"IF('ШАБЛОН для ЗАПОЛНЕНИЯ'!CA34<>\"\",'ШАБЛОН для ЗАПОЛНЕНИЯ'!CA34,\"\")","v":""},{"$f":"IF('ШАБЛОН для ЗАПОЛНЕНИЯ'!CB34<>\"\",'ШАБЛОН для ЗАПОЛНЕНИЯ'!CB34,\"\")","v":""},{"$f":"IF('ШАБЛОН для ЗАПОЛНЕНИЯ'!CC34<>\"\",'ШАБЛОН для ЗАПОЛНЕНИЯ'!CC34,\"\")","v":""},{"$f":"IF('ШАБЛОН для ЗАПОЛНЕНИЯ'!CD34<>\"\",'ШАБЛОН для ЗАПОЛНЕНИЯ'!CD34,\"\")","v":""},{"$f":"IF('ШАБЛОН для ЗАПОЛНЕНИЯ'!CE34<>\"\",'ШАБЛОН для ЗАПОЛНЕНИЯ'!CE34,\"\")","v":""},{"$f":"IF('ШАБЛОН для ЗАПОЛНЕНИЯ'!CF34<>\"\",'ШАБЛОН для ЗАПОЛНЕНИЯ'!CF34,\"\")","v":""},{"$f":"IF('ШАБЛОН для ЗАПОЛНЕНИЯ'!CG34<>\"\",'ШАБЛОН для ЗАПОЛНЕНИЯ'!CG34,\"\")","v":""},{"$f":"IF('ШАБЛОН для ЗАПОЛНЕНИЯ'!CH34<>\"\",'ШАБЛОН для ЗАПОЛНЕНИЯ'!CH34,\"\")","v":""},{"$f":"IF('ШАБЛОН для ЗАПОЛНЕНИЯ'!CI34<>\"\",'ШАБЛОН для ЗАПОЛНЕНИЯ'!CI34,\"\")","v":""},{"$f":"IF('ШАБЛОН для ЗАПОЛНЕНИЯ'!CJ34<>\"\",'ШАБЛОН для ЗАПОЛНЕНИЯ'!CJ34,\"\")","v":""},{"$f":"IF('ШАБЛОН для ЗАПОЛНЕНИЯ'!CK34<>\"\",'ШАБЛОН для ЗАПОЛНЕНИЯ'!CK34,\"\")","v":""},{"$f":"IF('ШАБЛОН для ЗАПОЛНЕНИЯ'!CL34<>\"\",'ШАБЛОН для ЗАПОЛНЕНИЯ'!CL34,\"\")","v":""},{"$f":"IF('ШАБЛОН для ЗАПОЛНЕНИЯ'!CM34<>\"\",'ШАБЛОН для ЗАПОЛНЕНИЯ'!CM34,\"\")","v":""},{"$f":"IF('ШАБЛОН для ЗАПОЛНЕНИЯ'!CN34<>\"\",'ШАБЛОН для ЗАПОЛНЕНИЯ'!CN34,\"\")","v":""},{"$f":"IF('ШАБЛОН для ЗАПОЛНЕНИЯ'!CO34<>\"\",'ШАБЛОН для ЗАПОЛНЕНИЯ'!CO34,\"\")","v":""},{"$f":"IF('ШАБЛОН для ЗАПОЛНЕНИЯ'!CP34<>\"\",'ШАБЛОН для ЗАПОЛНЕНИЯ'!CP34,\"\")","v":""},{"$f":"IF('ШАБЛОН для ЗАПОЛНЕНИЯ'!CQ34<>\"\",'ШАБЛОН для ЗАПОЛНЕНИЯ'!CQ34,\"\")","v":""},{"$f":"IF('ШАБЛОН для ЗАПОЛНЕНИЯ'!CR34<>\"\",'ШАБЛОН для ЗАПОЛНЕНИЯ'!CR34,\"\")","v":""},{"$f":"IF('ШАБЛОН для ЗАПОЛНЕНИЯ'!CS34<>\"\",'ШАБЛОН для ЗАПОЛНЕНИЯ'!CS34,\"\")","v":""},{"$f":"IF('ШАБЛОН для ЗАПОЛНЕНИЯ'!CT34<>\"\",'ШАБЛОН для ЗАПОЛНЕНИЯ'!CT34,\"\")","v":""}]
[null,5,{"$f":"IF('ШАБЛОН для ЗАПОЛНЕНИЯ'!C35<>\"\",'ШАБЛОН для ЗАПОЛНЕНИЯ'!C35,\"\")","v":""},{"$f":"IF('ШАБЛОН для ЗАПОЛНЕНИЯ'!D35<>\"\",'ШАБЛОН для ЗАПОЛНЕНИЯ'!D35,\"\")","v":""},{"$f":"IF('ШАБЛОН для ЗАПОЛНЕНИЯ'!E35<>\"\",'ШАБЛОН для ЗАПОЛНЕНИЯ'!E35,\"\")","v":""},{"$f":"IF('ШАБЛОН для ЗАПОЛНЕНИЯ'!F35<>\"\",'ШАБЛОН для ЗАПОЛНЕНИЯ'!F35,\"\")","v":""},{"$f":"IF('ШАБЛОН для ЗАПОЛНЕНИЯ'!G35<>\"\",'ШАБЛОН для ЗАПОЛНЕНИЯ'!G35,\"\")","v":""},{"$f":"IF('ШАБЛОН для ЗАПОЛНЕНИЯ'!H35<>\"\",'ШАБЛОН для ЗАПОЛНЕНИЯ'!H35,\"\")","v":""},{"$f":"IF('ШАБЛОН для ЗАПОЛНЕНИЯ'!I35<>\"\",'ШАБЛОН для ЗАПОЛНЕНИЯ'!I35,\"\")","v":""},{"$f":"IF('ШАБЛОН для ЗАПОЛНЕНИЯ'!J35<>\"\",'ШАБЛОН для ЗАПОЛНЕНИЯ'!J35,\"\")","v":""},{"$f":"IF('ШАБЛОН для ЗАПОЛНЕНИЯ'!K35<>\"\",'ШАБЛОН для ЗАПОЛНЕНИЯ'!K35,\"\")","v":""},{"$f":"IF('ШАБЛОН для ЗАПОЛНЕНИЯ'!L35<>\"\",'ШАБЛОН для ЗАПОЛНЕНИЯ'!L35,\"\")","v":""},{"$f":"IF('ШАБЛОН для ЗАПОЛНЕНИЯ'!M35<>\"\",'ШАБЛОН для ЗАПОЛНЕНИЯ'!M35,\"\")","v":""},{"$f":"IF('ШАБЛОН для ЗАПОЛНЕНИЯ'!N35<>\"\",'ШАБЛОН для ЗАПОЛНЕНИЯ'!N35,\"\")","v":""},{"$f":"IF('ШАБЛОН для ЗАПОЛНЕНИЯ'!O35<>\"\",'ШАБЛОН для ЗАПОЛНЕНИЯ'!O35,\"\")","v":""},{"$f":"IF('ШАБЛОН для ЗАПОЛНЕНИЯ'!P35<>\"\",'ШАБЛОН для ЗАПОЛНЕНИЯ'!P35,\"\")","v":""},{"$f":"IF('ШАБЛОН для ЗАПОЛНЕНИЯ'!Q35<>\"\",'ШАБЛОН для ЗАПОЛНЕНИЯ'!Q35,\"\")","v":""},{"$f":"IF('ШАБЛОН для ЗАПОЛНЕНИЯ'!R35<>\"\",'ШАБЛОН для ЗАПОЛНЕНИЯ'!R35,\"\")","v":""},{"$f":"IF('ШАБЛОН для ЗАПОЛНЕНИЯ'!S35<>\"\",'ШАБЛОН для ЗАПОЛНЕНИЯ'!S35,\"\")","v":"Русский язык"},{"$f":"IF('ШАБЛОН для ЗАПОЛНЕНИЯ'!T35<>\"\",'ШАБЛОН для ЗАПОЛНЕНИЯ'!T35,\"\")","v":""},{"$f":"IF('ШАБЛОН для ЗАПОЛНЕНИЯ'!U35<>\"\",'ШАБЛОН для ЗАПОЛНЕНИЯ'!U35,\"\")","v":""},{"$f":"IF('ШАБЛОН для ЗАПОЛНЕНИЯ'!V35<>\"\",'ШАБЛОН для ЗАПОЛНЕНИЯ'!V35,\"\")","v":""},{"$f":"IF('ШАБЛОН для ЗАПОЛНЕНИЯ'!W35<>\"\",'ШАБЛОН для ЗАПОЛНЕНИЯ'!W35,\"\")","v":"История"},{"$f":"IF('ШАБЛОН для ЗАПОЛНЕНИЯ'!X35<>\"\",'ШАБЛОН для ЗАПОЛНЕНИЯ'!X35,\"\")","v":""},{"$f":"IF('ШАБЛОН для ЗАПОЛНЕНИЯ'!Y35<>\"\",'ШАБЛОН для ЗАПОЛНЕНИЯ'!Y35,\"\")","v":""},{"$f":"IF('ШАБЛОН для ЗАПОЛНЕНИЯ'!Z35<>\"\",'ШАБЛОН для ЗАПОЛНЕНИЯ'!Z35,\"\")","v":""},{"$f":"IF('ШАБЛОН для ЗАПОЛНЕНИЯ'!AA35<>\"\",'ШАБЛОН для ЗАПОЛНЕНИЯ'!AA35,\"\")","v":"Алгебра"},{"$f":"IF('ШАБЛОН для ЗАПОЛНЕНИЯ'!AB35<>\"\",'ШАБЛОН для ЗАПОЛНЕНИЯ'!AB35,\"\")","v":""},{"$f":"IF('ШАБЛОН для ЗАПОЛНЕНИЯ'!AC35<>\"\",'ШАБЛОН для ЗАПОЛНЕНИЯ'!AC35,\"\")","v":""},{"$f":"IF('ШАБЛОН для ЗАПОЛНЕНИЯ'!AD35<>\"\",'ШАБЛОН для ЗАПОЛНЕНИЯ'!AD35,\"\")","v":""},{"$f":"IF('ШАБЛОН для ЗАПОЛНЕНИЯ'!AE35<>\"\",'ШАБЛОН для ЗАПОЛНЕНИЯ'!AE35,\"\")","v":"Химия"},{"$f":"IF('ШАБЛОН для ЗАПОЛНЕНИЯ'!AF35<>\"\",'ШАБЛОН для ЗАПОЛНЕНИЯ'!AF35,\"\")","v":""},{"$f":"IF('ШАБЛОН для ЗАПОЛНЕНИЯ'!AG35<>\"\",'ШАБЛОН для ЗАПОЛНЕНИЯ'!AG35,\"\")","v":""},{"$f":"IF('ШАБЛОН для ЗАПОЛНЕНИЯ'!AH35<>\"\",'ШАБЛОН для ЗАПОЛНЕНИЯ'!AH35,\"\")","v":""},{"$f":"IF('ШАБЛОН для ЗАПОЛНЕНИЯ'!AI35<>\"\",'ШАБЛОН для ЗАПОЛНЕНИЯ'!AI35,\"\")","v":"Нем.язык"},{"$f":"IF('ШАБЛОН для ЗАПОЛНЕНИЯ'!AJ35<>\"\",'ШАБЛОН для ЗАПОЛНЕНИЯ'!AJ35,\"\")","v":""},{"$f":"IF('ШАБЛОН для ЗАПОЛНЕНИЯ'!AK35<>\"\",'ШАБЛОН для ЗАПОЛНЕНИЯ'!AK35,\"\")","v":""},{"$f":"IF('ШАБЛОН для ЗАПОЛНЕНИЯ'!AL35<>\"\",'ШАБЛОН для ЗАПОЛНЕНИЯ'!AL35,\"\")","v":""},{"$f":"IF('ШАБЛОН для ЗАПОЛНЕНИЯ'!AM35<>\"\",'ШАБЛОН для ЗАПОЛНЕНИЯ'!AM35,\"\")","v":""},{"$f":"IF('ШАБЛОН для ЗАПОЛНЕНИЯ'!AN35<>\"\",'ШАБЛОН для ЗАПОЛНЕНИЯ'!AN35,\"\")","v":""},{"$f":"IF('ШАБЛОН для ЗАПОЛНЕНИЯ'!AO35<>\"\",'ШАБЛОН для ЗАПОЛНЕНИЯ'!AO35,\"\")","v":""},{"$f":"IF('ШАБЛОН для ЗАПОЛНЕНИЯ'!AP35<>\"\",'ШАБЛОН для ЗАПОЛНЕНИЯ'!AP35,\"\")","v":""},{"$f":"IF('ШАБЛОН для ЗАПОЛНЕНИЯ'!AQ35<>\"\",'ШАБЛОН для ЗАПОЛНЕНИЯ'!AQ35,\"\")","v":""},{"$f":"IF('ШАБЛОН для ЗАПОЛНЕНИЯ'!AR35<>\"\",'ШАБЛОН для ЗАПОЛНЕНИЯ'!AR35,\"\")","v":""},{"$f":"IF('ШАБЛОН для ЗАПОЛНЕНИЯ'!AS35<>\"\",'ШАБЛОН для ЗАПОЛНЕНИЯ'!AS35,\"\")","v":""},{"$f":"IF('ШАБЛОН для ЗАПОЛНЕНИЯ'!AT35<>\"\",'ШАБЛОН для ЗАПОЛНЕНИЯ'!AT35,\"\")","v":""},{"$f":"IF('ШАБЛОН для ЗАПОЛНЕНИЯ'!AU35<>\"\",'ШАБЛОН для ЗАПОЛНЕНИЯ'!AU35,\"\")","v":""},{"$f":"IF('ШАБЛОН для ЗАПОЛНЕНИЯ'!AV35<>\"\",'ШАБЛОН для ЗАПОЛНЕНИЯ'!AV35,\"\")","v":""},{"$f":"IF('ШАБЛОН для ЗАПОЛНЕНИЯ'!AW35<>\"\",'ШАБЛОН для ЗАПОЛНЕНИЯ'!AW35,\"\")","v":""},{"$f":"IF('ШАБЛОН для ЗАПОЛНЕНИЯ'!AX35<>\"\",'ШАБЛОН для ЗАПОЛНЕНИЯ'!AX35,\"\")","v":""},{"$f":"IF('ШАБЛОН для ЗАПОЛНЕНИЯ'!AY35<>\"\",'ШАБЛОН для ЗАПОЛНЕНИЯ'!AY35,\"\")","v":""},{"$f":"IF('ШАБЛОН для ЗАПОЛНЕНИЯ'!AZ35<>\"\",'ШАБЛОН для ЗАПОЛНЕНИЯ'!AZ35,\"\")","v":""},{"$f":"IF('ШАБЛОН для ЗАПОЛНЕНИЯ'!BA35<>\"\",'ШАБЛОН для ЗАПОЛНЕНИЯ'!BA35,\"\")","v":""},{"$f":"IF('ШАБЛОН для ЗАПОЛНЕНИЯ'!BB35<>\"\",'ШАБЛОН для ЗАПОЛНЕНИЯ'!BB35,\"\")","v":""},{"$f":"IF('ШАБЛОН для ЗАПОЛНЕНИЯ'!BC35<>\"\",'ШАБЛОН для ЗАПОЛНЕНИЯ'!BC35,\"\")","v":""},{"$f":"IF('ШАБЛОН для ЗАПОЛНЕНИЯ'!BD35<>\"\",'ШАБЛОН для ЗАПОЛНЕНИЯ'!BD35,\"\")","v":""},{"$f":"IF('ШАБЛОН для ЗАПОЛНЕНИЯ'!BE35<>\"\",'ШАБЛОН для ЗАПОЛНЕНИЯ'!BE35,\"\")","v":""},{"$f":"IF('ШАБЛОН для ЗАПОЛНЕНИЯ'!BF35<>\"\",'ШАБЛОН для ЗАПОЛНЕНИЯ'!BF35,\"\")","v":""},{"$f":"IF('ШАБЛОН для ЗАПОЛНЕНИЯ'!BG35<>\"\",'ШАБЛОН для ЗАПОЛНЕНИЯ'!BG35,\"\")","v":""},{"$f":"IF('ШАБЛОН для ЗАПОЛНЕНИЯ'!BH35<>\"\",'ШАБЛОН для ЗАПОЛНЕНИЯ'!BH35,\"\")","v":""},{"$f":"IF('ШАБЛОН для ЗАПОЛНЕНИЯ'!BI35<>\"\",'ШАБЛОН для ЗАПОЛНЕНИЯ'!BI35,\"\")","v":""},{"$f":"IF('ШАБЛОН для ЗАПОЛНЕНИЯ'!BJ35<>\"\",'ШАБЛОН для ЗАПОЛНЕНИЯ'!BJ35,\"\")","v":""},{"$f":"IF('ШАБЛОН для ЗАПОЛНЕНИЯ'!BK35<>\"\",'ШАБЛОН для ЗАПОЛНЕНИЯ'!BK35,\"\")","v":""},{"$f":"IF('ШАБЛОН для ЗАПОЛНЕНИЯ'!BL35<>\"\",'ШАБЛОН для ЗАПОЛНЕНИЯ'!BL35,\"\")","v":""},{"$f":"IF('ШАБЛОН для ЗАПОЛНЕНИЯ'!BM35<>\"\",'ШАБЛОН для ЗАПОЛНЕНИЯ'!BM35,\"\")","v":""},{"$f":"IF('ШАБЛОН для ЗАПОЛНЕНИЯ'!BN35<>\"\",'ШАБЛОН для ЗАПОЛНЕНИЯ'!BN35,\"\")","v":""},{"$f":"IF('ШАБЛОН для ЗАПОЛНЕНИЯ'!BO35<>\"\",'ШАБЛОН для ЗАПОЛНЕНИЯ'!BO35,\"\")","v":""},{"$f":"IF('ШАБЛОН для ЗАПОЛНЕНИЯ'!BP35<>\"\",'ШАБЛОН для ЗАПОЛНЕНИЯ'!BP35,\"\")","v":""},{"$f":"IF('ШАБЛОН для ЗАПОЛНЕНИЯ'!BQ35<>\"\",'ШАБЛОН для ЗАПОЛНЕНИЯ'!BQ35,\"\")","v":""},{"$f":"IF('ШАБЛОН для ЗАПОЛНЕНИЯ'!BR35<>\"\",'ШАБЛОН для ЗАПОЛНЕНИЯ'!BR35,\"\")","v":""},{"$f":"IF('ШАБЛОН для ЗАПОЛНЕНИЯ'!BS35<>\"\",'ШАБЛОН для ЗАПОЛНЕНИЯ'!BS35,\"\")","v":""},{"$f":"IF('ШАБЛОН для ЗАПОЛНЕНИЯ'!BT35<>\"\",'ШАБЛОН для ЗАПОЛНЕНИЯ'!BT35,\"\")","v":""},{"$f":"IF('ШАБЛОН для ЗАПОЛНЕНИЯ'!BU35<>\"\",'ШАБЛОН для ЗАПОЛНЕНИЯ'!BU35,\"\")","v":""},{"$f":"IF('ШАБЛОН для ЗАПОЛНЕНИЯ'!BV35<>\"\",'ШАБЛОН для ЗАПОЛНЕНИЯ'!BV35,\"\")","v":""},{"$f":"IF('ШАБЛОН для ЗАПОЛНЕНИЯ'!BW35<>\"\",'ШАБЛОН для ЗАПОЛНЕНИЯ'!BW35,\"\")","v":""},{"$f":"IF('ШАБЛОН для ЗАПОЛНЕНИЯ'!BX35<>\"\",'ШАБЛОН для ЗАПОЛНЕНИЯ'!BX35,\"\")","v":""},{"$f":"IF('ШАБЛОН для ЗАПОЛНЕНИЯ'!BY35<>\"\",'ШАБЛОН для ЗАПОЛНЕНИЯ'!BY35,\"\")","v":""},{"$f":"IF('ШАБЛОН для ЗАПОЛНЕНИЯ'!BZ35<>\"\",'ШАБЛОН для ЗАПОЛНЕНИЯ'!BZ35,\"\")","v":""},{"$f":"IF('ШАБЛОН для ЗАПОЛНЕНИЯ'!CA35<>\"\",'ШАБЛОН для ЗАПОЛНЕНИЯ'!CA35,\"\")","v":""},{"$f":"IF('ШАБЛОН для ЗАПОЛНЕНИЯ'!CB35<>\"\",'ШАБЛОН для ЗАПОЛНЕНИЯ'!CB35,\"\")","v":""},{"$f":"IF('ШАБЛОН для ЗАПОЛНЕНИЯ'!CC35<>\"\",'ШАБЛОН для ЗАПОЛНЕНИЯ'!CC35,\"\")","v":""},{"$f":"IF('ШАБЛОН для ЗАПОЛНЕНИЯ'!CD35<>\"\",'ШАБЛОН для ЗАПОЛНЕНИЯ'!CD35,\"\")","v":""},{"$f":"IF('ШАБЛОН для ЗАПОЛНЕНИЯ'!CE35<>\"\",'ШАБЛОН для ЗАПОЛНЕНИЯ'!CE35,\"\")","v":""},{"$f":"IF('ШАБЛОН для ЗАПОЛНЕНИЯ'!CF35<>\"\",'ШАБЛОН для ЗАПОЛНЕНИЯ'!CF35,\"\")","v":""},{"$f":"IF('ШАБЛОН для ЗАПОЛНЕНИЯ'!CG35<>\"\",'ШАБЛОН для ЗАПОЛНЕНИЯ'!CG35,\"\")","v":""},{"$f":"IF('ШАБЛОН для ЗАПОЛНЕНИЯ'!CH35<>\"\",'ШАБЛОН для ЗАПОЛНЕНИЯ'!CH35,\"\")","v":""},{"$f":"IF('ШАБЛОН для ЗАПОЛНЕНИЯ'!CI35<>\"\",'ШАБЛОН для ЗАПОЛНЕНИЯ'!CI35,\"\")","v":""},{"$f":"IF('ШАБЛОН для ЗАПОЛНЕНИЯ'!CJ35<>\"\",'ШАБЛОН для ЗАПОЛНЕНИЯ'!CJ35,\"\")","v":""},{"$f":"IF('ШАБЛОН для ЗАПОЛНЕНИЯ'!CK35<>\"\",'ШАБЛОН для ЗАПОЛНЕНИЯ'!CK35,\"\")","v":""},{"$f":"IF('ШАБЛОН для ЗАПОЛНЕНИЯ'!CL35<>\"\",'ШАБЛОН для ЗАПОЛНЕНИЯ'!CL35,\"\")","v":""},{"$f":"IF('ШАБЛОН для ЗАПОЛНЕНИЯ'!CM35<>\"\",'ШАБЛОН для ЗАПОЛНЕНИЯ'!CM35,\"\")","v":""},{"$f":"IF('ШАБЛОН для ЗАПОЛНЕНИЯ'!CN35<>\"\",'ШАБЛОН для ЗАПОЛНЕНИЯ'!CN35,\"\")","v":""},{"$f":"IF('ШАБЛОН для ЗАПОЛНЕНИЯ'!CO35<>\"\",'ШАБЛОН для ЗАПОЛНЕНИЯ'!CO35,\"\")","v":""},{"$f":"IF('ШАБЛОН для ЗАПОЛНЕНИЯ'!CP35<>\"\",'ШАБЛОН для ЗАПОЛНЕНИЯ'!CP35,\"\")","v":""},{"$f":"IF('ШАБЛОН для ЗАПОЛНЕНИЯ'!CQ35<>\"\",'ШАБЛОН для ЗАПОЛНЕНИЯ'!CQ35,\"\")","v":""},{"$f":"IF('ШАБЛОН для ЗАПОЛНЕНИЯ'!CR35<>\"\",'ШАБЛОН для ЗАПОЛНЕНИЯ'!CR35,\"\")","v":""},{"$f":"IF('ШАБЛОН для ЗАПОЛНЕНИЯ'!CS35<>\"\",'ШАБЛОН для ЗАПОЛНЕНИЯ'!CS35,\"\")","v":""},{"$f":"IF('ШАБЛОН для ЗАПОЛНЕНИЯ'!CT35<>\"\",'ШАБЛОН для ЗАПОЛНЕНИЯ'!CT35,\"\")","v":""}]
[null,6,{"$f":"IF('ШАБЛОН для ЗАПОЛНЕНИЯ'!C36<>\"\",'ШАБЛОН для ЗАПОЛНЕНИЯ'!C36,\"\")","v":""},{"$f":"IF('ШАБЛОН для ЗАПОЛНЕНИЯ'!D36<>\"\",'ШАБЛОН для ЗАПОЛНЕНИЯ'!D36,\"\")","v":""},{"$f":"IF('ШАБЛОН для ЗАПОЛНЕНИЯ'!E36<>\"\",'ШАБЛОН для ЗАПОЛНЕНИЯ'!E36,\"\")","v":""},{"$f":"IF('ШАБЛОН для ЗАПОЛНЕНИЯ'!F36<>\"\",'ШАБЛОН для ЗАПОЛНЕНИЯ'!F36,\"\")","v":""},{"$f":"IF('ШАБЛОН для ЗАПОЛНЕНИЯ'!G36<>\"\",'ШАБЛОН для ЗАПОЛНЕНИЯ'!G36,\"\")","v":""},{"$f":"IF('ШАБЛОН для ЗАПОЛНЕНИЯ'!H36<>\"\",'ШАБЛОН для ЗАПОЛНЕНИЯ'!H36,\"\")","v":""},{"$f":"IF('ШАБЛОН для ЗАПОЛНЕНИЯ'!I36<>\"\",'ШАБЛОН для ЗАПОЛНЕНИЯ'!I36,\"\")","v":""},{"$f":"IF('ШАБЛОН для ЗАПОЛНЕНИЯ'!J36<>\"\",'ШАБЛОН для ЗАПОЛНЕНИЯ'!J36,\"\")","v":""},{"$f":"IF('ШАБЛОН для ЗАПОЛНЕНИЯ'!K36<>\"\",'ШАБЛОН для ЗАПОЛНЕНИЯ'!K36,\"\")","v":""},{"$f":"IF('ШАБЛОН для ЗАПОЛНЕНИЯ'!L36<>\"\",'ШАБЛОН для ЗАПОЛНЕНИЯ'!L36,\"\")","v":""},{"$f":"IF('ШАБЛОН для ЗАПОЛНЕНИЯ'!M36<>\"\",'ШАБЛОН для ЗАПОЛНЕНИЯ'!M36,\"\")","v":""},{"$f":"IF('ШАБЛОН для ЗАПОЛНЕНИЯ'!N36<>\"\",'ШАБЛОН для ЗАПОЛНЕНИЯ'!N36,\"\")","v":""},{"$f":"IF('ШАБЛОН для ЗАПОЛНЕНИЯ'!O36<>\"\",'ШАБЛОН для ЗАПОЛНЕНИЯ'!O36,\"\")","v":""},{"$f":"IF('ШАБЛОН для ЗАПОЛНЕНИЯ'!P36<>\"\",'ШАБЛОН для ЗАПОЛНЕНИЯ'!P36,\"\")","v":""},{"$f":"IF('ШАБЛОН для ЗАПОЛНЕНИЯ'!Q36<>\"\",'ШАБЛОН для ЗАПОЛНЕНИЯ'!Q36,\"\")","v":""},{"$f":"IF('ШАБЛОН для ЗАПОЛНЕНИЯ'!R36<>\"\",'ШАБЛОН для ЗАПОЛНЕНИЯ'!R36,\"\")","v":""},{"$f":"IF('ШАБЛОН для ЗАПОЛНЕНИЯ'!S36<>\"\",'ШАБЛОН для ЗАПОЛНЕНИЯ'!S36,\"\")","v":""},{"$f":"IF('ШАБЛОН для ЗАПОЛНЕНИЯ'!T36<>\"\",'ШАБЛОН для ЗАПОЛНЕНИЯ'!T36,\"\")","v":""},{"$f":"IF('ШАБЛОН для ЗАПОЛНЕНИЯ'!U36<>\"\",'ШАБЛОН для ЗАПОЛНЕНИЯ'!U36,\"\")","v":""},{"$f":"IF('ШАБЛОН для ЗАПОЛНЕНИЯ'!V36<>\"\",'ШАБЛОН для ЗАПОЛНЕНИЯ'!V36,\"\")","v":""},{"$f":"IF('ШАБЛОН для ЗАПОЛНЕНИЯ'!W36<>\"\",'ШАБЛОН для ЗАПОЛНЕНИЯ'!W36,\"\")","v":""},{"$f":"IF('ШАБЛОН для ЗАПОЛНЕНИЯ'!X36<>\"\",'ШАБЛОН для ЗАПОЛНЕНИЯ'!X36,\"\")","v":""},{"$f":"IF('ШАБЛОН для ЗАПОЛНЕНИЯ'!Y36<>\"\",'ШАБЛОН для ЗАПОЛНЕНИЯ'!Y36,\"\")","v":""},{"$f":"IF('ШАБЛОН для ЗАПОЛНЕНИЯ'!Z36<>\"\",'ШАБЛОН для ЗАПОЛНЕНИЯ'!Z36,\"\")","v":""},{"$f":"IF('ШАБЛОН для ЗАПОЛНЕНИЯ'!AA36<>\"\",'ШАБЛОН для ЗАПОЛНЕНИЯ'!AA36,\"\")","v":"Англ.язык"},{"$f":"IF('ШАБЛОН для ЗАПОЛНЕНИЯ'!AB36<>\"\",'ШАБЛОН для ЗАПОЛНЕНИЯ'!AB36,\"\")","v":""},{"$f":"IF('ШАБЛОН для ЗАПОЛНЕНИЯ'!AC36<>\"\",'ШАБЛОН для ЗАПОЛНЕНИЯ'!AC36,\"\")","v":""},{"$f":"IF('ШАБЛОН для ЗАПОЛНЕНИЯ'!AD36<>\"\",'ШАБЛОН для ЗАПОЛНЕНИЯ'!AD36,\"\")","v":""},{"$f":"IF('ШАБЛОН для ЗАПОЛНЕНИЯ'!AE36<>\"\",'ШАБЛОН для ЗАПОЛНЕНИЯ'!AE36,\"\")","v":"Литература"},{"$f":"IF('ШАБЛОН для ЗАПОЛНЕНИЯ'!AF36<>\"\",'ШАБЛОН для ЗАПОЛНЕНИЯ'!AF36,\"\")","v":""},{"$f":"IF('ШАБЛОН для ЗАПОЛНЕНИЯ'!AG36<>\"\",'ШАБЛОН для ЗАПОЛНЕНИЯ'!AG36,\"\")","v":""},{"$f":"IF('ШАБЛОН для ЗАПОЛНЕНИЯ'!AH36<>\"\",'ШАБЛОН для ЗАПОЛНЕНИЯ'!AH36,\"\")","v":""},{"$f":"IF('ШАБЛОН для ЗАПОЛНЕНИЯ'!AI36<>\"\",'ШАБЛОН для ЗАПОЛНЕНИЯ'!AI36,\"\")","v":"История"},{"$f":"IF('ШАБЛОН для ЗАПОЛНЕНИЯ'!AJ36<>\"\",'ШАБЛОН для ЗАПОЛНЕНИЯ'!AJ36,\"\")","v":""},{"$f":"IF('ШАБЛОН для ЗАПОЛНЕНИЯ'!AK36<>\"\",'ШАБЛОН для ЗАПОЛНЕНИЯ'!AK36,\"\")","v":""},{"$f":"IF('ШАБЛОН для ЗАПОЛНЕНИЯ'!AL36<>\"\",'ШАБЛОН для ЗАПОЛНЕНИЯ'!AL36,\"\")","v":""},{"$f":"IF('ШАБЛОН для ЗАПОЛНЕНИЯ'!AM36<>\"\",'ШАБЛОН для ЗАПОЛНЕНИЯ'!AM36,\"\")","v":""},{"$f":"IF('ШАБЛОН для ЗАПОЛНЕНИЯ'!AN36<>\"\",'ШАБЛОН для ЗАПОЛНЕНИЯ'!AN36,\"\")","v":""},{"$f":"IF('ШАБЛОН для ЗАПОЛНЕНИЯ'!AO36<>\"\",'ШАБЛОН для ЗАПОЛНЕНИЯ'!AO36,\"\")","v":""},{"$f":"IF('ШАБЛОН для ЗАПОЛНЕНИЯ'!AP36<>\"\",'ШАБЛОН для ЗАПОЛНЕНИЯ'!AP36,\"\")","v":""},{"$f":"IF('ШАБЛОН для ЗАПОЛНЕНИЯ'!AQ36<>\"\",'ШАБЛОН для ЗАПОЛНЕНИЯ'!AQ36,\"\")","v":""},{"$f":"IF('ШАБЛОН для ЗАПОЛНЕНИЯ'!AR36<>\"\",'ШАБЛОН для ЗАПОЛНЕНИЯ'!AR36,\"\")","v":""},{"$f":"IF('ШАБЛОН для ЗАПОЛНЕНИЯ'!AS36<>\"\",'ШАБЛОН для ЗАПОЛНЕНИЯ'!AS36,\"\")","v":""},{"$f":"IF('ШАБЛОН для ЗАПОЛНЕНИЯ'!AT36<>\"\",'ШАБЛОН для ЗАПОЛНЕНИЯ'!AT36,\"\")","v":""},{"$f":"IF('ШАБЛОН для ЗАПОЛНЕНИЯ'!AU36<>\"\",'ШАБЛОН для ЗАПОЛНЕНИЯ'!AU36,\"\")","v":""},{"$f":"IF('ШАБЛОН для ЗАПОЛНЕНИЯ'!AV36<>\"\",'ШАБЛОН для ЗАПОЛНЕНИЯ'!AV36,\"\")","v":""},{"$f":"IF('ШАБЛОН для ЗАПОЛНЕНИЯ'!AW36<>\"\",'ШАБЛОН для ЗАПОЛНЕНИЯ'!AW36,\"\")","v":""},{"$f":"IF('ШАБЛОН для ЗАПОЛНЕНИЯ'!AX36<>\"\",'ШАБЛОН для ЗАПОЛНЕНИЯ'!AX36,\"\")","v":""},{"$f":"IF('ШАБЛОН для ЗАПОЛНЕНИЯ'!AY36<>\"\",'ШАБЛОН для ЗАПОЛНЕНИЯ'!AY36,\"\")","v":""},{"$f":"IF('ШАБЛОН для ЗАПОЛНЕНИЯ'!AZ36<>\"\",'ШАБЛОН для ЗАПОЛНЕНИЯ'!AZ36,\"\")","v":""},{"$f":"IF('ШАБЛОН для ЗАПОЛНЕНИЯ'!BA36<>\"\",'ШАБЛОН для ЗАПОЛНЕНИЯ'!BA36,\"\")","v":""},{"$f":"IF('ШАБЛОН для ЗАПОЛНЕНИЯ'!BB36<>\"\",'ШАБЛОН для ЗАПОЛНЕНИЯ'!BB36,\"\")","v":""},{"$f":"IF('ШАБЛОН для ЗАПОЛНЕНИЯ'!BC36<>\"\",'ШАБЛОН для ЗАПОЛНЕНИЯ'!BC36,\"\")","v":""},{"$f":"IF('ШАБЛОН для ЗАПОЛНЕНИЯ'!BD36<>\"\",'ШАБЛОН для ЗАПОЛНЕНИЯ'!BD36,\"\")","v":""},{"$f":"IF('ШАБЛОН для ЗАПОЛНЕНИЯ'!BE36<>\"\",'ШАБЛОН для ЗАПОЛНЕНИЯ'!BE36,\"\")","v":""},{"$f":"IF('ШАБЛОН для ЗАПОЛНЕНИЯ'!BF36<>\"\",'ШАБЛОН для ЗАПОЛНЕНИЯ'!BF36,\"\")","v":""},{"$f":"IF('ШАБЛОН для ЗАПОЛНЕНИЯ'!BG36<>\"\",'ШАБЛОН для ЗАПОЛНЕНИЯ'!BG36,\"\")","v":""},{"$f":"IF('ШАБЛОН для ЗАПОЛНЕНИЯ'!BH36<>\"\",'ШАБЛОН для ЗАПОЛНЕНИЯ'!BH36,\"\")","v":""},{"$f":"IF('ШАБЛОН для ЗАПОЛНЕНИЯ'!BI36<>\"\",'ШАБЛОН для ЗАПОЛНЕНИЯ'!BI36,\"\")","v":""},{"$f":"IF('ШАБЛОН для ЗАПОЛНЕНИЯ'!BJ36<>\"\",'ШАБЛОН для ЗАПОЛНЕНИЯ'!BJ36,\"\")","v":""},{"$f":"IF('ШАБЛОН для ЗАПОЛНЕНИЯ'!BK36<>\"\",'ШАБЛОН для ЗАПОЛНЕНИЯ'!BK36,\"\")","v":""},{"$f":"IF('ШАБЛОН для ЗАПОЛНЕНИЯ'!BL36<>\"\",'ШАБЛОН для ЗАПОЛНЕНИЯ'!BL36,\"\")","v":""},{"$f":"IF('ШАБЛОН для ЗАПОЛНЕНИЯ'!BM36<>\"\",'ШАБЛОН для ЗАПОЛНЕНИЯ'!BM36,\"\")","v":""},{"$f":"IF('ШАБЛОН для ЗАПОЛНЕНИЯ'!BN36<>\"\",'ШАБЛОН для ЗАПОЛНЕНИЯ'!BN36,\"\")","v":""},{"$f":"IF('ШАБЛОН для ЗАПОЛНЕНИЯ'!BO36<>\"\",'ШАБЛОН для ЗАПОЛНЕНИЯ'!BO36,\"\")","v":""},{"$f":"IF('ШАБЛОН для ЗАПОЛНЕНИЯ'!BP36<>\"\",'ШАБЛОН для ЗАПОЛНЕНИЯ'!BP36,\"\")","v":""},{"$f":"IF('ШАБЛОН для ЗАПОЛНЕНИЯ'!BQ36<>\"\",'ШАБЛОН для ЗАПОЛНЕНИЯ'!BQ36,\"\")","v":""},{"$f":"IF('ШАБЛОН для ЗАПОЛНЕНИЯ'!BR36<>\"\",'ШАБЛОН для ЗАПОЛНЕНИЯ'!BR36,\"\")","v":""},{"$f":"IF('ШАБЛОН для ЗАПОЛНЕНИЯ'!BS36<>\"\",'ШАБЛОН для ЗАПОЛНЕНИЯ'!BS36,\"\")","v":""},{"$f":"IF('ШАБЛОН для ЗАПОЛНЕНИЯ'!BT36<>\"\",'ШАБЛОН для ЗАПОЛНЕНИЯ'!BT36,\"\")","v":""},{"$f":"IF('ШАБЛОН для ЗАПОЛНЕНИЯ'!BU36<>\"\",'ШАБЛОН для ЗАПОЛНЕНИЯ'!BU36,\"\")","v":""},{"$f":"IF('ШАБЛОН для ЗАПОЛНЕНИЯ'!BV36<>\"\",'ШАБЛОН для ЗАПОЛНЕНИЯ'!BV36,\"\")","v":""},{"$f":"IF('ШАБЛОН для ЗАПОЛНЕНИЯ'!BW36<>\"\",'ШАБЛОН для ЗАПОЛНЕНИЯ'!BW36,\"\")","v":""},{"$f":"IF('ШАБЛОН для ЗАПОЛНЕНИЯ'!BX36<>\"\",'ШАБЛОН для ЗАПОЛНЕНИЯ'!BX36,\"\")","v":""},{"$f":"IF('ШАБЛОН для ЗАПОЛНЕНИЯ'!BY36<>\"\",'ШАБЛОН для ЗАПОЛНЕНИЯ'!BY36,\"\")","v":""},{"$f":"IF('ШАБЛОН для ЗАПОЛНЕНИЯ'!BZ36<>\"\",'ШАБЛОН для ЗАПОЛНЕНИЯ'!BZ36,\"\")","v":""},{"$f":"IF('ШАБЛОН для ЗАПОЛНЕНИЯ'!CA36<>\"\",'ШАБЛОН для ЗАПОЛНЕНИЯ'!CA36,\"\")","v":""},{"$f":"IF('ШАБЛОН для ЗАПОЛНЕНИЯ'!CB36<>\"\",'ШАБЛОН для ЗАПОЛНЕНИЯ'!CB36,\"\")","v":""},{"$f":"IF('ШАБЛОН для ЗАПОЛНЕНИЯ'!CC36<>\"\",'ШАБЛОН для ЗАПОЛНЕНИЯ'!CC36,\"\")","v":""},{"$f":"IF('ШАБЛОН для ЗАПОЛНЕНИЯ'!CD36<>\"\",'ШАБЛОН для ЗАПОЛНЕНИЯ'!CD36,\"\")","v":""},{"$f":"IF('ШАБЛОН для ЗАПОЛНЕНИЯ'!CE36<>\"\",'ШАБЛОН для ЗАПОЛНЕНИЯ'!CE36,\"\")","v":""},{"$f":"IF('ШАБЛОН для ЗАПОЛНЕНИЯ'!CF36<>\"\",'ШАБЛОН для ЗАПОЛНЕНИЯ'!CF36,\"\")","v":""},{"$f":"IF('ШАБЛОН для ЗАПОЛНЕНИЯ'!CG36<>\"\",'ШАБЛОН для ЗАПОЛНЕНИЯ'!CG36,\"\")","v":""},{"$f":"IF('ШАБЛОН для ЗАПОЛНЕНИЯ'!CH36<>\"\",'ШАБЛОН для ЗАПОЛНЕНИЯ'!CH36,\"\")","v":""},{"$f":"IF('ШАБЛОН для ЗАПОЛНЕНИЯ'!CI36<>\"\",'ШАБЛОН для ЗАПОЛНЕНИЯ'!CI36,\"\")","v":""},{"$f":"IF('ШАБЛОН для ЗАПОЛНЕНИЯ'!CJ36<>\"\",'ШАБЛОН для ЗАПОЛНЕНИЯ'!CJ36,\"\")","v":""},{"$f":"IF('ШАБЛОН для ЗАПОЛНЕНИЯ'!CK36<>\"\",'ШАБЛОН для ЗАПОЛНЕНИЯ'!CK36,\"\")","v":""},{"$f":"IF('ШАБЛОН для ЗАПОЛНЕНИЯ'!CL36<>\"\",'ШАБЛОН для ЗАПОЛНЕНИЯ'!CL36,\"\")","v":""},{"$f":"IF('ШАБЛОН для ЗАПОЛНЕНИЯ'!CM36<>\"\",'ШАБЛОН для ЗАПОЛНЕНИЯ'!CM36,\"\")","v":""},{"$f":"IF('ШАБЛОН для ЗАПОЛНЕНИЯ'!CN36<>\"\",'ШАБЛОН для ЗАПОЛНЕНИЯ'!CN36,\"\")","v":""},{"$f":"IF('ШАБЛОН для ЗАПОЛНЕНИЯ'!CO36<>\"\",'ШАБЛОН для ЗАПОЛНЕНИЯ'!CO36,\"\")","v":""},{"$f":"IF('ШАБЛОН для ЗАПОЛНЕНИЯ'!CP36<>\"\",'ШАБЛОН для ЗАПОЛНЕНИЯ'!CP36,\"\")","v":""},{"$f":"IF('ШАБЛОН для ЗАПОЛНЕНИЯ'!CQ36<>\"\",'ШАБЛОН для ЗАПОЛНЕНИЯ'!CQ36,\"\")","v":""},{"$f":"IF('ШАБЛОН для ЗАПОЛНЕНИЯ'!CR36<>\"\",'ШАБЛОН для ЗАПОЛНЕНИЯ'!CR36,\"\")","v":""},{"$f":"IF('ШАБЛОН для ЗАПОЛНЕНИЯ'!CS36<>\"\",'ШАБЛОН для ЗАПОЛНЕНИЯ'!CS36,\"\")","v":""},{"$f":"IF('ШАБЛОН для ЗАПОЛНЕНИЯ'!CT36<>\"\",'ШАБЛОН для ЗАПОЛНЕНИЯ'!CT36,\"\")","v":""}]
[null,7,{"$f":"IF('ШАБЛОН для ЗАПОЛНЕНИЯ'!C37<>\"\",'ШАБЛОН для ЗАПОЛНЕНИЯ'!C37,\"\")","v":""},{"$f":"IF('ШАБЛОН для ЗАПОЛНЕНИЯ'!D37<>\"\",'ШАБЛОН для ЗАПОЛНЕНИЯ'!D37,\"\")","v":""},{"$f":"IF('ШАБЛОН для ЗАПОЛНЕНИЯ'!E37<>\"\",'ШАБЛОН для ЗАПОЛНЕНИЯ'!E37,\"\")","v":""},{"$f":"IF('ШАБЛОН для ЗАПОЛНЕНИЯ'!F37<>\"\",'ШАБЛОН для ЗАПОЛНЕНИЯ'!F37,\"\")","v":""},{"$f":"IF('ШАБЛОН для ЗАПОЛНЕНИЯ'!G37<>\"\",'ШАБЛОН для ЗАПОЛНЕНИЯ'!G37,\"\")","v":""},{"$f":"IF('ШАБЛОН для ЗАПОЛНЕНИЯ'!H37<>\"\",'ШАБЛОН для ЗАПОЛНЕНИЯ'!H37,\"\")","v":""},{"$f":"IF('ШАБЛОН для ЗАПОЛНЕНИЯ'!I37<>\"\",'ШАБЛОН для ЗАПОЛНЕНИЯ'!I37,\"\")","v":""},{"$f":"IF('ШАБЛОН для ЗАПОЛНЕНИЯ'!J37<>\"\",'ШАБЛОН для ЗАПОЛНЕНИЯ'!J37,\"\")","v":""},{"$f":"IF('ШАБЛОН для ЗАПОЛНЕНИЯ'!K37<>\"\",'ШАБЛОН для ЗАПОЛНЕНИЯ'!K37,\"\")","v":""},{"$f":"IF('ШАБЛОН для ЗАПОЛНЕНИЯ'!L37<>\"\",'ШАБЛОН для ЗАПОЛНЕНИЯ'!L37,\"\")","v":""},{"$f":"IF('ШАБЛОН для ЗАПОЛНЕНИЯ'!M37<>\"\",'ШАБЛОН для ЗАПОЛНЕНИЯ'!M37,\"\")","v":""},{"$f":"IF('ШАБЛОН для ЗАПОЛНЕНИЯ'!N37<>\"\",'ШАБЛОН для ЗАПОЛНЕНИЯ'!N37,\"\")","v":""},{"$f":"IF('ШАБЛОН для ЗАПОЛНЕНИЯ'!O37<>\"\",'ШАБЛОН для ЗАПОЛНЕНИЯ'!O37,\"\")","v":""},{"$f":"IF('ШАБЛОН для ЗАПОЛНЕНИЯ'!P37<>\"\",'ШАБЛОН для ЗАПОЛНЕНИЯ'!P37,\"\")","v":""},{"$f":"IF('ШАБЛОН для ЗАПОЛНЕНИЯ'!Q37<>\"\",'ШАБЛОН для ЗАПОЛНЕНИЯ'!Q37,\"\")","v":""},{"$f":"IF('ШАБЛОН для ЗАПОЛНЕНИЯ'!R37<>\"\",'ШАБЛОН для ЗАПОЛНЕНИЯ'!R37,\"\")","v":""},{"$f":"IF('ШАБЛОН для ЗАПОЛНЕНИЯ'!S37<>\"\",'ШАБЛОН для ЗАПОЛНЕНИЯ'!S37,\"\")","v":""},{"$f":"IF('ШАБЛОН для ЗАПОЛНЕНИЯ'!T37<>\"\",'ШАБЛОН для ЗАПОЛНЕНИЯ'!T37,\"\")","v":""},{"$f":"IF('ШАБЛОН для ЗАПОЛНЕНИЯ'!U37<>\"\",'ШАБЛОН для ЗАПОЛНЕНИЯ'!U37,\"\")","v":""},{"$f":"IF('ШАБЛОН для ЗАПОЛНЕНИЯ'!V37<>\"\",'ШАБЛОН для ЗАПОЛНЕНИЯ'!V37,\"\")","v":""},{"$f":"IF('ШАБЛОН для ЗАПОЛНЕНИЯ'!W37<>\"\",'ШАБЛОН для ЗАПОЛНЕНИЯ'!W37,\"\")","v":""},{"$f":"IF('ШАБЛОН для ЗАПОЛНЕНИЯ'!X37<>\"\",'ШАБЛОН для ЗАПОЛНЕНИЯ'!X37,\"\")","v":""},{"$f":"IF('ШАБЛОН для ЗАПОЛНЕНИЯ'!Y37<>\"\",'ШАБЛОН для ЗАПОЛНЕНИЯ'!Y37,\"\")","v":""},{"$f":"IF('ШАБЛОН для ЗАПОЛНЕНИЯ'!Z37<>\"\",'ШАБЛОН для ЗАПОЛНЕНИЯ'!Z37,\"\")","v":""},{"$f":"IF('ШАБЛОН для ЗАПОЛНЕНИЯ'!AA37<>\"\",'ШАБЛОН для ЗАПОЛНЕНИЯ'!AA37,\"\")","v":""},{"$f":"IF('ШАБЛОН для ЗАПОЛНЕНИЯ'!AB37<>\"\",'ШАБЛОН для ЗАПОЛНЕНИЯ'!AB37,\"\")","v":""},{"$f":"IF('ШАБЛОН для ЗАПОЛНЕНИЯ'!AC37<>\"\",'ШАБЛОН для ЗАПОЛНЕНИЯ'!AC37,\"\")","v":""},{"$f":"IF('ШАБЛОН для ЗАПОЛНЕНИЯ'!AD37<>\"\",'ШАБЛОН для ЗАПОЛНЕНИЯ'!AD37,\"\")","v":""},{"$f":"IF('ШАБЛОН для ЗАПОЛНЕНИЯ'!AE37<>\"\",'ШАБЛОН для ЗАПОЛНЕНИЯ'!AE37,\"\")","v":""},{"$f":"IF('ШАБЛОН для ЗАПОЛНЕНИЯ'!AF37<>\"\",'ШАБЛОН для ЗАПОЛНЕНИЯ'!AF37,\"\")","v":""},{"$f":"IF('ШАБЛОН для ЗАПОЛНЕНИЯ'!AG37<>\"\",'ШАБЛОН для ЗАПОЛНЕНИЯ'!AG37,\"\")","v":""},{"$f":"IF('ШАБЛОН для ЗАПОЛНЕНИЯ'!AH37<>\"\",'ШАБЛОН для ЗАПОЛНЕНИЯ'!AH37,\"\")","v":""},{"$f":"IF('ШАБЛОН для ЗАПОЛНЕНИЯ'!AI37<>\"\",'ШАБЛОН для ЗАПОЛНЕНИЯ'!AI37,\"\")","v":""},{"$f":"IF('ШАБЛОН для ЗАПОЛНЕНИЯ'!AJ37<>\"\",'ШАБЛОН для ЗАПОЛНЕНИЯ'!AJ37,\"\")","v":""},{"$f":"IF('ШАБЛОН для ЗАПОЛНЕНИЯ'!AK37<>\"\",'ШАБЛОН для ЗАПОЛНЕНИЯ'!AK37,\"\")","v":""},{"$f":"IF('ШАБЛОН для ЗАПОЛНЕНИЯ'!AL37<>\"\",'ШАБЛОН для ЗАПОЛНЕНИЯ'!AL37,\"\")","v":""},{"$f":"IF('ШАБЛОН для ЗАПОЛНЕНИЯ'!AM37<>\"\",'ШАБЛОН для ЗАПОЛНЕНИЯ'!AM37,\"\")","v":""},{"$f":"IF('ШАБЛОН для ЗАПОЛНЕНИЯ'!AN37<>\"\",'ШАБЛОН для ЗАПОЛНЕНИЯ'!AN37,\"\")","v":""},{"$f":"IF('ШАБЛОН для ЗАПОЛНЕНИЯ'!AO37<>\"\",'ШАБЛОН для ЗАПОЛНЕНИЯ'!AO37,\"\")","v":""},{"$f":"IF('ШАБЛОН для ЗАПОЛНЕНИЯ'!AP37<>\"\",'ШАБЛОН для ЗАПОЛНЕНИЯ'!AP37,\"\")","v":""},{"$f":"IF('ШАБЛОН для ЗАПОЛНЕНИЯ'!AQ37<>\"\",'ШАБЛОН для ЗАПОЛНЕНИЯ'!AQ37,\"\")","v":""},{"$f":"IF('ШАБЛОН для ЗАПОЛНЕНИЯ'!AR37<>\"\",'ШАБЛОН для ЗАПОЛНЕНИЯ'!AR37,\"\")","v":""},{"$f":"IF('ШАБЛОН для ЗАПОЛНЕНИЯ'!AS37<>\"\",'ШАБЛОН для ЗАПОЛНЕНИЯ'!AS37,\"\")","v":""},{"$f":"IF('ШАБЛОН для ЗАПОЛНЕНИЯ'!AT37<>\"\",'ШАБЛОН для ЗАПОЛНЕНИЯ'!AT37,\"\")","v":""},{"$f":"IF('ШАБЛОН для ЗАПОЛНЕНИЯ'!AU37<>\"\",'ШАБЛОН для ЗАПОЛНЕНИЯ'!AU37,\"\")","v":""},{"$f":"IF('ШАБЛОН для ЗАПОЛНЕНИЯ'!AV37<>\"\",'ШАБЛОН для ЗАПОЛНЕНИЯ'!AV37,\"\")","v":""},{"$f":"IF('ШАБЛОН для ЗАПОЛНЕНИЯ'!AW37<>\"\",'ШАБЛОН для ЗАПОЛНЕНИЯ'!AW37,\"\")","v":""},{"$f":"IF('ШАБЛОН для ЗАПОЛНЕНИЯ'!AX37<>\"\",'ШАБЛОН для ЗАПОЛНЕНИЯ'!AX37,\"\")","v":""},{"$f":"IF('ШАБЛОН для ЗАПОЛНЕНИЯ'!AY37<>\"\",'ШАБЛОН для ЗАПОЛНЕНИЯ'!AY37,\"\")","v":""},{"$f":"IF('ШАБЛОН для ЗАПОЛНЕНИЯ'!AZ37<>\"\",'ШАБЛОН для ЗАПОЛНЕНИЯ'!AZ37,\"\")","v":""},{"$f":"IF('ШАБЛОН для ЗАПОЛНЕНИЯ'!BA37<>\"\",'ШАБЛОН для ЗАПОЛНЕНИЯ'!BA37,\"\")","v":""},{"$f":"IF('ШАБЛОН для ЗАПОЛНЕНИЯ'!BB37<>\"\",'ШАБЛОН для ЗАПОЛНЕНИЯ'!BB37,\"\")","v":""},{"$f":"IF('ШАБЛОН для ЗАПОЛНЕНИЯ'!BC37<>\"\",'ШАБЛОН для ЗАПОЛНЕНИЯ'!BC37,\"\")","v":""},{"$f":"IF('ШАБЛОН для ЗАПОЛНЕНИЯ'!BD37<>\"\",'ШАБЛОН для ЗАПОЛНЕНИЯ'!BD37,\"\")","v":""},{"$f":"IF('ШАБЛОН для ЗАПОЛНЕНИЯ'!BE37<>\"\",'ШАБЛОН для ЗАПОЛНЕНИЯ'!BE37,\"\")","v":""},{"$f":"IF('ШАБЛОН для ЗАПОЛНЕНИЯ'!BF37<>\"\",'ШАБЛОН для ЗАПОЛНЕНИЯ'!BF37,\"\")","v":""},{"$f":"IF('ШАБЛОН для ЗАПОЛНЕНИЯ'!BG37<>\"\",'ШАБЛОН для ЗАПОЛНЕНИЯ'!BG37,\"\")","v":""},{"$f":"IF('ШАБЛОН для ЗАПОЛНЕНИЯ'!BH37<>\"\",'ШАБЛОН для ЗАПОЛНЕНИЯ'!BH37,\"\")","v":""},{"$f":"IF('ШАБЛОН для ЗАПОЛНЕНИЯ'!BI37<>\"\",'ШАБЛОН для ЗАПОЛНЕНИЯ'!BI37,\"\")","v":""},{"$f":"IF('ШАБЛОН для ЗАПОЛНЕНИЯ'!BJ37<>\"\",'ШАБЛОН для ЗАПОЛНЕНИЯ'!BJ37,\"\")","v":""},{"$f":"IF('ШАБЛОН для ЗАПОЛНЕНИЯ'!BK37<>\"\",'ШАБЛОН для ЗАПОЛНЕНИЯ'!BK37,\"\")","v":""},{"$f":"IF('ШАБЛОН для ЗАПОЛНЕНИЯ'!BL37<>\"\",'ШАБЛОН для ЗАПОЛНЕНИЯ'!BL37,\"\")","v":""},{"$f":"IF('ШАБЛОН для ЗАПОЛНЕНИЯ'!BM37<>\"\",'ШАБЛОН для ЗАПОЛНЕНИЯ'!BM37,\"\")","v":""},{"$f":"IF('ШАБЛОН для ЗАПОЛНЕНИЯ'!BN37<>\"\",'ШАБЛОН для ЗАПОЛНЕНИЯ'!BN37,\"\")","v":""},{"$f":"IF('ШАБЛОН для ЗАПОЛНЕНИЯ'!BO37<>\"\",'ШАБЛОН для ЗАПОЛНЕНИЯ'!BO37,\"\")","v":""},{"$f":"IF('ШАБЛОН для ЗАПОЛНЕНИЯ'!BP37<>\"\",'ШАБЛОН для ЗАПОЛНЕНИЯ'!BP37,\"\")","v":""},{"$f":"IF('ШАБЛОН для ЗАПОЛНЕНИЯ'!BQ37<>\"\",'ШАБЛОН для ЗАПОЛНЕНИЯ'!BQ37,\"\")","v":""},{"$f":"IF('ШАБЛОН для ЗАПОЛНЕНИЯ'!BR37<>\"\",'ШАБЛОН для ЗАПОЛНЕНИЯ'!BR37,\"\")","v":""},{"$f":"IF('ШАБЛОН для ЗАПОЛНЕНИЯ'!BS37<>\"\",'ШАБЛОН для ЗАПОЛНЕНИЯ'!BS37,\"\")","v":""},{"$f":"IF('ШАБЛОН для ЗАПОЛНЕНИЯ'!BT37<>\"\",'ШАБЛОН для ЗАПОЛНЕНИЯ'!BT37,\"\")","v":""},{"$f":"IF('ШАБЛОН для ЗАПОЛНЕНИЯ'!BU37<>\"\",'ШАБЛОН для ЗАПОЛНЕНИЯ'!BU37,\"\")","v":""},{"$f":"IF('ШАБЛОН для ЗАПОЛНЕНИЯ'!BV37<>\"\",'ШАБЛОН для ЗАПОЛНЕНИЯ'!BV37,\"\")","v":""},{"$f":"IF('ШАБЛОН для ЗАПОЛНЕНИЯ'!BW37<>\"\",'ШАБЛОН для ЗАПОЛНЕНИЯ'!BW37,\"\")","v":""},{"$f":"IF('ШАБЛОН для ЗАПОЛНЕНИЯ'!BX37<>\"\",'ШАБЛОН для ЗАПОЛНЕНИЯ'!BX37,\"\")","v":""},{"$f":"IF('ШАБЛОН для ЗАПОЛНЕНИЯ'!BY37<>\"\",'ШАБЛОН для ЗАПОЛНЕНИЯ'!BY37,\"\")","v":""},{"$f":"IF('ШАБЛОН для ЗАПОЛНЕНИЯ'!BZ37<>\"\",'ШАБЛОН для ЗАПОЛНЕНИЯ'!BZ37,\"\")","v":""},{"$f":"IF('ШАБЛОН для ЗАПОЛНЕНИЯ'!CA37<>\"\",'ШАБЛОН для ЗАПОЛНЕНИЯ'!CA37,\"\")","v":""},{"$f":"IF('ШАБЛОН для ЗАПОЛНЕНИЯ'!CB37<>\"\",'ШАБЛОН для ЗАПОЛНЕНИЯ'!CB37,\"\")","v":""},{"$f":"IF('ШАБЛОН для ЗАПОЛНЕНИЯ'!CC37<>\"\",'ШАБЛОН для ЗАПОЛНЕНИЯ'!CC37,\"\")","v":""},{"$f":"IF('ШАБЛОН для ЗАПОЛНЕНИЯ'!CD37<>\"\",'ШАБЛОН для ЗАПОЛНЕНИЯ'!CD37,\"\")","v":""},{"$f":"IF('ШАБЛОН для ЗАПОЛНЕНИЯ'!CE37<>\"\",'ШАБЛОН для ЗАПОЛНЕНИЯ'!CE37,\"\")","v":""},{"$f":"IF('ШАБЛОН для ЗАПОЛНЕНИЯ'!CF37<>\"\",'ШАБЛОН для ЗАПОЛНЕНИЯ'!CF37,\"\")","v":""},{"$f":"IF('ШАБЛОН для ЗАПОЛНЕНИЯ'!CG37<>\"\",'ШАБЛОН для ЗАПОЛНЕНИЯ'!CG37,\"\")","v":""},{"$f":"IF('ШАБЛОН для ЗАПОЛНЕНИЯ'!CH37<>\"\",'ШАБЛОН для ЗАПОЛНЕНИЯ'!CH37,\"\")","v":""},{"$f":"IF('ШАБЛОН для ЗАПОЛНЕНИЯ'!CI37<>\"\",'ШАБЛОН для ЗАПОЛНЕНИЯ'!CI37,\"\")","v":""},{"$f":"IF('ШАБЛОН для ЗАПОЛНЕНИЯ'!CJ37<>\"\",'ШАБЛОН для ЗАПОЛНЕНИЯ'!CJ37,\"\")","v":""},{"$f":"IF('ШАБЛОН для ЗАПОЛНЕНИЯ'!CK37<>\"\",'ШАБЛОН для ЗАПОЛНЕНИЯ'!CK37,\"\")","v":""},{"$f":"IF('ШАБЛОН для ЗАПОЛНЕНИЯ'!CL37<>\"\",'ШАБЛОН для ЗАПОЛНЕНИЯ'!CL37,\"\")","v":""},{"$f":"IF('ШАБЛОН для ЗАПОЛНЕНИЯ'!CM37<>\"\",'ШАБЛОН для ЗАПОЛНЕНИЯ'!CM37,\"\")","v":""},{"$f":"IF('ШАБЛОН для ЗАПОЛНЕНИЯ'!CN37<>\"\",'ШАБЛОН для ЗАПОЛНЕНИЯ'!CN37,\"\")","v":""},{"$f":"IF('ШАБЛОН для ЗАПОЛНЕНИЯ'!CO37<>\"\",'ШАБЛОН для ЗАПОЛНЕНИЯ'!CO37,\"\")","v":""},{"$f":"IF('ШАБЛОН для ЗАПОЛНЕНИЯ'!CP37<>\"\",'ШАБЛОН для ЗАПОЛНЕНИЯ'!CP37,\"\")","v":""},{"$f":"IF('ШАБЛОН для ЗАПОЛНЕНИЯ'!CQ37<>\"\",'ШАБЛОН для ЗАПОЛНЕНИЯ'!CQ37,\"\")","v":""},{"$f":"IF('ШАБЛОН для ЗАПОЛНЕНИЯ'!CR37<>\"\",'ШАБЛОН для ЗАПОЛНЕНИЯ'!CR37,\"\")","v":""},{"$f":"IF('ШАБЛОН для ЗАПОЛНЕНИЯ'!CS37<>\"\",'ШАБЛОН для ЗАПОЛНЕНИЯ'!CS37,\"\")","v":""},{"$f":"IF('ШАБЛОН для ЗАПОЛНЕНИЯ'!CT37<>\"\",'ШАБЛОН для ЗАПОЛНЕНИЯ'!CT37,\"\")","v":""}]
["ПТНИЦА",1,{"$f":"IF('ШАБЛОН для ЗАПОЛНЕНИЯ'!C38<>\"\",'ШАБЛОН для ЗАПОЛНЕНИЯ'!C38,\"\")","v":"Лит.чтение"},{"$f":"IF('ШАБЛОН для ЗАПОЛНЕНИЯ'!D38<>\"\",'ШАБЛОН для ЗАПОЛНЕНИЯ'!D38,\"\")","v":""},{"$f":"IF('ШАБЛОН для ЗАПОЛНЕНИЯ'!E38<>\"\",'ШАБЛОН для ЗАПОЛНЕНИЯ'!E38,\"\")","v":""},{"$f":"IF('ШАБЛОН для ЗАПОЛНЕНИЯ'!F38<>\"\",'ШАБЛОН для ЗАПОЛНЕНИЯ'!F38,\"\")","v":""},{"$f":"IF('ШАБЛОН для ЗАПОЛНЕНИЯ'!G38<>\"\",'ШАБЛОН для ЗАПОЛНЕНИЯ'!G38,\"\")","v":"Физкультура"},{"$f":"IF('ШАБЛОН для ЗАПОЛНЕНИЯ'!H38<>\"\",'ШАБЛОН для ЗАПОЛНЕНИЯ'!H38,\"\")","v":"---"},{"$f":"IF('ШАБЛОН для ЗАПОЛНЕНИЯ'!I38<>\"\",'ШАБЛОН для ЗАПОЛНЕНИЯ'!I38,\"\")","v":""},{"$f":"IF('ШАБЛОН для ЗАПОЛНЕНИЯ'!J38<>\"\",'ШАБЛОН для ЗАПОЛНЕНИЯ'!J38,\"\")","v":""},{"$f":"IF('ШАБЛОН для ЗАПОЛНЕНИЯ'!K38<>\"\",'ШАБЛОН для ЗАПОЛНЕНИЯ'!K38,\"\")","v":"Лит.чтение"},{"$f":"IF('ШАБЛОН для ЗАПОЛНЕНИЯ'!L38<>\"\",'ШАБЛОН для ЗАПОЛНЕНИЯ'!L38,\"\")","v":""},{"$f":"IF('ШАБЛОН для ЗАПОЛНЕНИЯ'!M38<>\"\",'ШАБЛОН для ЗАПОЛНЕНИЯ'!M38,\"\")","v":""},{"$f":"IF('ШАБЛОН для ЗАПОЛНЕНИЯ'!N38<>\"\",'ШАБЛОН для ЗАПОЛНЕНИЯ'!N38,\"\")","v":""},{"$f":"IF('ШАБЛОН для ЗАПОЛНЕНИЯ'!O38<>\"\",'ШАБЛОН для ЗАПОЛНЕНИЯ'!O38,\"\")","v":"Физкультура"},{"$f":"IF('ШАБЛОН для ЗАПОЛНЕНИЯ'!P38<>\"\",'ШАБЛОН для ЗАПОЛНЕНИЯ'!P38,\"\")","v":""},{"$f":"IF('ШАБЛОН для ЗАПОЛНЕНИЯ'!Q38<>\"\",'ШАБЛОН для ЗАПОЛНЕНИЯ'!Q38,\"\")","v":""},{"$f":"IF('ШАБЛОН для ЗАПОЛНЕНИЯ'!R38<>\"\",'ШАБЛОН для ЗАПОЛНЕНИЯ'!R38,\"\")","v":""},{"$f":"IF('ШАБЛОН для ЗАПОЛНЕНИЯ'!S38<>\"\",'ШАБЛОН для ЗАПОЛНЕНИЯ'!S38,\"\")","v":"Литература"},{"$f":"IF('ШАБЛОН для ЗАПОЛНЕНИЯ'!T38<>\"\",'ШАБЛОН для ЗАПОЛНЕНИЯ'!T38,\"\")","v":""},{"$f":"IF('ШАБЛОН для ЗАПОЛНЕНИЯ'!U38<>\"\",'ШАБЛОН для ЗАПОЛНЕНИЯ'!U38,\"\")","v":""},{"$f":"IF('ШАБЛОН для ЗАПОЛНЕНИЯ'!V38<>\"\",'ШАБЛОН для ЗАПОЛНЕНИЯ'!V38,\"\")","v":""},{"$f":"IF('ШАБЛОН для ЗАПОЛНЕНИЯ'!W38<>\"\",'ШАБЛОН для ЗАПОЛНЕНИЯ'!W38,\"\")","v":"Технология"},{"$f":"IF('ШАБЛОН для ЗАПОЛНЕНИЯ'!X38<>\"\",'ШАБЛОН для ЗАПОЛНЕНИЯ'!X38,\"\")","v":""},{"$f":"IF('ШАБЛОН для ЗАПОЛНЕНИЯ'!Y38<>\"\",'ШАБЛОН для ЗАПОЛНЕНИЯ'!Y38,\"\")","v":""},{"$f":"IF('ШАБЛОН для ЗАПОЛНЕНИЯ'!Z38<>\"\",'ШАБЛОН для ЗАПОЛНЕНИЯ'!Z38,\"\")","v":""},{"$f":"IF('ШАБЛОН для ЗАПОЛНЕНИЯ'!AA38<>\"\",'ШАБЛОН для ЗАПОЛНЕНИЯ'!AA38,\"\")","v":"Алгебра"},{"$f":"IF('ШАБЛОН для ЗАПОЛНЕНИЯ'!AB38<>\"\",'ШАБЛОН для ЗАПОЛНЕНИЯ'!AB38,\"\")","v":""},{"$f":"IF('ШАБЛОН для ЗАПОЛНЕНИЯ'!AC38<>\"\",'ШАБЛОН для ЗАПОЛНЕНИЯ'!AC38,\"\")","v":""},{"$f":"IF('ШАБЛОН для ЗАПОЛНЕНИЯ'!AD38<>\"\",'ШАБЛОН для ЗАПОЛНЕНИЯ'!AD38,\"\")","v":""},{"$f":"IF('ШАБЛОН для ЗАПОЛНЕНИЯ'!AE38<>\"\",'ШАБЛОН для ЗАПОЛНЕНИЯ'!AE38,\"\")","v":"Геометрия"},{"$f":"IF('ШАБЛОН для ЗАПОЛНЕНИЯ'!AF38<>\"\",'ШАБЛОН для ЗАПОЛНЕНИЯ'!AF38,\"\")","v":""},{"$f":"IF('ШАБЛОН для ЗАПОЛНЕНИЯ'!AG38<>\"\",'ШАБЛОН для ЗАПОЛНЕНИЯ'!AG38,\"\")","v":""},{"$f":"IF('ШАБЛОН для ЗАПОЛНЕНИЯ'!AH38<>\"\",'ШАБЛОН для ЗАПОЛНЕНИЯ'!AH38,\"\")","v":""},{"$f":"IF('ШАБЛОН для ЗАПОЛНЕНИЯ'!AI38<>\"\",'ШАБЛОН для ЗАПОЛНЕНИЯ'!AI38,\"\")","v":"Физкультура"},{"$f":"IF('ШАБЛОН для ЗАПОЛНЕНИЯ'!AJ38<>\"\",'ШАБЛОН для ЗАПОЛНЕНИЯ'!AJ38,\"\")","v":""},{"$f":"IF('ШАБЛОН для ЗАПОЛНЕНИЯ'!AK38<>\"\",'ШАБЛОН для ЗАПОЛНЕНИЯ'!AK38,\"\")","v":""},{"$f":"IF('ШАБЛОН для ЗАПОЛНЕНИЯ'!AL38<>\"\",'ШАБЛОН для ЗАПОЛНЕНИЯ'!AL38,\"\")","v":""},{"$f":"IF('ШАБЛОН для ЗАПОЛНЕНИЯ'!AM38<>\"\",'ШАБЛОН для ЗАПОЛНЕНИЯ'!AM38,\"\")","v":""},{"$f":"IF('ШАБЛОН для ЗАПОЛНЕНИЯ'!AN38<>\"\",'ШАБЛОН для ЗАПОЛНЕНИЯ'!AN38,\"\")","v":"---"},{"$f":"IF('ШАБЛОН для ЗАПОЛНЕНИЯ'!AO38<>\"\",'ШАБЛОН для ЗАПОЛНЕНИЯ'!AO38,\"\")","v":""},{"$f":"IF('ШАБЛОН для ЗАПОЛНЕНИЯ'!AP38<>\"\",'ШАБЛОН для ЗАПОЛНЕНИЯ'!AP38,\"\")","v":""},{"$f":"IF('ШАБЛОН для ЗАПОЛНЕНИЯ'!AQ38<>\"\",'ШАБЛОН для ЗАПОЛНЕНИЯ'!AQ38,\"\")","v":""},{"$f":"IF('ШАБЛОН для ЗАПОЛНЕНИЯ'!AR38<>\"\",'ШАБЛОН для ЗАПОЛНЕНИЯ'!AR38,\"\")","v":"---"},{"$f":"IF('ШАБЛОН для ЗАПОЛНЕНИЯ'!AS38<>\"\",'ШАБЛОН для ЗАПОЛНЕНИЯ'!AS38,\"\")","v":""},{"$f":"IF('ШАБЛОН для ЗАПОЛНЕНИЯ'!AT38<>\"\",'ШАБЛОН для ЗАПОЛНЕНИЯ'!AT38,\"\")","v":""},{"$f":"IF('ШАБЛОН для ЗАПОЛНЕНИЯ'!AU38<>\"\",'ШАБЛОН для ЗАПОЛНЕНИЯ'!AU38,\"\")","v":""},{"$f":"IF('ШАБЛОН для ЗАПОЛНЕНИЯ'!AV38<>\"\",'ШАБЛОН для ЗАПОЛНЕНИЯ'!AV38,\"\")","v":"---"},{"$f":"IF('ШАБЛОН для ЗАПОЛНЕНИЯ'!AW38<>\"\",'ШАБЛОН для ЗАПОЛНЕНИЯ'!AW38,\"\")","v":""},{"$f":"IF('ШАБЛОН для ЗАПОЛНЕНИЯ'!AX38<>\"\",'ШАБЛОН для ЗАПОЛНЕНИЯ'!AX38,\"\")","v":""},{"$f":"IF('ШАБЛОН для ЗАПОЛНЕНИЯ'!AY38<>\"\",'ШАБЛОН для ЗАПОЛНЕНИЯ'!AY38,\"\")","v":""},{"$f":"IF('ШАБЛОН для ЗАПОЛНЕНИЯ'!AZ38<>\"\",'ШАБЛОН для ЗАПОЛНЕНИЯ'!AZ38,\"\")","v":"---"},{"$f":"IF('ШАБЛОН для ЗАПОЛНЕНИЯ'!BA38<>\"\",'ШАБЛОН для ЗАПОЛНЕНИЯ'!BA38,\"\")","v":""},{"$f":"IF('ШАБЛОН для ЗАПОЛНЕНИЯ'!BB38<>\"\",'ШАБЛОН для ЗАПОЛНЕНИЯ'!BB38,\"\")","v":""},{"$f":"IF('ШАБЛОН для ЗАПОЛНЕНИЯ'!BC38<>\"\",'ШАБЛОН для ЗАПОЛНЕНИЯ'!BC38,\"\")","v":""},{"$f":"IF('ШАБЛОН для ЗАПОЛНЕНИЯ'!BD38<>\"\",'ШАБЛОН для ЗАПОЛНЕНИЯ'!BD38,\"\")","v":"---"},{"$f":"IF('ШАБЛОН для ЗАПОЛНЕНИЯ'!BE38<>\"\",'ШАБЛОН для ЗАПОЛНЕНИЯ'!BE38,\"\")","v":""},{"$f":"IF('ШАБЛОН для ЗАПОЛНЕНИЯ'!BF38<>\"\",'ШАБЛОН для ЗАПОЛНЕНИЯ'!BF38,\"\")","v":""},{"$f":"IF('ШАБЛОН для ЗАПОЛНЕНИЯ'!BG38<>\"\",'ШАБЛОН для ЗАПОЛНЕНИЯ'!BG38,\"\")","v":""},{"$f":"IF('ШАБЛОН для ЗАПОЛНЕНИЯ'!BH38<>\"\",'ШАБЛОН для ЗАПОЛНЕНИЯ'!BH38,\"\")","v":"---"},{"$f":"IF('ШАБЛОН для ЗАПОЛНЕНИЯ'!BI38<>\"\",'ШАБЛОН для ЗАПОЛНЕНИЯ'!BI38,\"\")","v":""},{"$f":"IF('ШАБЛОН для ЗАПОЛНЕНИЯ'!BJ38<>\"\",'ШАБЛОН для ЗАПОЛНЕНИЯ'!BJ38,\"\")","v":""},{"$f":"IF('ШАБЛОН для ЗАПОЛНЕНИЯ'!BK38<>\"\",'ШАБЛОН для ЗАПОЛНЕНИЯ'!BK38,\"\")","v":""},{"$f":"IF('ШАБЛОН для ЗАПОЛНЕНИЯ'!BL38<>\"\",'ШАБЛОН для ЗАПОЛНЕНИЯ'!BL38,\"\")","v":"---"},{"$f":"IF('ШАБЛОН для ЗАПОЛНЕНИЯ'!BM38<>\"\",'ШАБЛОН для ЗАПОЛНЕНИЯ'!BM38,\"\")","v":""},{"$f":"IF('ШАБЛОН для ЗАПОЛНЕНИЯ'!BN38<>\"\",'ШАБЛОН для ЗАПОЛНЕНИЯ'!BN38,\"\")","v":""},{"$f":"IF('ШАБЛОН для ЗАПОЛНЕНИЯ'!BO38<>\"\",'ШАБЛОН для ЗАПОЛНЕНИЯ'!BO38,\"\")","v":""},{"$f":"IF('ШАБЛОН для ЗАПОЛНЕНИЯ'!BP38<>\"\",'ШАБЛОН для ЗАПОЛНЕНИЯ'!BP38,\"\")","v":"---"},{"$f":"IF('ШАБЛОН для ЗАПОЛНЕНИЯ'!BQ38<>\"\",'ШАБЛОН для ЗАПОЛНЕНИЯ'!BQ38,\"\")","v":""},{"$f":"IF('ШАБЛОН для ЗАПОЛНЕНИЯ'!BR38<>\"\",'ШАБЛОН для ЗАПОЛНЕНИЯ'!BR38,\"\")","v":""},{"$f":"IF('ШАБЛОН для ЗАПОЛНЕНИЯ'!BS38<>\"\",'ШАБЛОН для ЗАПОЛНЕНИЯ'!BS38,\"\")","v":""},{"$f":"IF('ШАБЛОН для ЗАПОЛНЕНИЯ'!BT38<>\"\",'ШАБЛОН для ЗАПОЛНЕНИЯ'!BT38,\"\")","v":"---"},{"$f":"IF('ШАБЛОН для ЗАПОЛНЕНИЯ'!BU38<>\"\",'ШАБЛОН для ЗАПОЛНЕНИЯ'!BU38,\"\")","v":""},{"$f":"IF('ШАБЛОН для ЗАПОЛНЕНИЯ'!BV38<>\"\",'ШАБЛОН для ЗАПОЛНЕНИЯ'!BV38,\"\")","v":""},{"$f":"IF('ШАБЛОН для ЗАПОЛНЕНИЯ'!BW38<>\"\",'ШАБЛОН для ЗАПОЛНЕНИЯ'!BW38,\"\")","v":""},{"$f":"IF('ШАБЛОН для ЗАПОЛНЕНИЯ'!BX38<>\"\",'ШАБЛОН для ЗАПОЛНЕНИЯ'!BX38,\"\")","v":"---"},{"$f":"IF('ШАБЛОН для ЗАПОЛНЕНИЯ'!BY38<>\"\",'ШАБЛОН для ЗАПОЛНЕНИЯ'!BY38,\"\")","v":""},{"$f":"IF('ШАБЛОН для ЗАПОЛНЕНИЯ'!BZ38<>\"\",'ШАБЛОН для ЗАПОЛНЕНИЯ'!BZ38,\"\")","v":""},{"$f":"IF('ШАБЛОН для ЗАПОЛНЕНИЯ'!CA38<>\"\",'ШАБЛОН для ЗАПОЛНЕНИЯ'!CA38,\"\")","v":""},{"$f":"IF('ШАБЛОН для ЗАПОЛНЕНИЯ'!CB38<>\"\",'ШАБЛОН для ЗАПОЛНЕНИЯ'!CB38,\"\")","v":"---"},{"$f":"IF('ШАБЛОН для ЗАПОЛНЕНИЯ'!CC38<>\"\",'ШАБЛОН для ЗАПОЛНЕНИЯ'!CC38,\"\")","v":""},{"$f":"IF('ШАБЛОН для ЗАПОЛНЕНИЯ'!CD38<>\"\",'ШАБЛОН для ЗАПОЛНЕНИЯ'!CD38,\"\")","v":""},{"$f":"IF('ШАБЛОН для ЗАПОЛНЕНИЯ'!CE38<>\"\",'ШАБЛОН для ЗАПОЛНЕНИЯ'!CE38,\"\")","v":""},{"$f":"IF('ШАБЛОН для ЗАПОЛНЕНИЯ'!CF38<>\"\",'ШАБЛОН для ЗАПОЛНЕНИЯ'!CF38,\"\")","v":"---"},{"$f":"IF('ШАБЛОН для ЗАПОЛНЕНИЯ'!CG38<>\"\",'ШАБЛОН для ЗАПОЛНЕНИЯ'!CG38,\"\")","v":""},{"$f":"IF('ШАБЛОН для ЗАПОЛНЕНИЯ'!CH38<>\"\",'ШАБЛОН для ЗАПОЛНЕНИЯ'!CH38,\"\")","v":""},{"$f":"IF('ШАБЛОН для ЗАПОЛНЕНИЯ'!CI38<>\"\",'ШАБЛОН для ЗАПОЛНЕНИЯ'!CI38,\"\")","v":""},{"$f":"IF('ШАБЛОН для ЗАПОЛНЕНИЯ'!CJ38<>\"\",'ШАБЛОН для ЗАПОЛНЕНИЯ'!CJ38,\"\")","v":"---"},{"$f":"IF('ШАБЛОН для ЗАПОЛНЕНИЯ'!CK38<>\"\",'ШАБЛОН для ЗАПОЛНЕНИЯ'!CK38,\"\")","v":""},{"$f":"IF('ШАБЛОН для ЗАПОЛНЕНИЯ'!CL38<>\"\",'ШАБЛОН для ЗАПОЛНЕНИЯ'!CL38,\"\")","v":""},{"$f":"IF('ШАБЛОН для ЗАПОЛНЕНИЯ'!CM38<>\"\",'ШАБЛОН для ЗАПОЛНЕНИЯ'!CM38,\"\")","v":""},{"$f":"IF('ШАБЛОН для ЗАПОЛНЕНИЯ'!CN38<>\"\",'ШАБЛОН для ЗАПОЛНЕНИЯ'!CN38,\"\")","v":"---"},{"$f":"IF('ШАБЛОН для ЗАПОЛНЕНИЯ'!CO38<>\"\",'ШАБЛОН для ЗАПОЛНЕНИЯ'!CO38,\"\")","v":""},{"$f":"IF('ШАБЛОН для ЗАПОЛНЕНИЯ'!CP38<>\"\",'ШАБЛОН для ЗАПОЛНЕНИЯ'!CP38,\"\")","v":""},{"$f":"IF('ШАБЛОН для ЗАПОЛНЕНИЯ'!CQ38<>\"\",'ШАБЛОН для ЗАПОЛНЕНИЯ'!CQ38,\"\")","v":""},{"$f":"IF('ШАБЛОН для ЗАПОЛНЕНИЯ'!CR38<>\"\",'ШАБЛОН для ЗАПОЛНЕНИЯ'!CR38,\"\")","v":"---"},{"$f":"IF('ШАБЛОН для ЗАПОЛНЕНИЯ'!CS38<>\"\",'ШАБЛОН для ЗАПОЛНЕНИЯ'!CS38,\"\")","v":""},{"$f":"IF('ШАБЛОН для ЗАПОЛНЕНИЯ'!CT38<>\"\",'ШАБЛОН для ЗАПОЛНЕНИЯ'!CT38,\"\")","v":""}]
[null,2,{"$f":"IF('ШАБЛОН для ЗАПОЛНЕНИЯ'!C39<>\"\",'ШАБЛОН для ЗАПОЛНЕНИЯ'!C39,\"\")","v":"Физкультура"},{"$f":"IF('ШАБЛОН для ЗАПОЛНЕНИЯ'!D39<>\"\",'ШАБЛОН для ЗАПОЛНЕНИЯ'!D39,\"\")","v":""},{"$f":"IF('ШАБЛОН для ЗАПОЛНЕНИЯ'!E39<>\"\",'ШАБЛОН для ЗАПОЛНЕНИЯ'!E39,\"\")","v":""},{"$f":"IF('ШАБЛОН для ЗАПОЛНЕНИЯ'!F39<>\"\",'ШАБЛОН для ЗАПОЛНЕНИЯ'!F39,\"\")","v":""},{"$f":"IF('ШАБЛОН для ЗАПОЛНЕНИЯ'!G39<>\"\",'ШАБЛОН для ЗАПОЛНЕНИЯ'!G39,\"\")","v":"Лит.чтение"},{"$f":"IF('ШАБЛОН для ЗАПОЛНЕНИЯ'!H39<>\"\",'ШАБЛОН для ЗАПОЛНЕНИЯ'!H39,\"\")","v":""},{"$f":"IF('ШАБЛОН для ЗАПОЛНЕНИЯ'!I39<>\"\",'ШАБЛОН для ЗАПОЛНЕНИЯ'!I39,\"\")","v":""},{"$f":"IF('ШАБЛОН для ЗАПОЛНЕНИЯ'!J39<>\"\",'ШАБЛОН для ЗАПОЛНЕНИЯ'!J39,\"\")","v":""},{"$f":"IF('ШАБЛОН для ЗАПОЛНЕНИЯ'!K39<>\"\",'ШАБЛОН для ЗАПОЛНЕНИЯ'!K39,\"\")","v":"Физкультура"},{"$f":"IF('ШАБЛОН для ЗАПОЛНЕНИЯ'!L39<>\"\",'ШАБЛОН для ЗАПОЛНЕНИЯ'!L39,\"\")","v":""},{"$f":"IF('ШАБЛОН для ЗАПОЛНЕНИЯ'!M39<>\"\",'ШАБЛОН для ЗАПОЛНЕНИЯ'!M39,\"\")","v":""},{"$f":"IF('ШАБЛОН для ЗАПОЛНЕНИЯ'!N39<>\"\",'ШАБЛОН для ЗАПОЛНЕНИЯ'!N39,\"\")","v":""},{"$f":"IF('ШАБЛОН для ЗАПОЛНЕНИЯ'!O39<>\"\",'ШАБЛОН для ЗАПОЛНЕНИЯ'!O39,\"\")","v":"Лит.чтение"},{"$f":"IF('ШАБЛОН для ЗАПОЛНЕНИЯ'!P39<>\"\",'ШАБЛОН для ЗАПОЛНЕНИЯ'!P39,\"\")","v":""},{"$f":"IF('ШАБЛОН для ЗАПОЛНЕНИЯ'!Q39<>\"\",'ШАБЛОН для ЗАПОЛНЕНИЯ'!Q39,\"\")","v":""},{"$f":"IF('ШАБЛОН для ЗАПОЛНЕНИЯ'!R39<>\"\",'ШАБЛОН для ЗАПОЛНЕНИЯ'!R39,\"\")","v":""},{"$f":"IF('ШАБЛОН для ЗАПОЛНЕНИЯ'!S39<>\"\",'ШАБЛОН для ЗАПОЛНЕНИЯ'!S39,\"\")","v":"Рус.язык"},{"$f":"IF('ШАБЛОН для ЗАПОЛНЕНИЯ'!T39<>\"\",'ШАБЛОН для ЗАПОЛНЕНИЯ'!T39,\"\")","v":""},{"$f":"IF('ШАБЛОН для ЗАПОЛНЕНИЯ'!U39<>\"\",'ШАБЛОН для ЗАПОЛНЕНИЯ'!U39,\"\")","v":""},{"$f":"IF('ШАБЛОН для ЗАПОЛНЕНИЯ'!V39<>\"\",'ШАБЛОН для ЗАПОЛНЕНИЯ'!V39,\"\")","v":""},{"$f":"IF('ШАБЛОН для ЗАПОЛНЕНИЯ'!W39<>\"\",'ШАБЛОН для ЗАПОЛНЕНИЯ'!W39,\"\")","v":"Математика"},{"$f":"IF('ШАБЛОН для ЗАПОЛНЕНИЯ'!X39<>\"\",'ШАБЛОН для ЗАПОЛНЕНИЯ'!X39,\"\")","v":""},{"$f":"IF('ШАБЛОН для ЗАПОЛНЕНИЯ'!Y39<>\"\",'ШАБЛОН для ЗАПОЛНЕНИЯ'!Y39,\"\")","v":""},{"$f":"IF('ШАБЛОН для ЗАПОЛНЕНИЯ'!Z39<>\"\",'ШАБЛОН для ЗАПОЛНЕНИЯ'!Z39,\"\")","v":""},{"$f":"IF('ШАБЛОН для ЗАПОЛНЕНИЯ'!AA39<>\"\",'ШАБЛОН для ЗАПОЛНЕНИЯ'!AA39,\"\")","v":"Геометрия"},{"$f":"IF('ШАБЛОН для ЗАПОЛНЕНИЯ'!AB39<>\"\",'ШАБЛОН для ЗАПОЛНЕНИЯ'!AB39,\"\")","v":""},{"$f":"IF('ШАБЛОН для ЗАПОЛНЕНИЯ'!AC39<>\"\",'ШАБЛОН для ЗАПОЛНЕНИЯ'!AC39,\"\")","v":""},{"$f":"IF('ШАБЛОН для ЗАПОЛНЕНИЯ'!AD39<>\"\",'ШАБЛОН для ЗАПОЛНЕНИЯ'!AD39,\"\")","v":""},{"$f":"IF('ШАБЛОН для ЗАПОЛНЕНИЯ'!AE39<>\"\",'ШАБЛОН для ЗАПОЛНЕНИЯ'!AE39,\"\")","v":"Рус.язык"},{"$f":"IF('ШАБЛОН для ЗАПОЛНЕНИЯ'!AF39<>\"\",'ШАБЛОН для ЗАПОЛНЕНИЯ'!AF39,\"\")","v":""},{"$f":"IF('ШАБЛОН для ЗАПОЛНЕНИЯ'!AG39<>\"\",'ШАБЛОН для ЗАПОЛНЕНИЯ'!AG39,\"\")","v":""},{"$f":"IF('ШАБЛОН для ЗАПОЛНЕНИЯ'!AH39<>\"\",'ШАБЛОН для ЗАПОЛНЕНИЯ'!AH39,\"\")","v":""},{"$f":"IF('ШАБЛОН для ЗАПОЛНЕНИЯ'!AI39<>\"\",'ШАБЛОН для ЗАПОЛНЕНИЯ'!AI39,\"\")","v":"Родная лит."},{"$f":"IF('ШАБЛОН для ЗАПОЛНЕНИЯ'!AJ39<>\"\",'ШАБЛОН для ЗАПОЛНЕНИЯ'!AJ39,\"\")","v":""},{"$f":"IF('ШАБЛОН для ЗАПОЛНЕНИЯ'!AK39<>\"\",'ШАБЛОН для ЗАПОЛНЕНИЯ'!AK39,\"\")","v":""},{"$f":"IF('ШАБЛОН для ЗАПОЛНЕНИЯ'!AL39<>\"\",'ШАБЛОН для ЗАПОЛНЕНИЯ'!AL39,\"\")","v":""},{"$f":"IF('ШАБЛОН для ЗАПОЛНЕНИЯ'!AM39<>\"\",'ШАБЛОН для ЗАПОЛНЕНИЯ'!AM39,\"\")","v":""},{"$f":"IF('ШАБЛОН для ЗАПОЛНЕНИЯ'!AN39<>\"\",'ШАБЛОН для ЗАПОЛНЕНИЯ'!AN39,\"\")","v":""},{"$f":"IF('ШАБЛОН для ЗАПОЛНЕНИЯ'!AO39<>\"\",'ШАБЛОН для ЗАПОЛНЕНИЯ'!AO39,\"\")","v":""},{"$f":"IF('ШАБЛОН для ЗАПОЛНЕНИЯ'!AP39<>\"\",'ШАБЛОН для ЗАПОЛНЕНИЯ'!AP39,\"\")","v":""},{"$f":"IF('ШАБЛОН для ЗАПОЛНЕНИЯ'!AQ39<>\"\",'ШАБЛОН для ЗАПОЛНЕНИЯ'!AQ39,\"\")","v":""},{"$f":"IF('ШАБЛОН для ЗАПОЛНЕНИЯ'!AR39<>\"\",'ШАБЛОН для ЗАПОЛНЕНИЯ'!AR39,\"\")","v":""},{"$f":"IF('ШАБЛОН для ЗАПОЛНЕНИЯ'!AS39<>\"\",'ШАБЛОН для ЗАПОЛНЕНИЯ'!AS39,\"\")","v":""},{"$f":"IF('ШАБЛОН для ЗАПОЛНЕНИЯ'!AT39<>\"\",'ШАБЛОН для ЗАПОЛНЕНИЯ'!AT39,\"\")","v":""},{"$f":"IF('ШАБЛОН для ЗАПОЛНЕНИЯ'!AU39<>\"\",'ШАБЛОН для ЗАПОЛНЕНИЯ'!AU39,\"\")","v":""},{"$f":"IF('ШАБЛОН для ЗАПОЛНЕНИЯ'!AV39<>\"\",'ШАБЛОН для ЗАПОЛНЕНИЯ'!AV39,\"\")","v":""},{"$f":"IF('ШАБЛОН для ЗАПОЛНЕНИЯ'!AW39<>\"\",'ШАБЛОН для ЗАПОЛНЕНИЯ'!AW39,\"\")","v":""},{"$f":"IF('ШАБЛОН для ЗАПОЛНЕНИЯ'!AX39<>\"\",'ШАБЛОН для ЗАПОЛНЕНИЯ'!AX39,\"\")","v":""},{"$f":"IF('ШАБЛОН для ЗАПОЛНЕНИЯ'!AY39<>\"\",'ШАБЛОН для ЗАПОЛНЕНИЯ'!AY39,\"\")","v":""},{"$f":"IF('ШАБЛОН для ЗАПОЛНЕНИЯ'!AZ39<>\"\",'ШАБЛОН для ЗАПОЛНЕНИЯ'!AZ39,\"\")","v":""},{"$f":"IF('ШАБЛОН для ЗАПОЛНЕНИЯ'!BA39<>\"\",'ШАБЛОН для ЗАПОЛНЕНИЯ'!BA39,\"\")","v":""},{"$f":"IF('ШАБЛОН для ЗАПОЛНЕНИЯ'!BB39<>\"\",'ШАБЛОН для ЗАПОЛНЕНИЯ'!BB39,\"\")","v":""},{"$f":"IF('ШАБЛОН для ЗАПОЛНЕНИЯ'!BC39<>\"\",'ШАБЛОН для ЗАПОЛНЕНИЯ'!BC39,\"\")","v":""},{"$f":"IF('ШАБЛОН для ЗАПОЛНЕНИЯ'!BD39<>\"\",'ШАБЛОН для ЗАПОЛНЕНИЯ'!BD39,\"\")","v":""},{"$f":"IF('ШАБЛОН для ЗАПОЛНЕНИЯ'!BE39<>\"\",'ШАБЛОН для ЗАПОЛНЕНИЯ'!BE39,\"\")","v":""},{"$f":"IF('ШАБЛОН для ЗАПОЛНЕНИЯ'!BF39<>\"\",'ШАБЛОН для ЗАПОЛНЕНИЯ'!BF39,\"\")","v":""},{"$f":"IF('ШАБЛОН для ЗАПОЛНЕНИЯ'!BG39<>\"\",'ШАБЛОН для ЗАПОЛНЕНИЯ'!BG39,\"\")","v":""},{"$f":"IF('ШАБЛОН для ЗАПОЛНЕНИЯ'!BH39<>\"\",'ШАБЛОН для ЗАПОЛНЕНИЯ'!BH39,\"\")","v":""},{"$f":"IF('ШАБЛОН для ЗАПОЛНЕНИЯ'!BI39<>\"\",'ШАБЛОН для ЗАПОЛНЕНИЯ'!BI39,\"\")","v":""},{"$f":"IF('ШАБЛОН для ЗАПОЛНЕНИЯ'!BJ39<>\"\",'ШАБЛОН для ЗАПОЛНЕНИЯ'!BJ39,\"\")","v":""},{"$f":"IF('ШАБЛОН для ЗАПОЛНЕНИЯ'!BK39<>\"\",'ШАБЛОН для ЗАПОЛНЕНИЯ'!BK39,\"\")","v":""},{"$f":"IF('ШАБЛОН для ЗАПОЛНЕНИЯ'!BL39<>\"\",'ШАБЛОН для ЗАПОЛНЕНИЯ'!BL39,\"\")","v":""},{"$f":"IF('ШАБЛОН для ЗАПОЛНЕНИЯ'!BM39<>\"\",'ШАБЛОН для ЗАПОЛНЕНИЯ'!BM39,\"\")","v":""},{"$f":"IF('ШАБЛОН для ЗАПОЛНЕНИЯ'!BN39<>\"\",'ШАБЛОН для ЗАПОЛНЕНИЯ'!BN39,\"\")","v":""},{"$f":"IF('ШАБЛОН для ЗАПОЛНЕНИЯ'!BO39<>\"\",'ШАБЛОН для ЗАПОЛНЕНИЯ'!BO39,\"\")","v":""},{"$f":"IF('ШАБЛОН для ЗАПОЛНЕНИЯ'!BP39<>\"\",'ШАБЛОН для ЗАПОЛНЕНИЯ'!BP39,\"\")","v":""},{"$f":"IF('ШАБЛОН для ЗАПОЛНЕНИЯ'!BQ39<>\"\",'ШАБЛОН для ЗАПОЛНЕНИЯ'!BQ39,\"\")","v":""},{"$f":"IF('ШАБЛОН для ЗАПОЛНЕНИЯ'!BR39<>\"\",'ШАБЛОН для ЗАПОЛНЕНИЯ'!BR39,\"\")","v":""},{"$f":"IF('ШАБЛОН для ЗАПОЛНЕНИЯ'!BS39<>\"\",'ШАБЛОН для ЗАПОЛНЕНИЯ'!BS39,\"\")","v":""},{"$f":"IF('ШАБЛОН для ЗАПОЛНЕНИЯ'!BT39<>\"\",'ШАБЛОН для ЗАПОЛНЕНИЯ'!BT39,\"\")","v":""},{"$f":"IF('ШАБЛОН для ЗАПОЛНЕНИЯ'!BU39<>\"\",'ШАБЛОН для ЗАПОЛНЕНИЯ'!BU39,\"\")","v":""},{"$f":"IF('ШАБЛОН для ЗАПОЛНЕНИЯ'!BV39<>\"\",'ШАБЛОН для ЗАПОЛНЕНИЯ'!BV39,\"\")","v":""},{"$f":"IF('ШАБЛОН для ЗАПОЛНЕНИЯ'!BW39<>\"\",'ШАБЛОН для ЗАПОЛНЕНИЯ'!BW39,\"\")","v":""},{"$f":"IF('ШАБЛОН для ЗАПОЛНЕНИЯ'!BX39<>\"\",'ШАБЛОН для ЗАПОЛНЕНИЯ'!BX39,\"\")","v":""},{"$f":"IF('ШАБЛОН для ЗАПОЛНЕНИЯ'!BY39<>\"\",'ШАБЛОН для ЗАПОЛНЕНИЯ'!BY39,\"\")","v":""},{"$f":"IF('ШАБЛОН для ЗАПОЛНЕНИЯ'!BZ39<>\"\",'ШАБЛОН для ЗАПОЛНЕНИЯ'!BZ39,\"\")","v":""},{"$f":"IF('ШАБЛОН для ЗАПОЛНЕНИЯ'!CA39<>\"\",'ШАБЛОН для ЗАПОЛНЕНИЯ'!CA39,\"\")","v":""},{"$f":"IF('ШАБЛОН для ЗАПОЛНЕНИЯ'!CB39<>\"\",'ШАБЛОН для ЗАПОЛНЕНИЯ'!CB39,\"\")","v":""},{"$f":"IF('ШАБЛОН для ЗАПОЛНЕНИЯ'!CC39<>\"\",'ШАБЛОН для ЗАПОЛНЕНИЯ'!CC39,\"\")","v":""},{"$f":"IF('ШАБЛОН для ЗАПОЛНЕНИЯ'!CD39<>\"\",'ШАБЛОН для ЗАПОЛНЕНИЯ'!CD39,\"\")","v":""},{"$f":"IF('ШАБЛОН для ЗАПОЛНЕНИЯ'!CE39<>\"\",'ШАБЛОН для ЗАПОЛНЕНИЯ'!CE39,\"\")","v":""},{"$f":"IF('ШАБЛОН для ЗАПОЛНЕНИЯ'!CF39<>\"\",'ШАБЛОН для ЗАПОЛНЕНИЯ'!CF39,\"\")","v":""},{"$f":"IF('ШАБЛОН для ЗАПОЛНЕНИЯ'!CG39<>\"\",'ШАБЛОН для ЗАПОЛНЕНИЯ'!CG39,\"\")","v":""},{"$f":"IF('ШАБЛОН для ЗАПОЛНЕНИЯ'!CH39<>\"\",'ШАБЛОН для ЗАПОЛНЕНИЯ'!CH39,\"\")","v":""},{"$f":"IF('ШАБЛОН для ЗАПОЛНЕНИЯ'!CI39<>\"\",'ШАБЛОН для ЗАПОЛНЕНИЯ'!CI39,\"\")","v":""},{"$f":"IF('ШАБЛОН для ЗАПОЛНЕНИЯ'!CJ39<>\"\",'ШАБЛОН для ЗАПОЛНЕНИЯ'!CJ39,\"\")","v":""},{"$f":"IF('ШАБЛОН для ЗАПОЛНЕНИЯ'!CK39<>\"\",'ШАБЛОН для ЗАПОЛНЕНИЯ'!CK39,\"\")","v":""},{"$f":"IF('ШАБЛОН для ЗАПОЛНЕНИЯ'!CL39<>\"\",'ШАБЛОН для ЗАПОЛНЕНИЯ'!CL39,\"\")","v":""},{"$f":"IF('ШАБЛОН для ЗАПОЛНЕНИЯ'!CM39<>\"\",'ШАБЛОН для ЗАПОЛНЕНИЯ'!CM39,\"\")","v":""},{"$f":"IF('ШАБЛОН для ЗАПОЛНЕНИЯ'!CN39<>\"\",'ШАБЛОН для ЗАПОЛНЕНИЯ'!CN39,\"\")","v":""},{"$f":"IF('ШАБЛОН для ЗАПОЛНЕНИЯ'!CO39<>\"\",'ШАБЛОН для ЗАПОЛНЕНИЯ'!CO39,\"\")","v":""},{"$f":"IF('ШАБЛОН для ЗАПОЛНЕНИЯ'!CP39<>\"\",'ШАБЛОН для ЗАПОЛНЕНИЯ'!CP39,\"\")","v":""},{"$f":"IF('ШАБЛОН для ЗАПОЛНЕНИЯ'!CQ39<>\"\",'ШАБЛОН для ЗАПОЛНЕНИЯ'!CQ39,\"\")","v":""},{"$f":"IF('ШАБЛОН для ЗАПОЛНЕНИЯ'!CR39<>\"\",'ШАБЛОН для ЗАПОЛНЕНИЯ'!CR39,\"\")","v":""},{"$f":"IF('ШАБЛОН для ЗАПОЛНЕНИЯ'!CS39<>\"\",'ШАБЛОН для ЗАПОЛНЕНИЯ'!CS39,\"\")","v":""},{"$f":"IF('ШАБЛОН для ЗАПОЛНЕНИЯ'!CT39<>\"\",'ШАБЛОН для ЗАПОЛНЕНИЯ'!CT39,\"\")","v":""}]
[null,3,{"$f":"IF('ШАБЛОН для ЗАПОЛНЕНИЯ'!C40<>\"\",'ШАБЛОН для ЗАПОЛНЕНИЯ'!C40,\"\")","v":"Математика"},{"$f":"IF('ШАБЛОН для ЗАПОЛНЕНИЯ'!D40<>\"\",'ШАБЛОН для ЗАПОЛНЕНИЯ'!D40,\"\")","v":""},{"$f":"IF('ШАБЛОН для ЗАПОЛНЕНИЯ'!E40<>\"\",'ШАБЛОН для ЗАПОЛНЕНИЯ'!E40,\"\")","v":""},{"$f":"IF('ШАБЛОН для ЗАПОЛНЕНИЯ'!F40<>\"\",'ШАБЛОН для ЗАПОЛНЕНИЯ'!F40,\"\")","v":""},{"$f":"IF('ШАБЛОН для ЗАПОЛНЕНИЯ'!G40<>\"\",'ШАБЛОН для ЗАПОЛНЕНИЯ'!G40,\"\")","v":"Рус.язык"},{"$f":"IF('ШАБЛОН для ЗАПОЛНЕНИЯ'!H40<>\"\",'ШАБЛОН для ЗАПОЛНЕНИЯ'!H40,\"\")","v":""},{"$f":"IF('ШАБЛОН для ЗАПОЛНЕНИЯ'!I40<>\"\",'ШАБЛОН для ЗАПОЛНЕНИЯ'!I40,\"\")","v":""},{"$f":"IF('ШАБЛОН для ЗАПОЛНЕНИЯ'!J40<>\"\",'ШАБЛОН для ЗАПОЛНЕНИЯ'!J40,\"\")","v":""},{"$f":"IF('ШАБЛОН для ЗАПОЛНЕНИЯ'!K40<>\"\",'ШАБЛОН для ЗАПОЛНЕНИЯ'!K40,\"\")","v":"Математика"},{"$f":"IF('ШАБЛОН для ЗАПОЛНЕНИЯ'!L40<>\"\",'ШАБЛОН для ЗАПОЛНЕНИЯ'!L40,\"\")","v":""},{"$f":"IF('ШАБЛОН для ЗАПОЛНЕНИЯ'!M40<>\"\",'ШАБЛОН для ЗАПОЛНЕНИЯ'!M40,\"\")","v":""},{"$f":"IF('ШАБЛОН для ЗАПОЛНЕНИЯ'!N40<>\"\",'ШАБЛОН для ЗАПОЛНЕНИЯ'!N40,\"\")","v":""},{"$f":"IF('ШАБЛОН для ЗАПОЛНЕНИЯ'!O40<>\"\",'ШАБЛОН для ЗАПОЛНЕНИЯ'!O40,\"\")","v":"Рус.язык"},{"$f":"IF('ШАБЛОН для ЗАПОЛНЕНИЯ'!P40<>\"\",'ШАБЛОН для ЗАПОЛНЕНИЯ'!P40,\"\")","v":""},{"$f":"IF('ШАБЛОН для ЗАПОЛНЕНИЯ'!Q40<>\"\",'ШАБЛОН для ЗАПОЛНЕНИЯ'!Q40,\"\")","v":""},{"$f":"IF('ШАБЛОН для ЗАПОЛНЕНИЯ'!R40<>\"\",'ШАБЛОН для ЗАПОЛНЕНИЯ'!R40,\"\")","v":""},{"$f":"IF('ШАБЛОН для ЗАПОЛНЕНИЯ'!S40<>\"\",'ШАБЛОН для ЗАПОЛНЕНИЯ'!S40,\"\")","v":"Математика"},{"$f":"IF('ШАБЛОН для ЗАПОЛНЕНИЯ'!T40<>\"\",'ШАБЛОН для ЗАПОЛНЕНИЯ'!T40,\"\")","v":""},{"$f":"IF('ШАБЛОН для ЗАПОЛНЕНИЯ'!U40<>\"\",'ШАБЛОН для ЗАПОЛНЕНИЯ'!U40,\"\")","v":""},{"$f":"IF('ШАБЛОН для ЗАПОЛНЕНИЯ'!V40<>\"\",'ШАБЛОН для ЗАПОЛНЕНИЯ'!V40,\"\")","v":""},{"$f":"IF('ШАБЛОН для ЗАПОЛНЕНИЯ'!W40<>\"\",'ШАБЛОН для ЗАПОЛНЕНИЯ'!W40,\"\")","v":"Рус.язык"},{"$f":"IF('ШАБЛОН для ЗАПОЛНЕНИЯ'!X40<>\"\",'ШАБЛОН для ЗАПОЛНЕНИЯ'!X40,\"\")","v":""},{"$f":"IF('ШАБЛОН для ЗАПОЛНЕНИЯ'!Y40<>\"\",'ШАБЛОН для ЗАПОЛНЕНИЯ'!Y40,\"\")","v":""},{"$f":"IF('ШАБЛОН для ЗАПОЛНЕНИЯ'!Z40<>\"\",'ШАБЛОН для ЗАПОЛНЕНИЯ'!Z40,\"\")","v":""},{"$f":"IF('ШАБЛОН для ЗАПОЛНЕНИЯ'!AA40<>\"\",'ШАБЛОН для ЗАПОЛНЕНИЯ'!AA40,\"\")","v":"Рус.язык"},{"$f":"IF('ШАБЛОН для ЗАПОЛНЕНИЯ'!AB40<>\"\",'ШАБЛОН для ЗАПОЛНЕНИЯ'!AB40,\"\")","v":""},{"$f":"IF('ШАБЛОН для ЗАПОЛНЕНИЯ'!AC40<>\"\",'ШАБЛОН для ЗАПОЛНЕНИЯ'!AC40,\"\")","v":""},{"$f":"IF('ШАБЛОН для ЗАПОЛНЕНИЯ'!AD40<>\"\",'ШАБЛОН для ЗАПОЛНЕНИЯ'!AD40,\"\")","v":""},{"$f":"IF('ШАБЛОН для ЗАПОЛНЕНИЯ'!AE40<>\"\",'ШАБЛОН для ЗАПОЛНЕНИЯ'!AE40,\"\")","v":"Физкультура"},{"$f":"IF('ШАБЛОН для ЗАПОЛНЕНИЯ'!AF40<>\"\",'ШАБЛОН для ЗАПОЛНЕНИЯ'!AF40,\"\")","v":""},{"$f":"IF('ШАБЛОН для ЗАПОЛНЕНИЯ'!AG40<>\"\",'ШАБЛОН для ЗАПОЛНЕНИЯ'!AG40,\"\")","v":""},{"$f":"IF('ШАБЛОН для ЗАПОЛНЕНИЯ'!AH40<>\"\",'ШАБЛОН для ЗАПОЛНЕНИЯ'!AH40,\"\")","v":""},{"$f":"IF('ШАБЛОН для ЗАПОЛНЕНИЯ'!AI40<>\"\",'ШАБЛОН для ЗАПОЛНЕНИЯ'!AI40,\"\")","v":"Геометрия"},{"$f":"IF('ШАБЛОН для ЗАПОЛНЕНИЯ'!AJ40<>\"\",'ШАБЛОН для ЗАПОЛНЕНИЯ'!AJ40,\"\")","v":""},{"$f":"IF('ШАБЛОН для ЗАПОЛНЕНИЯ'!AK40<>\"\",'ШАБЛОН для ЗАПОЛНЕНИЯ'!AK40,\"\")","v":""},{"$f":"IF('ШАБЛОН для ЗАПОЛНЕНИЯ'!AL40<>\"\",'ШАБЛОН для ЗАПОЛНЕНИЯ'!AL40,\"\")","v":""},{"$f":"IF('ШАБЛОН для ЗАПОЛНЕНИЯ'!AM40<>\"\",'ШАБЛОН для ЗАПОЛНЕНИЯ'!AM40,\"\")","v":""},{"$f":"IF('ШАБЛОН для ЗАПОЛНЕНИЯ'!AN40<>\"\",'ШАБЛОН для ЗАПОЛНЕНИЯ'!AN40,\"\")","v":""},{"$f":"IF('ШАБЛОН для ЗАПОЛНЕНИЯ'!AO40<>\"\",'ШАБЛОН для ЗАПОЛНЕНИЯ'!AO40,\"\")","v":""},{"$f":"IF('ШАБЛОН для ЗАПОЛНЕНИЯ'!AP40<>\"\",'ШАБЛОН для ЗАПОЛНЕНИЯ'!AP40,\"\")","v":""},{"$f":"IF('ШАБЛОН для ЗАПОЛНЕНИЯ'!AQ40<>\"\",'ШАБЛОН для ЗАПОЛНЕНИЯ'!AQ40,\"\")","v":""},{"$f":"IF('ШАБЛОН для ЗАПОЛНЕНИЯ'!AR40<>\"\",'ШАБЛОН для ЗАПОЛНЕНИЯ'!AR40,\"\")","v":""},{"$f":"IF('ШАБЛОН для ЗАПОЛНЕНИЯ'!AS40<>\"\",'ШАБЛОН для ЗАПОЛНЕНИЯ'!AS40,\"\")","v":""},{"$f":"IF('ШАБЛОН для ЗАПОЛНЕНИЯ'!AT40<>\"\",'ШАБЛОН для ЗАПОЛНЕНИЯ'!AT40,\"\")","v":""},{"$f":"IF('ШАБЛОН для ЗАПОЛНЕНИЯ'!AU40<>\"\",'ШАБЛОН для ЗАПОЛНЕНИЯ'!AU40,\"\")","v":""},{"$f":"IF('ШАБЛОН для ЗАПОЛНЕНИЯ'!AV40<>\"\",'ШАБЛОН для ЗАПОЛНЕНИЯ'!AV40,\"\")","v":""},{"$f":"IF('ШАБЛОН для ЗАПОЛНЕНИЯ'!AW40<>\"\",'ШАБЛОН для ЗАПОЛНЕНИЯ'!AW40,\"\")","v":""},{"$f":"IF('ШАБЛОН для ЗАПОЛНЕНИЯ'!AX40<>\"\",'ШАБЛОН для ЗАПОЛНЕНИЯ'!AX40,\"\")","v":""},{"$f":"IF('ШАБЛОН для ЗАПОЛНЕНИЯ'!AY40<>\"\",'ШАБЛОН для ЗАПОЛНЕНИЯ'!AY40,\"\")","v":""},{"$f":"IF('ШАБЛОН для ЗАПОЛНЕНИЯ'!AZ40<>\"\",'ШАБЛОН для ЗАПОЛНЕНИЯ'!AZ40,\"\")","v":""},{"$f":"IF('ШАБЛОН для ЗАПОЛНЕНИЯ'!BA40<>\"\",'ШАБЛОН для ЗАПОЛНЕНИЯ'!BA40,\"\")","v":""},{"$f":"IF('ШАБЛОН для ЗАПОЛНЕНИЯ'!BB40<>\"\",'ШАБЛОН для ЗАПОЛНЕНИЯ'!BB40,\"\")","v":""},{"$f":"IF('ШАБЛОН для ЗАПОЛНЕНИЯ'!BC40<>\"\",'ШАБЛОН для ЗАПОЛНЕНИЯ'!BC40,\"\")","v":""},{"$f":"IF('ШАБЛОН для ЗАПОЛНЕНИЯ'!BD40<>\"\",'ШАБЛОН для ЗАПОЛНЕНИЯ'!BD40,\"\")","v":""},{"$f":"IF('ШАБЛОН для ЗАПОЛНЕНИЯ'!BE40<>\"\",'ШАБЛОН для ЗАПОЛНЕНИЯ'!BE40,\"\")","v":""},{"$f":"IF('ШАБЛОН для ЗАПОЛНЕНИЯ'!BF40<>\"\",'ШАБЛОН для ЗАПОЛНЕНИЯ'!BF40,\"\")","v":""},{"$f":"IF('ШАБЛОН для ЗАПОЛНЕНИЯ'!BG40<>\"\",'ШАБЛОН для ЗАПОЛНЕНИЯ'!BG40,\"\")","v":""},{"$f":"IF('ШАБЛОН для ЗАПОЛНЕНИЯ'!BH40<>\"\",'ШАБЛОН для ЗАПОЛНЕНИЯ'!BH40,\"\")","v":""},{"$f":"IF('ШАБЛОН для ЗАПОЛНЕНИЯ'!BI40<>\"\",'ШАБЛОН для ЗАПОЛНЕНИЯ'!BI40,\"\")","v":""},{"$f":"IF('ШАБЛОН для ЗАПОЛНЕНИЯ'!BJ40<>\"\",'ШАБЛОН для ЗАПОЛНЕНИЯ'!BJ40,\"\")","v":""},{"$f":"IF('ШАБЛОН для ЗАПОЛНЕНИЯ'!BK40<>\"\",'ШАБЛОН для ЗАПОЛНЕНИЯ'!BK40,\"\")","v":""},{"$f":"IF('ШАБЛОН для ЗАПОЛНЕНИЯ'!BL40<>\"\",'ШАБЛОН для ЗАПОЛНЕНИЯ'!BL40,\"\")","v":""},{"$f":"IF('ШАБЛОН для ЗАПОЛНЕНИЯ'!BM40<>\"\",'ШАБЛОН для ЗАПОЛНЕНИЯ'!BM40,\"\")","v":""},{"$f":"IF('ШАБЛОН для ЗАПОЛНЕНИЯ'!BN40<>\"\",'ШАБЛОН для ЗАПОЛНЕНИЯ'!BN40,\"\")","v":""},{"$f":"IF('ШАБЛОН для ЗАПОЛНЕНИЯ'!BO40<>\"\",'ШАБЛОН для ЗАПОЛНЕНИЯ'!BO40,\"\")","v":""},{"$f":"IF('ШАБЛОН для ЗАПОЛНЕНИЯ'!BP40<>\"\",'ШАБЛОН для ЗАПОЛНЕНИЯ'!BP40,\"\")","v":""},{"$f":"IF('ШАБЛОН для ЗАПОЛНЕНИЯ'!BQ40<>\"\",'ШАБЛОН для ЗАПОЛНЕНИЯ'!BQ40,\"\")","v":""},{"$f":"IF('ШАБЛОН для ЗАПОЛНЕНИЯ'!BR40<>\"\",'ШАБЛОН для ЗАПОЛНЕНИЯ'!BR40,\"\")","v":""},{"$f":"IF('ШАБЛОН для ЗАПОЛНЕНИЯ'!BS40<>\"\",'ШАБЛОН для ЗАПОЛНЕНИЯ'!BS40,\"\")","v":""},{"$f":"IF('ШАБЛОН для ЗАПОЛНЕНИЯ'!BT40<>\"\",'ШАБЛОН для ЗАПОЛНЕНИЯ'!BT40,\"\")","v":""},{"$f":"IF('ШАБЛОН для ЗАПОЛНЕНИЯ'!BU40<>\"\",'ШАБЛОН для ЗАПОЛНЕНИЯ'!BU40,\"\")","v":""},{"$f":"IF('ШАБЛОН для ЗАПОЛНЕНИЯ'!BV40<>\"\",'ШАБЛОН для ЗАПОЛНЕНИЯ'!BV40,\"\")","v":""},{"$f":"IF('ШАБЛОН для ЗАПОЛНЕНИЯ'!BW40<>\"\",'ШАБЛОН для ЗАПОЛНЕНИЯ'!BW40,\"\")","v":""},{"$f":"IF('ШАБЛОН для ЗАПОЛНЕНИЯ'!BX40<>\"\",'ШАБЛОН для ЗАПОЛНЕНИЯ'!BX40,\"\")","v":""},{"$f":"IF('ШАБЛОН для ЗАПОЛНЕНИЯ'!BY40<>\"\",'ШАБЛОН для ЗАПОЛНЕНИЯ'!BY40,\"\")","v":""},{"$f":"IF('ШАБЛОН для ЗАПОЛНЕНИЯ'!BZ40<>\"\",'ШАБЛОН для ЗАПОЛНЕНИЯ'!BZ40,\"\")","v":""},{"$f":"IF('ШАБЛОН для ЗАПОЛНЕНИЯ'!CA40<>\"\",'ШАБЛОН для ЗАПОЛНЕНИЯ'!CA40,\"\")","v":""},{"$f":"IF('ШАБЛОН для ЗАПОЛНЕНИЯ'!CB40<>\"\",'ШАБЛОН для ЗАПОЛНЕНИЯ'!CB40,\"\")","v":""},{"$f":"IF('ШАБЛОН для ЗАПОЛНЕНИЯ'!CC40<>\"\",'ШАБЛОН для ЗАПОЛНЕНИЯ'!CC40,\"\")","v":""},{"$f":"IF('ШАБЛОН для ЗАПОЛНЕНИЯ'!CD40<>\"\",'ШАБЛОН для ЗАПОЛНЕНИЯ'!CD40,\"\")","v":""},{"$f":"IF('ШАБЛОН для ЗАПОЛНЕНИЯ'!CE40<>\"\",'ШАБЛОН для ЗАПОЛНЕНИЯ'!CE40,\"\")","v":""},{"$f":"IF('ШАБЛОН для ЗАПОЛНЕНИЯ'!CF40<>\"\",'ШАБЛОН для ЗАПОЛНЕНИЯ'!CF40,\"\")","v":""},{"$f":"IF('ШАБЛОН для ЗАПОЛНЕНИЯ'!CG40<>\"\",'ШАБЛОН для ЗАПОЛНЕНИЯ'!CG40,\"\")","v":""},{"$f":"IF('ШАБЛОН для ЗАПОЛНЕНИЯ'!CH40<>\"\",'ШАБЛОН для ЗАПОЛНЕНИЯ'!CH40,\"\")","v":""},{"$f":"IF('ШАБЛОН для ЗАПОЛНЕНИЯ'!CI40<>\"\",'ШАБЛОН для ЗАПОЛНЕНИЯ'!CI40,\"\")","v":""},{"$f":"IF('ШАБЛОН для ЗАПОЛНЕНИЯ'!CJ40<>\"\",'ШАБЛОН для ЗАПОЛНЕНИЯ'!CJ40,\"\")","v":""},{"$f":"IF('ШАБЛОН для ЗАПОЛНЕНИЯ'!CK40<>\"\",'ШАБЛОН для ЗАПОЛНЕНИЯ'!CK40,\"\")","v":""},{"$f":"IF('ШАБЛОН для ЗАПОЛНЕНИЯ'!CL40<>\"\",'ШАБЛОН для ЗАПОЛНЕНИЯ'!CL40,\"\")","v":""},{"$f":"IF('ШАБЛОН для ЗАПОЛНЕНИЯ'!CM40<>\"\",'ШАБЛОН для ЗАПОЛНЕНИЯ'!CM40,\"\")","v":""},{"$f":"IF('ШАБЛОН для ЗАПОЛНЕНИЯ'!CN40<>\"\",'ШАБЛОН для ЗАПОЛНЕНИЯ'!CN40,\"\")","v":""},{"$f":"IF('ШАБЛОН для ЗАПОЛНЕНИЯ'!CO40<>\"\",'ШАБЛОН для ЗАПОЛНЕНИЯ'!CO40,\"\")","v":""},{"$f":"IF('ШАБЛОН для ЗАПОЛНЕНИЯ'!CP40<>\"\",'ШАБЛОН для ЗАПОЛНЕНИЯ'!CP40,\"\")","v":""},{"$f":"IF('ШАБЛОН для ЗАПОЛНЕНИЯ'!CQ40<>\"\",'ШАБЛОН для ЗАПОЛНЕНИЯ'!CQ40,\"\")","v":""},{"$f":"IF('ШАБЛОН для ЗАПОЛНЕНИЯ'!CR40<>\"\",'ШАБЛОН для ЗАПОЛНЕНИЯ'!CR40,\"\")","v":""},{"$f":"IF('ШАБЛОН для ЗАПОЛНЕНИЯ'!CS40<>\"\",'ШАБЛОН для ЗАПОЛНЕНИЯ'!CS40,\"\")","v":""},{"$f":"IF('ШАБЛОН для ЗАПОЛНЕНИЯ'!CT40<>\"\",'ШАБЛОН для ЗАПОЛНЕНИЯ'!CT40,\"\")","v":""}]
[null,4,{"$f":"IF('ШАБЛОН для ЗАПОЛНЕНИЯ'!C41<>\"\",'ШАБЛОН для ЗАПОЛНЕНИЯ'!C41,\"\")","v":"Рус.язык"},{"$f":"IF('ШАБЛОН для ЗАПОЛНЕНИЯ'!D41<>\"\",'ШАБЛОН для ЗАПОЛНЕНИЯ'!D41,\"\")","v":""},{"$f":"IF('ШАБЛОН для ЗАПОЛНЕНИЯ'!E41<>\"\",'ШАБЛОН для ЗАПОЛНЕНИЯ'!E41,\"\")","v":""},{"$f":"IF('ШАБЛОН для ЗАПОЛНЕНИЯ'!F41<>\"\",'ШАБЛОН для ЗАПОЛНЕНИЯ'!F41,\"\")","v":""},{"$f":"IF('ШАБЛОН для ЗАПОЛНЕНИЯ'!G41<>\"\",'ШАБЛОН для ЗАПОЛНЕНИЯ'!G41,\"\")","v":"Окр.мир"},{"$f":"IF('ШАБЛОН для ЗАПОЛНЕНИЯ'!H41<>\"\",'ШАБЛОН для ЗАПОЛНЕНИЯ'!H41,\"\")","v":""},{"$f":"IF('ШАБЛОН для ЗАПОЛНЕНИЯ'!I41<>\"\",'ШАБЛОН для ЗАПОЛНЕНИЯ'!I41,\"\")","v":""},{"$f":"IF('ШАБЛОН для ЗАПОЛНЕНИЯ'!J41<>\"\",'ШАБЛОН для ЗАПОЛНЕНИЯ'!J41,\"\")","v":""},{"$f":"IF('ШАБЛОН для ЗАПОЛНЕНИЯ'!K41<>\"\",'ШАБЛОН для ЗАПОЛНЕНИЯ'!K41,\"\")","v":"Рус.язык"},{"$f":"IF('ШАБЛОН для ЗАПОЛНЕНИЯ'!L41<>\"\",'ШАБЛОН для ЗАПОЛНЕНИЯ'!L41,\"\")","v":""},{"$f":"IF('ШАБЛОН для ЗАПОЛНЕНИЯ'!M41<>\"\",'ШАБЛОН для ЗАПОЛНЕНИЯ'!M41,\"\")","v":""},{"$f":"IF('ШАБЛОН для ЗАПОЛНЕНИЯ'!N41<>\"\",'ШАБЛОН для ЗАПОЛНЕНИЯ'!N41,\"\")","v":""},{"$f":"IF('ШАБЛОН для ЗАПОЛНЕНИЯ'!O41<>\"\",'ШАБЛОН для ЗАПОЛНЕНИЯ'!O41,\"\")","v":"Окр.мир"},{"$f":"IF('ШАБЛОН для ЗАПОЛНЕНИЯ'!P41<>\"\",'ШАБЛОН для ЗАПОЛНЕНИЯ'!P41,\"\")","v":""},{"$f":"IF('ШАБЛОН для ЗАПОЛНЕНИЯ'!Q41<>\"\",'ШАБЛОН для ЗАПОЛНЕНИЯ'!Q41,\"\")","v":""},{"$f":"IF('ШАБЛОН для ЗАПОЛНЕНИЯ'!R41<>\"\",'ШАБЛОН для ЗАПОЛНЕНИЯ'!R41,\"\")","v":""},{"$f":"IF('ШАБЛОН для ЗАПОЛНЕНИЯ'!S41<>\"\",'ШАБЛОН для ЗАПОЛНЕНИЯ'!S41,\"\")","v":"Родной язык"},{"$f":"IF('ШАБЛОН для ЗАПОЛНЕНИЯ'!T41<>\"\",'ШАБЛОН для ЗАПОЛНЕНИЯ'!T41,\"\")","v":""},{"$f":"IF('ШАБЛОН для ЗАПОЛНЕНИЯ'!U41<>\"\",'ШАБЛОН для ЗАПОЛНЕНИЯ'!U41,\"\")","v":""},{"$f":"IF('ШАБЛОН для ЗАПОЛНЕНИЯ'!V41<>\"\",'ШАБЛОН для ЗАПОЛНЕНИЯ'!V41,\"\")","v":""},{"$f":"IF('ШАБЛОН для ЗАПОЛНЕНИЯ'!W41<>\"\",'ШАБЛОН для ЗАПОЛНЕНИЯ'!W41,\"\")","v":"Рус.язык"},{"$f":"IF('ШАБЛОН для ЗАПОЛНЕНИЯ'!X41<>\"\",'ШАБЛОН для ЗАПОЛНЕНИЯ'!X41,\"\")","v":""},{"$f":"IF('ШАБЛОН для ЗАПОЛНЕНИЯ'!Y41<>\"\",'ШАБЛОН для ЗАПОЛНЕНИЯ'!Y41,\"\")","v":""},{"$f":"IF('ШАБЛОН для ЗАПОЛНЕНИЯ'!Z41<>\"\",'ШАБЛОН для ЗАПОЛНЕНИЯ'!Z41,\"\")","v":""},{"$f":"IF('ШАБЛОН для ЗАПОЛНЕНИЯ'!AA41<>\"\",'ШАБЛОН для ЗАПОЛНЕНИЯ'!AA41,\"\")","v":"Физкультура"},{"$f":"IF('ШАБЛОН для ЗАПОЛНЕНИЯ'!AB41<>\"\",'ШАБЛОН для ЗАПОЛНЕНИЯ'!AB41,\"\")","v":""},{"$f":"IF('ШАБЛОН для ЗАПОЛНЕНИЯ'!AC41<>\"\",'ШАБЛОН для ЗАПОЛНЕНИЯ'!AC41,\"\")","v":""},{"$f":"IF('ШАБЛОН для ЗАПОЛНЕНИЯ'!AD41<>\"\",'ШАБЛОН для ЗАПОЛНЕНИЯ'!AD41,\"\")","v":""},{"$f":"IF('ШАБЛОН для ЗАПОЛНЕНИЯ'!AE41<>\"\",'ШАБЛОН для ЗАПОЛНЕНИЯ'!AE41,\"\")","v":"Геометрия"},{"$f":"IF('ШАБЛОН для ЗАПОЛНЕНИЯ'!AF41<>\"\",'ШАБЛОН для ЗАПОЛНЕНИЯ'!AF41,\"\")","v":""},{"$f":"IF('ШАБЛОН для ЗАПОЛНЕНИЯ'!AG41<>\"\",'ШАБЛОН для ЗАПОЛНЕНИЯ'!AG41,\"\")","v":""},{"$f":"IF('ШАБЛОН для ЗАПОЛНЕНИЯ'!AH41<>\"\",'ШАБЛОН для ЗАПОЛНЕНИЯ'!AH41,\"\")","v":""},{"$f":"IF('ШАБЛОН для ЗАПОЛНЕНИЯ'!AI41<>\"\",'ШАБЛОН для ЗАПОЛНЕНИЯ'!AI41,\"\")","v":"Физика"},{"$f":"IF('ШАБЛОН для ЗАПОЛНЕНИЯ'!AJ41<>\"\",'ШАБЛОН для ЗАПОЛНЕНИЯ'!AJ41,\"\")","v":""},{"$f":"IF('ШАБЛОН для ЗАПОЛНЕНИЯ'!AK41<>\"\",'ШАБЛОН для ЗАПОЛНЕНИЯ'!AK41,\"\")","v":""},{"$f":"IF('ШАБЛОН для ЗАПОЛНЕНИЯ'!AL41<>\"\",'ШАБЛОН для ЗАПОЛНЕНИЯ'!AL41,\"\")","v":""},{"$f":"IF('ШАБЛОН для ЗАПОЛНЕНИЯ'!AM41<>\"\",'ШАБЛОН для ЗАПОЛНЕНИЯ'!AM41,\"\")","v":""},{"$f":"IF('ШАБЛОН для ЗАПОЛНЕНИЯ'!AN41<>\"\",'ШАБЛОН для ЗАПОЛНЕНИЯ'!AN41,\"\")","v":""},{"$f":"IF('ШАБЛОН для ЗАПОЛНЕНИЯ'!AO41<>\"\",'ШАБЛОН для ЗАПОЛНЕНИЯ'!AO41,\"\")","v":""},{"$f":"IF('ШАБЛОН для ЗАПОЛНЕНИЯ'!AP41<>\"\",'ШАБЛОН для ЗАПОЛНЕНИЯ'!AP41,\"\")","v":""},{"$f":"IF('ШАБЛОН для ЗАПОЛНЕНИЯ'!AQ41<>\"\",'ШАБЛОН для ЗАПОЛНЕНИЯ'!AQ41,\"\")","v":""},{"$f":"IF('ШАБЛОН для ЗАПОЛНЕНИЯ'!AR41<>\"\",'ШАБЛОН для ЗАПОЛНЕНИЯ'!AR41,\"\")","v":""},{"$f":"IF('ШАБЛОН для ЗАПОЛНЕНИЯ'!AS41<>\"\",'ШАБЛОН для ЗАПОЛНЕНИЯ'!AS41,\"\")","v":""},{"$f":"IF('ШАБЛОН для ЗАПОЛНЕНИЯ'!AT41<>\"\",'ШАБЛОН для ЗАПОЛНЕНИЯ'!AT41,\"\")","v":""},{"$f":"IF('ШАБЛОН для ЗАПОЛНЕНИЯ'!AU41<>\"\",'ШАБЛОН для ЗАПОЛНЕНИЯ'!AU41,\"\")","v":""},{"$f":"IF('ШАБЛОН для ЗАПОЛНЕНИЯ'!AV41<>\"\",'ШАБЛОН для ЗАПОЛНЕНИЯ'!AV41,\"\")","v":""},{"$f":"IF('ШАБЛОН для ЗАПОЛНЕНИЯ'!AW41<>\"\",'ШАБЛОН для ЗАПОЛНЕНИЯ'!AW41,\"\")","v":""},{"$f":"IF('ШАБЛОН для ЗАПОЛНЕНИЯ'!AX41<>\"\",'ШАБЛОН для ЗАПОЛНЕНИЯ'!AX41,\"\")","v":""},{"$f":"IF('ШАБЛОН для ЗАПОЛНЕНИЯ'!AY41<>\"\",'ШАБЛОН для ЗАПОЛНЕНИЯ'!AY41,\"\")","v":""},{"$f":"IF('ШАБЛОН для ЗАПОЛНЕНИЯ'!AZ41<>\"\",'ШАБЛОН для ЗАПОЛНЕНИЯ'!AZ41,\"\")","v":""},{"$f":"IF('ШАБЛОН для ЗАПОЛНЕНИЯ'!BA41<>\"\",'ШАБЛОН для ЗАПОЛНЕНИЯ'!BA41,\"\")","v":""},{"$f":"IF('ШАБЛОН для ЗАПОЛНЕНИЯ'!BB41<>\"\",'ШАБЛОН для ЗАПОЛНЕНИЯ'!BB41,\"\")","v":""},{"$f":"IF('ШАБЛОН для ЗАПОЛНЕНИЯ'!BC41<>\"\",'ШАБЛОН для ЗАПОЛНЕНИЯ'!BC41,\"\")","v":""},{"$f":"IF('ШАБЛОН для ЗАПОЛНЕНИЯ'!BD41<>\"\",'ШАБЛОН для ЗАПОЛНЕНИЯ'!BD41,\"\")","v":""},{"$f":"IF('ШАБЛОН для ЗАПОЛНЕНИЯ'!BE41<>\"\",'ШАБЛОН для ЗАПОЛНЕНИЯ'!BE41,\"\")","v":""},{"$f":"IF('ШАБЛОН для ЗАПОЛНЕНИЯ'!BF41<>\"\",'ШАБЛОН для ЗАПОЛНЕНИЯ'!BF41,\"\")","v":""},{"$f":"IF('ШАБЛОН для ЗАПОЛНЕНИЯ'!BG41<>\"\",'ШАБЛОН для ЗАПОЛНЕНИЯ'!BG41,\"\")","v":""},{"$f":"IF('ШАБЛОН для ЗАПОЛНЕНИЯ'!BH41<>\"\",'ШАБЛОН для ЗАПОЛНЕНИЯ'!BH41,\"\")","v":""},{"$f":"IF('ШАБЛОН для ЗАПОЛНЕНИЯ'!BI41<>\"\",'ШАБЛОН для ЗАПОЛНЕНИЯ'!BI41,\"\")","v":""},{"$f":"IF('ШАБЛОН для ЗАПОЛНЕНИЯ'!BJ41<>\"\",'ШАБЛОН для ЗАПОЛНЕНИЯ'!BJ41,\"\")","v":""},{"$f":"IF('ШАБЛОН для ЗАПОЛНЕНИЯ'!BK41<>\"\",'ШАБЛОН для ЗАПОЛНЕНИЯ'!BK41,\"\")","v":""},{"$f":"IF('ШАБЛОН для ЗАПОЛНЕНИЯ'!BL41<>\"\",'ШАБЛОН для ЗАПОЛНЕНИЯ'!BL41,\"\")","v":""},{"$f":"IF('ШАБЛОН для ЗАПОЛНЕНИЯ'!BM41<>\"\",'ШАБЛОН для ЗАПОЛНЕНИЯ'!BM41,\"\")","v":""},{"$f":"IF('ШАБЛОН для ЗАПОЛНЕНИЯ'!BN41<>\"\",'ШАБЛОН для ЗАПОЛНЕНИЯ'!BN41,\"\")","v":""},{"$f":"IF('ШАБЛОН для ЗАПОЛНЕНИЯ'!BO41<>\"\",'ШАБЛОН для ЗАПОЛНЕНИЯ'!BO41,\"\")","v":""},{"$f":"IF('ШАБЛОН для ЗАПОЛНЕНИЯ'!BP41<>\"\",'ШАБЛОН для ЗАПОЛНЕНИЯ'!BP41,\"\")","v":""},{"$f":"IF('ШАБЛОН для ЗАПОЛНЕНИЯ'!BQ41<>\"\",'ШАБЛОН для ЗАПОЛНЕНИЯ'!BQ41,\"\")","v":""},{"$f":"IF('ШАБЛОН для ЗАПОЛНЕНИЯ'!BR41<>\"\",'ШАБЛОН для ЗАПОЛНЕНИЯ'!BR41,\"\")","v":""},{"$f":"IF('ШАБЛОН для ЗАПОЛНЕНИЯ'!BS41<>\"\",'ШАБЛОН для ЗАПОЛНЕНИЯ'!BS41,\"\")","v":""},{"$f":"IF('ШАБЛОН для ЗАПОЛНЕНИЯ'!BT41<>\"\",'ШАБЛОН для ЗАПОЛНЕНИЯ'!BT41,\"\")","v":""},{"$f":"IF('ШАБЛОН для ЗАПОЛНЕНИЯ'!BU41<>\"\",'ШАБЛОН для ЗАПОЛНЕНИЯ'!BU41,\"\")","v":""},{"$f":"IF('ШАБЛОН для ЗАПОЛНЕНИЯ'!BV41<>\"\",'ШАБЛОН для ЗАПОЛНЕНИЯ'!BV41,\"\")","v":""},{"$f":"IF('ШАБЛОН для ЗАПОЛНЕНИЯ'!BW41<>\"\",'ШАБЛОН для ЗАПОЛНЕНИЯ'!BW41,\"\")","v":""},{"$f":"IF('ШАБЛОН для ЗАПОЛНЕНИЯ'!BX41<>\"\",'ШАБЛОН для ЗАПОЛНЕНИЯ'!BX41,\"\")","v":""},{"$f":"IF('ШАБЛОН для ЗАПОЛНЕНИЯ'!BY41<>\"\",'ШАБЛОН для ЗАПОЛНЕНИЯ'!BY41,\"\")","v":""},{"$f":"IF('ШАБЛОН для ЗАПОЛНЕНИЯ'!BZ41<>\"\",'ШАБЛОН для ЗАПОЛНЕНИЯ'!BZ41,\"\")","v":""},{"$f":"IF('ШАБЛОН для ЗАПОЛНЕНИЯ'!CA41<>\"\",'ШАБЛОН для ЗАПОЛНЕНИЯ'!CA41,\"\")","v":""},{"$f":"IF('ШАБЛОН для ЗАПОЛНЕНИЯ'!CB41<>\"\",'ШАБЛОН для ЗАПОЛНЕНИЯ'!CB41,\"\")","v":""},{"$f":"IF('ШАБЛОН для ЗАПОЛНЕНИЯ'!CC41<>\"\",'ШАБЛОН для ЗАПОЛНЕНИЯ'!CC41,\"\")","v":""},{"$f":"IF('ШАБЛОН для ЗАПОЛНЕНИЯ'!CD41<>\"\",'ШАБЛОН для ЗАПОЛНЕНИЯ'!CD41,\"\")","v":""},{"$f":"IF('ШАБЛОН для ЗАПОЛНЕНИЯ'!CE41<>\"\",'ШАБЛОН для ЗАПОЛНЕНИЯ'!CE41,\"\")","v":""},{"$f":"IF('ШАБЛОН для ЗАПОЛНЕНИЯ'!CF41<>\"\",'ШАБЛОН для ЗАПОЛНЕНИЯ'!CF41,\"\")","v":""},{"$f":"IF('ШАБЛОН для ЗАПОЛНЕНИЯ'!CG41<>\"\",'ШАБЛОН для ЗАПОЛНЕНИЯ'!CG41,\"\")","v":""},{"$f":"IF('ШАБЛОН для ЗАПОЛНЕНИЯ'!CH41<>\"\",'ШАБЛОН для ЗАПОЛНЕНИЯ'!CH41,\"\")","v":""},{"$f":"IF('ШАБЛОН для ЗАПОЛНЕНИЯ'!CI41<>\"\",'ШАБЛОН для ЗАПОЛНЕНИЯ'!CI41,\"\")","v":""},{"$f":"IF('ШАБЛОН для ЗАПОЛНЕНИЯ'!CJ41<>\"\",'ШАБЛОН для ЗАПОЛНЕНИЯ'!CJ41,\"\")","v":""},{"$f":"IF('ШАБЛОН для ЗАПОЛНЕНИЯ'!CK41<>\"\",'ШАБЛОН для ЗАПОЛНЕНИЯ'!CK41,\"\")","v":""},{"$f":"IF('ШАБЛОН для ЗАПОЛНЕНИЯ'!CL41<>\"\",'ШАБЛОН для ЗАПОЛНЕНИЯ'!CL41,\"\")","v":""},{"$f":"IF('ШАБЛОН для ЗАПОЛНЕНИЯ'!CM41<>\"\",'ШАБЛОН для ЗАПОЛНЕНИЯ'!CM41,\"\")","v":""},{"$f":"IF('ШАБЛОН для ЗАПОЛНЕНИЯ'!CN41<>\"\",'ШАБЛОН для ЗАПОЛНЕНИЯ'!CN41,\"\")","v":""},{"$f":"IF('ШАБЛОН для ЗАПОЛНЕНИЯ'!CO41<>\"\",'ШАБЛОН для ЗАПОЛНЕНИЯ'!CO41,\"\")","v":""},{"$f":"IF('ШАБЛОН для ЗАПОЛНЕНИЯ'!CP41<>\"\",'ШАБЛОН для ЗАПОЛНЕНИЯ'!CP41,\"\")","v":""},{"$f":"IF('ШАБЛОН для ЗАПОЛНЕНИЯ'!CQ41<>\"\",'ШАБЛОН для ЗАПОЛНЕНИЯ'!CQ41,\"\")","v":""},{"$f":"IF('ШАБЛОН для ЗАПОЛНЕНИЯ'!CR41<>\"\",'ШАБЛОН для ЗАПОЛНЕНИЯ'!CR41,\"\")","v":""},{"$f":"IF('ШАБЛОН для ЗАПОЛНЕНИЯ'!CS41<>\"\",'ШАБЛОН для ЗАПОЛНЕНИЯ'!CS41,\"\")","v":""},{"$f":"IF('ШАБЛОН для ЗАПОЛНЕНИЯ'!CT41<>\"\",'ШАБЛОН для ЗАПОЛНЕНИЯ'!CT41,\"\")","v":""}]
[null,5,{"$f":"IF('ШАБЛОН для ЗАПОЛНЕНИЯ'!C42<>\"\",'ШАБЛОН для ЗАПОЛНЕНИЯ'!C42,\"\")","v":"Окр.мир"},{"$f":"IF('ШАБЛОН для ЗАПОЛНЕНИЯ'!D42<>\"\",'ШАБЛОН для ЗАПОЛНЕНИЯ'!D42,\"\")","v":""},{"$f":"IF('ШАБЛОН для ЗАПОЛНЕНИЯ'!E42<>\"\",'ШАБЛОН для ЗАПОЛНЕНИЯ'!E42,\"\")","v":""},{"$f":"IF('ШАБЛОН для ЗАПОЛНЕНИЯ'!F42<>\"\",'ШАБЛОН для ЗАПОЛНЕНИЯ'!F42,\"\")","v":""},{"$f":"IF('ШАБЛОН для ЗАПОЛНЕНИЯ'!G42<>\"\",'ШАБЛОН для ЗАПОЛНЕНИЯ'!G42,\"\")","v":""},{"$f":"IF('ШАБЛОН для ЗАПОЛНЕНИЯ'!H42<>\"\",'ШАБЛОН для ЗАПОЛНЕНИЯ'!H42,\"\")","v":""},{"$f":"IF('ШАБЛОН для ЗАПОЛНЕНИЯ'!I42<>\"\",'ШАБЛОН для ЗАПОЛНЕНИЯ'!I42,\"\")","v":""},{"$f":"IF('ШАБЛОН для ЗАПОЛНЕНИЯ'!J42<>\"\",'ШАБЛОН для ЗАПОЛНЕНИЯ'!J42,\"\")","v":""},{"$f":"IF('ШАБЛОН для ЗАПОЛНЕНИЯ'!K42<>\"\",'ШАБЛОН для ЗАПОЛНЕНИЯ'!K42,\"\")","v":"Окр.мир"},{"$f":"IF('ШАБЛОН для ЗАПОЛНЕНИЯ'!L42<>\"\",'ШАБЛОН для ЗАПОЛНЕНИЯ'!L42,\"\")","v":""},{"$f":"IF('ШАБЛОН для ЗАПОЛНЕНИЯ'!M42<>\"\",'ШАБЛОН для ЗАПОЛНЕНИЯ'!M42,\"\")","v":""},{"$f":"IF('ШАБЛОН для ЗАПОЛНЕНИЯ'!N42<>\"\",'ШАБЛОН для ЗАПОЛНЕНИЯ'!N42,\"\")","v":""},{"$f":"IF('ШАБЛОН для ЗАПОЛНЕНИЯ'!O42<>\"\",'ШАБЛОН для ЗАПОЛНЕНИЯ'!O42,\"\")","v":""},{"$f":"IF('ШАБЛОН для ЗАПОЛНЕНИЯ'!P42<>\"\",'ШАБЛОН для ЗАПОЛНЕНИЯ'!P42,\"\")","v":""},{"$f":"IF('ШАБЛОН для ЗАПОЛНЕНИЯ'!Q42<>\"\",'ШАБЛОН для ЗАПОЛНЕНИЯ'!Q42,\"\")","v":""},{"$f":"IF('ШАБЛОН для ЗАПОЛНЕНИЯ'!R42<>\"\",'ШАБЛОН для ЗАПОЛНЕНИЯ'!R42,\"\")","v":""},{"$f":"IF('ШАБЛОН для ЗАПОЛНЕНИЯ'!S42<>\"\",'ШАБЛОН для ЗАПОЛНЕНИЯ'!S42,\"\")","v":"Физкультура"},{"$f":"IF('ШАБЛОН для ЗАПОЛНЕНИЯ'!T42<>\"\",'ШАБЛОН для ЗАПОЛНЕНИЯ'!T42,\"\")","v":""},{"$f":"IF('ШАБЛОН для ЗАПОЛНЕНИЯ'!U42<>\"\",'ШАБЛОН для ЗАПОЛНЕНИЯ'!U42,\"\")","v":""},{"$f":"IF('ШАБЛОН для ЗАПОЛНЕНИЯ'!V42<>\"\",'ШАБЛОН для ЗАПОЛНЕНИЯ'!V42,\"\")","v":""},{"$f":"IF('ШАБЛОН для ЗАПОЛНЕНИЯ'!W42<>\"\",'ШАБЛОН для ЗАПОЛНЕНИЯ'!W42,\"\")","v":"Родная лит."},{"$f":"IF('ШАБЛОН для ЗАПОЛНЕНИЯ'!X42<>\"\",'ШАБЛОН для ЗАПОЛНЕНИЯ'!X42,\"\")","v":""},{"$f":"IF('ШАБЛОН для ЗАПОЛНЕНИЯ'!Y42<>\"\",'ШАБЛОН для ЗАПОЛНЕНИЯ'!Y42,\"\")","v":""},{"$f":"IF('ШАБЛОН для ЗАПОЛНЕНИЯ'!Z42<>\"\",'ШАБЛОН для ЗАПОЛНЕНИЯ'!Z42,\"\")","v":""},{"$f":"IF('ШАБЛОН для ЗАПОЛНЕНИЯ'!AA42<>\"\",'ШАБЛОН для ЗАПОЛНЕНИЯ'!AA42,\"\")","v":"Физика"},{"$f":"IF('ШАБЛОН для ЗАПОЛНЕНИЯ'!AB42<>\"\",'ШАБЛОН для ЗАПОЛНЕНИЯ'!AB42,\"\")","v":""},{"$f":"IF('ШАБЛОН для ЗАПОЛНЕНИЯ'!AC42<>\"\",'ШАБЛОН для ЗАПОЛНЕНИЯ'!AC42,\"\")","v":""},{"$f":"IF('ШАБЛОН для ЗАПОЛНЕНИЯ'!AD42<>\"\",'ШАБЛОН для ЗАПОЛНЕНИЯ'!AD42,\"\")","v":""},{"$f":"IF('ШАБЛОН для ЗАПОЛНЕНИЯ'!AE42<>\"\",'ШАБЛОН для ЗАПОЛНЕНИЯ'!AE42,\"\")","v":"Рус.язык"},{"$f":"IF('ШАБЛОН для ЗАПОЛНЕНИЯ'!AF42<>\"\",'ШАБЛОН для ЗАПОЛНЕНИЯ'!AF42,\"\")","v":""},{"$f":"IF('ШАБЛОН для ЗАПОЛНЕНИЯ'!AG42<>\"\",'ШАБЛОН для ЗАПОЛНЕНИЯ'!AG42,\"\")","v":""},{"$f":"IF('ШАБЛОН для ЗАПОЛНЕНИЯ'!AH42<>\"\",'ШАБЛОН для ЗАПОЛНЕНИЯ'!AH42,\"\")","v":""},{"$f":"IF('ШАБЛОН для ЗАПОЛНЕНИЯ'!AI42<>\"\",'ШАБЛОН для ЗАПОЛНЕНИЯ'!AI42,\"\")","v":"Рус.язык"},{"$f":"IF('ШАБЛОН для ЗАПОЛНЕНИЯ'!AJ42<>\"\",'ШАБЛОН для ЗАПОЛНЕНИЯ'!AJ42,\"\")","v":""},{"$f":"IF('ШАБЛОН для ЗАПОЛНЕНИЯ'!AK42<>\"\",'ШАБЛОН для ЗАПОЛНЕНИЯ'!AK42,\"\")","v":""},{"$f":"IF('ШАБЛОН для ЗАПОЛНЕНИЯ'!AL42<>\"\",'ШАБЛОН для ЗАПОЛНЕНИЯ'!AL42,\"\")","v":""},{"$f":"IF('ШАБЛОН для ЗАПОЛНЕНИЯ'!AM42<>\"\",'ШАБЛОН для ЗАПОЛНЕНИЯ'!AM42,\"\")","v":""},{"$f":"IF('ШАБЛОН для ЗАПОЛНЕНИЯ'!AN42<>\"\",'ШАБЛОН для ЗАПОЛНЕНИЯ'!AN42,\"\")","v":""},{"$f":"IF('ШАБЛОН для ЗАПОЛНЕНИЯ'!AO42<>\"\",'ШАБЛОН для ЗАПОЛНЕНИЯ'!AO42,\"\")","v":""},{"$f":"IF('ШАБЛОН для ЗАПОЛНЕНИЯ'!AP42<>\"\",'ШАБЛОН для ЗАПОЛНЕНИЯ'!AP42,\"\")","v":""},{"$f":"IF('ШАБЛОН для ЗАПОЛНЕНИЯ'!AQ42<>\"\",'ШАБЛОН для ЗАПОЛНЕНИЯ'!AQ42,\"\")","v":""},{"$f":"IF('ШАБЛОН для ЗАПОЛНЕНИЯ'!AR42<>\"\",'ШАБЛОН для ЗАПОЛНЕНИЯ'!AR42,\"\")","v":""},{"$f":"IF('ШАБЛОН для ЗАПОЛНЕНИЯ'!AS42<>\"\",'ШАБЛОН для ЗАПОЛНЕНИЯ'!AS42,\"\")","v":""},{"$f":"IF('ШАБЛОН для ЗАПОЛНЕНИЯ'!AT42<>\"\",'ШАБЛОН для ЗАПОЛНЕНИЯ'!AT42,\"\")","v":""},{"$f":"IF('ШАБЛОН для ЗАПОЛНЕНИЯ'!AU42<>\"\",'ШАБЛОН для ЗАПОЛНЕНИЯ'!AU42,\"\")","v":""},{"$f":"IF('ШАБЛОН для ЗАПОЛНЕНИЯ'!AV42<>\"\",'ШАБЛОН для ЗАПОЛНЕНИЯ'!AV42,\"\")","v":""},{"$f":"IF('ШАБЛОН для ЗАПОЛНЕНИЯ'!AW42<>\"\",'ШАБЛОН для ЗАПОЛНЕНИЯ'!AW42,\"\")","v":""},{"$f":"IF('ШАБЛОН для ЗАПОЛНЕНИЯ'!AX42<>\"\",'ШАБЛОН для ЗАПОЛНЕНИЯ'!AX42,\"\")","v":""},{"$f":"IF('ШАБЛОН для ЗАПОЛНЕНИЯ'!AY42<>\"\",'ШАБЛОН для ЗАПОЛНЕНИЯ'!AY42,\"\")","v":""},{"$f":"IF('ШАБЛОН для ЗАПОЛНЕНИЯ'!AZ42<>\"\",'ШАБЛОН для ЗАПОЛНЕНИЯ'!AZ42,\"\")","v":""},{"$f":"IF('ШАБЛОН для ЗАПОЛНЕНИЯ'!BA42<>\"\",'ШАБЛОН для ЗАПОЛНЕНИЯ'!BA42,\"\")","v":""},{"$f":"IF('ШАБЛОН для ЗАПОЛНЕНИЯ'!BB42<>\"\",'ШАБЛОН для ЗАПОЛНЕНИЯ'!BB42,\"\")","v":""},{"$f":"IF('ШАБЛОН для ЗАПОЛНЕНИЯ'!BC42<>\"\",'ШАБЛОН для ЗАПОЛНЕНИЯ'!BC42,\"\")","v":""},{"$f":"IF('ШАБЛОН для ЗАПОЛНЕНИЯ'!BD42<>\"\",'ШАБЛОН для ЗАПОЛНЕНИЯ'!BD42,\"\")","v":""},{"$f":"IF('ШАБЛОН для ЗАПОЛНЕНИЯ'!BE42<>\"\",'ШАБЛОН для ЗАПОЛНЕНИЯ'!BE42,\"\")","v":""},{"$f":"IF('ШАБЛОН для ЗАПОЛНЕНИЯ'!BF42<>\"\",'ШАБЛОН для ЗАПОЛНЕНИЯ'!BF42,\"\")","v":""},{"$f":"IF('ШАБЛОН для ЗАПОЛНЕНИЯ'!BG42<>\"\",'ШАБЛОН для ЗАПОЛНЕНИЯ'!BG42,\"\")","v":""},{"$f":"IF('ШАБЛОН для ЗАПОЛНЕНИЯ'!BH42<>\"\",'ШАБЛОН для ЗАПОЛНЕНИЯ'!BH42,\"\")","v":""},{"$f":"IF('ШАБЛОН для ЗАПОЛНЕНИЯ'!BI42<>\"\",'ШАБЛОН для ЗАПОЛНЕНИЯ'!BI42,\"\")","v":""},{"$f":"IF('ШАБЛОН для ЗАПОЛНЕНИЯ'!BJ42<>\"\",'ШАБЛОН для ЗАПОЛНЕНИЯ'!BJ42,\"\")","v":""},{"$f":"IF('ШАБЛОН для ЗАПОЛНЕНИЯ'!BK42<>\"\",'ШАБЛОН для ЗАПОЛНЕНИЯ'!BK42,\"\")","v":""},{"$f":"IF('ШАБЛОН для ЗАПОЛНЕНИЯ'!BL42<>\"\",'ШАБЛОН для ЗАПОЛНЕНИЯ'!BL42,\"\")","v":""},{"$f":"IF('ШАБЛОН для ЗАПОЛНЕНИЯ'!BM42<>\"\",'ШАБЛОН для ЗАПОЛНЕНИЯ'!BM42,\"\")","v":""},{"$f":"IF('ШАБЛОН для ЗАПОЛНЕНИЯ'!BN42<>\"\",'ШАБЛОН для ЗАПОЛНЕНИЯ'!BN42,\"\")","v":""},{"$f":"IF('ШАБЛОН для ЗАПОЛНЕНИЯ'!BO42<>\"\",'ШАБЛОН для ЗАПОЛНЕНИЯ'!BO42,\"\")","v":""},{"$f":"IF('ШАБЛОН для ЗАПОЛНЕНИЯ'!BP42<>\"\",'ШАБЛОН для ЗАПОЛНЕНИЯ'!BP42,\"\")","v":""},{"$f":"IF('ШАБЛОН для ЗАПОЛНЕНИЯ'!BQ42<>\"\",'ШАБЛОН для ЗАПОЛНЕНИЯ'!BQ42,\"\")","v":""},{"$f":"IF('ШАБЛОН для ЗАПОЛНЕНИЯ'!BR42<>\"\",'ШАБЛОН для ЗАПОЛНЕНИЯ'!BR42,\"\")","v":""},{"$f":"IF('ШАБЛОН для ЗАПОЛНЕНИЯ'!BS42<>\"\",'ШАБЛОН для ЗАПОЛНЕНИЯ'!BS42,\"\")","v":""},{"$f":"IF('ШАБЛОН для ЗАПОЛНЕНИЯ'!BT42<>\"\",'ШАБЛОН для ЗАПОЛНЕНИЯ'!BT42,\"\")","v":""},{"$f":"IF('ШАБЛОН для ЗАПОЛНЕНИЯ'!BU42<>\"\",'ШАБЛОН для ЗАПОЛНЕНИЯ'!BU42,\"\")","v":""},{"$f":"IF('ШАБЛОН для ЗАПОЛНЕНИЯ'!BV42<>\"\",'ШАБЛОН для ЗАПОЛНЕНИЯ'!BV42,\"\")","v":""},{"$f":"IF('ШАБЛОН для ЗАПОЛНЕНИЯ'!BW42<>\"\",'ШАБЛОН для ЗАПОЛНЕНИЯ'!BW42,\"\")","v":""},{"$f":"IF('ШАБЛОН для ЗАПОЛНЕНИЯ'!BX42<>\"\",'ШАБЛОН для ЗАПОЛНЕНИЯ'!BX42,\"\")","v":""},{"$f":"IF('ШАБЛОН для ЗАПОЛНЕНИЯ'!BY42<>\"\",'ШАБЛОН для ЗАПОЛНЕНИЯ'!BY42,\"\")","v":""},{"$f":"IF('ШАБЛОН для ЗАПОЛНЕНИЯ'!BZ42<>\"\",'ШАБЛОН для ЗАПОЛНЕНИЯ'!BZ42,\"\")","v":""},{"$f":"IF('ШАБЛОН для ЗАПОЛНЕНИЯ'!CA42<>\"\",'ШАБЛОН для ЗАПОЛНЕНИЯ'!CA42,\"\")","v":""},{"$f":"IF('ШАБЛОН для ЗАПОЛНЕНИЯ'!CB42<>\"\",'ШАБЛОН для ЗАПОЛНЕНИЯ'!CB42,\"\")","v":""},{"$f":"IF('ШАБЛОН для ЗАПОЛНЕНИЯ'!CC42<>\"\",'ШАБЛОН для ЗАПОЛНЕНИЯ'!CC42,\"\")","v":""},{"$f":"IF('ШАБЛОН для ЗАПОЛНЕНИЯ'!CD42<>\"\",'ШАБЛОН для ЗАПОЛНЕНИЯ'!CD42,\"\")","v":""},{"$f":"IF('ШАБЛОН для ЗАПОЛНЕНИЯ'!CE42<>\"\",'ШАБЛОН для ЗАПОЛНЕНИЯ'!CE42,\"\")","v":""},{"$f":"IF('ШАБЛОН для ЗАПОЛНЕНИЯ'!CF42<>\"\",'ШАБЛОН для ЗАПОЛНЕНИЯ'!CF42,\"\")","v":""},{"$f":"IF('ШАБЛОН для ЗАПОЛНЕНИЯ'!CG42<>\"\",'ШАБЛОН для ЗАПОЛНЕНИЯ'!CG42,\"\")","v":""},{"$f":"IF('ШАБЛОН для ЗАПОЛНЕНИЯ'!CH42<>\"\",'ШАБЛОН для ЗАПОЛНЕНИЯ'!CH42,\"\")","v":""},{"$f":"IF('ШАБЛОН для ЗАПОЛНЕНИЯ'!CI42<>\"\",'ШАБЛОН для ЗАПОЛНЕНИЯ'!CI42,\"\")","v":""},{"$f":"IF('ШАБЛОН для ЗАПОЛНЕНИЯ'!CJ42<>\"\",'ШАБЛОН для ЗАПОЛНЕНИЯ'!CJ42,\"\")","v":""},{"$f":"IF('ШАБЛОН для ЗАПОЛНЕНИЯ'!CK42<>\"\",'ШАБЛОН для ЗАПОЛНЕНИЯ'!CK42,\"\")","v":""},{"$f":"IF('ШАБЛОН для ЗАПОЛНЕНИЯ'!CL42<>\"\",'ШАБЛОН для ЗАПОЛНЕНИЯ'!CL42,\"\")","v":""},{"$f":"IF('ШАБЛОН для ЗАПОЛНЕНИЯ'!CM42<>\"\",'ШАБЛОН для ЗАПОЛНЕНИЯ'!CM42,\"\")","v":""},{"$f":"IF('ШАБЛОН для ЗАПОЛНЕНИЯ'!CN42<>\"\",'ШАБЛОН для ЗАПОЛНЕНИЯ'!CN42,\"\")","v":""},{"$f":"IF('ШАБЛОН для ЗАПОЛНЕНИЯ'!CO42<>\"\",'ШАБЛОН для ЗАПОЛНЕНИЯ'!CO42,\"\")","v":""},{"$f":"IF('ШАБЛОН для ЗАПОЛНЕНИЯ'!CP42<>\"\",'ШАБЛОН для ЗАПОЛНЕНИЯ'!CP42,\"\")","v":""},{"$f":"IF('ШАБЛОН для ЗАПОЛНЕНИЯ'!CQ42<>\"\",'ШАБЛОН для ЗАПОЛНЕНИЯ'!CQ42,\"\")","v":""},{"$f":"IF('ШАБЛОН для ЗАПОЛНЕНИЯ'!CR42<>\"\",'ШАБЛОН для ЗАПОЛНЕНИЯ'!CR42,\"\")","v":""},{"$f":"IF('ШАБЛОН для ЗАПОЛНЕНИЯ'!CS42<>\"\",'ШАБЛОН для ЗАПОЛНЕНИЯ'!CS42,\"\")","v":""},{"$f":"IF('ШАБЛОН для ЗАПОЛНЕНИЯ'!CT42<>\"\",'ШАБЛОН для ЗАПОЛНЕНИЯ'!CT42,\"\")","v":""}]
[null,6,{"$f":"IF('ШАБЛОН для ЗАПОЛНЕНИЯ'!C43<>\"\",'ШАБЛОН для ЗАПОЛНЕНИЯ'!C43,\"\")","v":""},{"$f":"IF('ШАБЛОН для ЗАПОЛНЕНИЯ'!D43<>\"\",'ШАБЛОН для ЗАПОЛНЕНИЯ'!D43,\"\")","v":""},{"$f":"IF('ШАБЛОН для ЗАПОЛНЕНИЯ'!E43<>\"\",'ШАБЛОН для ЗАПОЛНЕНИЯ'!E43,\"\")","v":""},{"$f":"IF('ШАБЛОН для ЗАПОЛНЕНИЯ'!F43<>\"\",'ШАБЛОН для ЗАПОЛНЕНИЯ'!F43,\"\")","v":""},{"$f":"IF('ШАБЛОН для ЗАПОЛНЕНИЯ'!G43<>\"\",'ШАБЛОН для ЗАПОЛНЕНИЯ'!G43,\"\")","v":""},{"$f":"IF('ШАБЛОН для ЗАПОЛНЕНИЯ'!H43<>\"\",'ШАБЛОН для ЗАПОЛНЕНИЯ'!H43,\"\")","v":""},{"$f":"IF('ШАБЛОН для ЗАПОЛНЕНИЯ'!I43<>\"\",'ШАБЛОН для ЗАПОЛНЕНИЯ'!I43,\"\")","v":""},{"$f":"IF('ШАБЛОН для ЗАПОЛНЕНИЯ'!J43<>\"\",'ШАБЛОН для ЗАПОЛНЕНИЯ'!J43,\"\")","v":""},{"$f":"IF('ШАБЛОН для ЗАПОЛНЕНИЯ'!K43<>\"\",'ШАБЛОН для ЗАПОЛНЕНИЯ'!K43,\"\")","v":""},{"$f":"IF('ШАБЛОН для ЗАПОЛНЕНИЯ'!L43<>\"\",'ШАБЛОН для ЗАПОЛНЕНИЯ'!L43,\"\")","v":""},{"$f":"IF('ШАБЛОН для ЗАПОЛНЕНИЯ'!M43<>\"\",'ШАБЛОН для ЗАПОЛНЕНИЯ'!M43,\"\")","v":""},{"$f":"IF('ШАБЛОН для ЗАПОЛНЕНИЯ'!N43<>\"\",'ШАБЛОН для ЗАПОЛНЕНИЯ'!N43,\"\")","v":""},{"$f":"IF('ШАБЛОН для ЗАПОЛНЕНИЯ'!O43<>\"\",'ШАБЛОН для ЗАПОЛНЕНИЯ'!O43,\"\")","v":""},{"$f":"IF('ШАБЛОН для ЗАПОЛНЕНИЯ'!P43<>\"\",'ШАБЛОН для ЗАПОЛНЕНИЯ'!P43,\"\")","v":""},{"$f":"IF('ШАБЛОН для ЗАПОЛНЕНИЯ'!Q43<>\"\",'ШАБЛОН для ЗАПОЛНЕНИЯ'!Q43,\"\")","v":""},{"$f":"IF('ШАБЛОН для ЗАПОЛНЕНИЯ'!R43<>\"\",'ШАБЛОН для ЗАПОЛНЕНИЯ'!R43,\"\")","v":""},{"$f":"IF('ШАБЛОН для ЗАПОЛНЕНИЯ'!S43<>\"\",'ШАБЛОН для ЗАПОЛНЕНИЯ'!S43,\"\")","v":""},{"$f":"IF('ШАБЛОН для ЗАПОЛНЕНИЯ'!T43<>\"\",'ШАБЛОН для ЗАПОЛНЕНИЯ'!T43,\"\")","v":""},{"$f":"IF('ШАБЛОН для ЗАПОЛНЕНИЯ'!U43<>\"\",'ШАБЛОН для ЗАПОЛНЕНИЯ'!U43,\"\")","v":""},{"$f":"IF('ШАБЛОН для ЗАПОЛНЕНИЯ'!V43<>\"\",'ШАБЛОН для ЗАПОЛНЕНИЯ'!V43,\"\")","v":""},{"$f":"IF('ШАБЛОН для ЗАПОЛНЕНИЯ'!W43<>\"\",'ШАБЛОН для ЗАПОЛНЕНИЯ'!W43,\"\")","v":"Физкультура"},{"$f":"IF('ШАБЛОН для ЗАПОЛНЕНИЯ'!X43<>\"\",'ШАБЛОН для ЗАПОЛНЕНИЯ'!X43,\"\")","v":""},{"$f":"IF('ШАБЛОН для ЗАПОЛНЕНИЯ'!Y43<>\"\",'ШАБЛОН для ЗАПОЛНЕНИЯ'!Y43,\"\")","v":""},{"$f":"IF('ШАБЛОН для ЗАПОЛНЕНИЯ'!Z43<>\"\",'ШАБЛОН для ЗАПОЛНЕНИЯ'!Z43,\"\")","v":""},{"$f":"IF('ШАБЛОН для ЗАПОЛНЕНИЯ'!AA43<>\"\",'ШАБЛОН для ЗАПОЛНЕНИЯ'!AA43,\"\")","v":""},{"$f":"IF('ШАБЛОН для ЗАПОЛНЕНИЯ'!AB43<>\"\",'ШАБЛОН для ЗАПОЛНЕНИЯ'!AB43,\"\")","v":""},{"$f":"IF('ШАБЛОН для ЗАПОЛНЕНИЯ'!AC43<>\"\",'ШАБЛОН для ЗАПОЛНЕНИЯ'!AC43,\"\")","v":""},{"$f":"IF('ШАБЛОН для ЗАПОЛНЕНИЯ'!AD43<>\"\",'ШАБЛОН для ЗАПОЛНЕНИЯ'!AD43,\"\")","v":""},{"$f":"IF('ШАБЛОН для ЗАПОЛНЕНИЯ'!AE43<>\"\",'ШАБЛОН для ЗАПОЛНЕНИЯ'!AE43,\"\")","v":"Физика"},{"$f":"IF('ШАБЛОН для ЗАПОЛНЕНИЯ'!AF43<>\"\",'ШАБЛОН для ЗАПОЛНЕНИЯ'!AF43,\"\")","v":""},{"$f":"IF('ШАБЛОН для ЗАПОЛНЕНИЯ'!AG43<>\"\",'ШАБЛОН для ЗАПОЛНЕНИЯ'!AG43,\"\")","v":""},{"$f":"IF('ШАБЛОН для ЗАПОЛНЕНИЯ'!AH43<>\"\",'ШАБЛОН для ЗАПОЛНЕНИЯ'!AH43,\"\")","v":""},{"$f":"IF('ШАБЛОН для ЗАПОЛНЕНИЯ'!AI43<>\"\",'ШАБЛОН для ЗАПОЛНЕНИЯ'!AI43,\"\")","v":"Литература"},{"$f":"IF('ШАБЛОН для ЗАПОЛНЕНИЯ'!AJ43<>\"\",'ШАБЛОН для ЗАПОЛНЕНИЯ'!AJ43,\"\")","v":""},{"$f":"IF('ШАБЛОН для ЗАПОЛНЕНИЯ'!AK43<>\"\",'ШАБЛОН для ЗАПОЛНЕНИЯ'!AK43,\"\")","v":""},{"$f":"IF('ШАБЛОН для ЗАПОЛНЕНИЯ'!AL43<>\"\",'ШАБЛОН для ЗАПОЛНЕНИЯ'!AL43,\"\")","v":""},{"$f":"IF('ШАБЛОН для ЗАПОЛНЕНИЯ'!AM43<>\"\",'ШАБЛОН для ЗАПОЛНЕНИЯ'!AM43,\"\")","v":""},{"$f":"IF('ШАБЛОН для ЗАПОЛНЕНИЯ'!AN43<>\"\",'ШАБЛОН для ЗАПОЛНЕНИЯ'!AN43,\"\")","v":""},{"$f":"IF('ШАБЛОН для ЗАПОЛНЕНИЯ'!AO43<>\"\",'ШАБЛОН для ЗАПОЛНЕНИЯ'!AO43,\"\")","v":""},{"$f":"IF('ШАБЛОН для ЗАПОЛНЕНИЯ'!AP43<>\"\",'ШАБЛОН для ЗАПОЛНЕНИЯ'!AP43,\"\")","v":""},{"$f":"IF('ШАБЛОН для ЗАПОЛНЕНИЯ'!AQ43<>\"\",'ШАБЛОН для ЗАПОЛНЕНИЯ'!AQ43,\"\")","v":""},{"$f":"IF('ШАБЛОН для ЗАПОЛНЕНИЯ'!AR43<>\"\",'ШАБЛОН для ЗАПОЛНЕНИЯ'!AR43,\"\")","v":""},{"$f":"IF('ШАБЛОН для ЗАПОЛНЕНИЯ'!AS43<>\"\",'ШАБЛОН для ЗАПОЛНЕНИЯ'!AS43,\"\")","v":""},{"$f":"IF('ШАБЛОН для ЗАПОЛНЕНИЯ'!AT43<>\"\",'ШАБЛОН для ЗАПОЛНЕНИЯ'!AT43,\"\")","v":""},{"$f":"IF('ШАБЛОН для ЗАПОЛНЕНИЯ'!AU43<>\"\",'ШАБЛОН для ЗАПОЛНЕНИЯ'!AU43,\"\")","v":""},{"$f":"IF('ШАБЛОН для ЗАПОЛНЕНИЯ'!AV43<>\"\",'ШАБЛОН для ЗАПОЛНЕНИЯ'!AV43,\"\")","v":""},{"$f":"IF('ШАБЛОН для ЗАПОЛНЕНИЯ'!AW43<>\"\",'ШАБЛОН для ЗАПОЛНЕНИЯ'!AW43,\"\")","v":""},{"$f":"IF('ШАБЛОН для ЗАПОЛНЕНИЯ'!AX43<>\"\",'ШАБЛОН для ЗАПОЛНЕНИЯ'!AX43,\"\")","v":""},{"$f":"IF('ШАБЛОН для ЗАПОЛНЕНИЯ'!AY43<>\"\",'ШАБЛОН для ЗАПОЛНЕНИЯ'!AY43,\"\")","v":""},{"$f":"IF('ШАБЛОН для ЗАПОЛНЕНИЯ'!AZ43<>\"\",'ШАБЛОН для ЗАПОЛНЕНИЯ'!AZ43,\"\")","v":""},{"$f":"IF('ШАБЛОН для ЗАПОЛНЕНИЯ'!BA43<>\"\",'ШАБЛОН для ЗАПОЛНЕНИЯ'!BA43,\"\")","v":""},{"$f":"IF('ШАБЛОН для ЗАПОЛНЕНИЯ'!BB43<>\"\",'ШАБЛОН для ЗАПОЛНЕНИЯ'!BB43,\"\")","v":""},{"$f":"IF('ШАБЛОН для ЗАПОЛНЕНИЯ'!BC43<>\"\",'ШАБЛОН для ЗАПОЛНЕНИЯ'!BC43,\"\")","v":""},{"$f":"IF('ШАБЛОН для ЗАПОЛНЕНИЯ'!BD43<>\"\",'ШАБЛОН для ЗАПОЛНЕНИЯ'!BD43,\"\")","v":""},{"$f":"IF('ШАБЛОН для ЗАПОЛНЕНИЯ'!BE43<>\"\",'ШАБЛОН для ЗАПОЛНЕНИЯ'!BE43,\"\")","v":""},{"$f":"IF('ШАБЛОН для ЗАПОЛНЕНИЯ'!BF43<>\"\",'ШАБЛОН для ЗАПОЛНЕНИЯ'!BF43,\"\")","v":""},{"$f":"IF('ШАБЛОН для ЗАПОЛНЕНИЯ'!BG43<>\"\",'ШАБЛОН для ЗАПОЛНЕНИЯ'!BG43,\"\")","v":""},{"$f":"IF('ШАБЛОН для ЗАПОЛНЕНИЯ'!BH43<>\"\",'ШАБЛОН для ЗАПОЛНЕНИЯ'!BH43,\"\")","v":""},{"$f":"IF('ШАБЛОН для ЗАПОЛНЕНИЯ'!BI43<>\"\",'ШАБЛОН для ЗАПОЛНЕНИЯ'!BI43,\"\")","v":""},{"$f":"IF('ШАБЛОН для ЗАПОЛНЕНИЯ'!BJ43<>\"\",'ШАБЛОН для ЗАПОЛНЕНИЯ'!BJ43,\"\")","v":""},{"$f":"IF('ШАБЛОН для ЗАПОЛНЕНИЯ'!BK43<>\"\",'ШАБЛОН для ЗАПОЛНЕНИЯ'!BK43,\"\")","v":""},{"$f":"IF('ШАБЛОН для ЗАПОЛНЕНИЯ'!BL43<>\"\",'ШАБЛОН для ЗАПОЛНЕНИЯ'!BL43,\"\")","v":""},{"$f":"IF('ШАБЛОН для ЗАПОЛНЕНИЯ'!BM43<>\"\",'ШАБЛОН для ЗАПОЛНЕНИЯ'!BM43,\"\")","v":""},{"$f":"IF('ШАБЛОН для ЗАПОЛНЕНИЯ'!BN43<>\"\",'ШАБЛОН для ЗАПОЛНЕНИЯ'!BN43,\"\")","v":""},{"$f":"IF('ШАБЛОН для ЗАПОЛНЕНИЯ'!BO43<>\"\",'ШАБЛОН для ЗАПОЛНЕНИЯ'!BO43,\"\")","v":""},{"$f":"IF('ШАБЛОН для ЗАПОЛНЕНИЯ'!BP43<>\"\",'ШАБЛОН для ЗАПОЛНЕНИЯ'!BP43,\"\")","v":""},{"$f":"IF('ШАБЛОН для ЗАПОЛНЕНИЯ'!BQ43<>\"\",'ШАБЛОН для ЗАПОЛНЕНИЯ'!BQ43,\"\")","v":""},{"$f":"IF('ШАБЛОН для ЗАПОЛНЕНИЯ'!BR43<>\"\",'ШАБЛОН для ЗАПОЛНЕНИЯ'!BR43,\"\")","v":""},{"$f":"IF('ШАБЛОН для ЗАПОЛНЕНИЯ'!BS43<>\"\",'ШАБЛОН для ЗАПОЛНЕНИЯ'!BS43,\"\")","v":""},{"$f":"IF('ШАБЛОН для ЗАПОЛНЕНИЯ'!BT43<>\"\",'ШАБЛОН для ЗАПОЛНЕНИЯ'!BT43,\"\")","v":""},{"$f":"IF('ШАБЛОН для ЗАПОЛНЕНИЯ'!BU43<>\"\",'ШАБЛОН для ЗАПОЛНЕНИЯ'!BU43,\"\")","v":""},{"$f":"IF('ШАБЛОН для ЗАПОЛНЕНИЯ'!BV43<>\"\",'ШАБЛОН для ЗАПОЛНЕНИЯ'!BV43,\"\")","v":""},{"$f":"IF('ШАБЛОН для ЗАПОЛНЕНИЯ'!BW43<>\"\",'ШАБЛОН для ЗАПОЛНЕНИЯ'!BW43,\"\")","v":""},{"$f":"IF('ШАБЛОН для ЗАПОЛНЕНИЯ'!BX43<>\"\",'ШАБЛОН для ЗАПОЛНЕНИЯ'!BX43,\"\")","v":""},{"$f":"IF('ШАБЛОН для ЗАПОЛНЕНИЯ'!BY43<>\"\",'ШАБЛОН для ЗАПОЛНЕНИЯ'!BY43,\"\")","v":""},{"$f":"IF('ШАБЛОН для ЗАПОЛНЕНИЯ'!BZ43<>\"\",'ШАБЛОН для ЗАПОЛНЕНИЯ'!BZ43,\"\")","v":""},{"$f":"IF('ШАБЛОН для ЗАПОЛНЕНИЯ'!CA43<>\"\",'ШАБЛОН для ЗАПОЛНЕНИЯ'!CA43,\"\")","v":""},{"$f":"IF('ШАБЛОН для ЗАПОЛНЕНИЯ'!CB43<>\"\",'ШАБЛОН для ЗАПОЛНЕНИЯ'!CB43,\"\")","v":""},{"$f":"IF('ШАБЛОН для ЗАПОЛНЕНИЯ'!CC43<>\"\",'ШАБЛОН для ЗАПОЛНЕНИЯ'!CC43,\"\")","v":""},{"$f":"IF('ШАБЛОН для ЗАПОЛНЕНИЯ'!CD43<>\"\",'ШАБЛОН для ЗАПОЛНЕНИЯ'!CD43,\"\")","v":""},{"$f":"IF('ШАБЛОН для ЗАПОЛНЕНИЯ'!CE43<>\"\",'ШАБЛОН для ЗАПОЛНЕНИЯ'!CE43,\"\")","v":""},{"$f":"IF('ШАБЛОН для ЗАПОЛНЕНИЯ'!CF43<>\"\",'ШАБЛОН для ЗАПОЛНЕНИЯ'!CF43,\"\")","v":""},{"$f":"IF('ШАБЛОН для ЗАПОЛНЕНИЯ'!CG43<>\"\",'ШАБЛОН для ЗАПОЛНЕНИЯ'!CG43,\"\")","v":""},{"$f":"IF('ШАБЛОН для ЗАПОЛНЕНИЯ'!CH43<>\"\",'ШАБЛОН для ЗАПОЛНЕНИЯ'!CH43,\"\")","v":""},{"$f":"IF('ШАБЛОН для ЗАПОЛНЕНИЯ'!CI43<>\"\",'ШАБЛОН для ЗАПОЛНЕНИЯ'!CI43,\"\")","v":""},{"$f":"IF('ШАБЛОН для ЗАПОЛНЕНИЯ'!CJ43<>\"\",'ШАБЛОН для ЗАПОЛНЕНИЯ'!CJ43,\"\")","v":""},{"$f":"IF('ШАБЛОН для ЗАПОЛНЕНИЯ'!CK43<>\"\",'ШАБЛОН для ЗАПОЛНЕНИЯ'!CK43,\"\")","v":""},{"$f":"IF('ШАБЛОН для ЗАПОЛНЕНИЯ'!CL43<>\"\",'ШАБЛОН для ЗАПОЛНЕНИЯ'!CL43,\"\")","v":""},{"$f":"IF('ШАБЛОН для ЗАПОЛНЕНИЯ'!CM43<>\"\",'ШАБЛОН для ЗАПОЛНЕНИЯ'!CM43,\"\")","v":""},{"$f":"IF('ШАБЛОН для ЗАПОЛНЕНИЯ'!CN43<>\"\",'ШАБЛОН для ЗАПОЛНЕНИЯ'!CN43,\"\")","v":""},{"$f":"IF('ШАБЛОН для ЗАПОЛНЕНИЯ'!CO43<>\"\",'ШАБЛОН для ЗАПОЛНЕНИЯ'!CO43,\"\")","v":""},{"$f":"IF('ШАБЛОН для ЗАПОЛНЕНИЯ'!CP43<>\"\",'ШАБЛОН для ЗАПОЛНЕНИЯ'!CP43,\"\")","v":""},{"$f":"IF('ШАБЛОН для ЗАПОЛНЕНИЯ'!CQ43<>\"\",'ШАБЛОН для ЗАПОЛНЕНИЯ'!CQ43,\"\")","v":""},{"$f":"IF('ШАБЛОН для ЗАПОЛНЕНИЯ'!CR43<>\"\",'ШАБЛОН для ЗАПОЛНЕНИЯ'!CR43,\"\")","v":""},{"$f":"IF('ШАБЛОН для ЗАПОЛНЕНИЯ'!CS43<>\"\",'ШАБЛОН для ЗАПОЛНЕНИЯ'!CS43,\"\")","v":""},{"$f":"IF('ШАБЛОН для ЗАПОЛНЕНИЯ'!CT43<>\"\",'ШАБЛОН для ЗАПОЛНЕНИЯ'!CT43,\"\")","v":""}]
[null,7,{"$f":"IF('ШАБЛОН для ЗАПОЛНЕНИЯ'!C44<>\"\",'ШАБЛОН для ЗАПОЛНЕНИЯ'!C44,\"\")","v":""},{"$f":"IF('ШАБЛОН для ЗАПОЛНЕНИЯ'!D44<>\"\",'ШАБЛОН для ЗАПОЛНЕНИЯ'!D44,\"\")","v":""},{"$f":"IF('ШАБЛОН для ЗАПОЛНЕНИЯ'!E44<>\"\",'ШАБЛОН для ЗАПОЛНЕНИЯ'!E44,\"\")","v":""},{"$f":"IF('ШАБЛОН для ЗАПОЛНЕНИЯ'!F44<>\"\",'ШАБЛОН для ЗАПОЛНЕНИЯ'!F44,\"\")","v":""},{"$f":"IF('ШАБЛОН для ЗАПОЛНЕНИЯ'!G44<>\"\",'ШАБЛОН для ЗАПОЛНЕНИЯ'!G44,\"\")","v":""},{"$f":"IF('ШАБЛОН для ЗАПОЛНЕНИЯ'!H44<>\"\",'ШАБЛОН для ЗАПОЛНЕНИЯ'!H44,\"\")","v":""},{"$f":"IF('ШАБЛОН для ЗАПОЛНЕНИЯ'!I44<>\"\",'ШАБЛОН для ЗАПОЛНЕНИЯ'!I44,\"\")","v":""},{"$f":"IF('ШАБЛОН для ЗАПОЛНЕНИЯ'!J44<>\"\",'ШАБЛОН для ЗАПОЛНЕНИЯ'!J44,\"\")","v":""},{"$f":"IF('ШАБЛОН для ЗАПОЛНЕНИЯ'!K44<>\"\",'ШАБЛОН для ЗАПОЛНЕНИЯ'!K44,\"\")","v":""},{"$f":"IF('ШАБЛОН для ЗАПОЛНЕНИЯ'!L44<>\"\",'ШАБЛОН для ЗАПОЛНЕНИЯ'!L44,\"\")","v":""},{"$f":"IF('ШАБЛОН для ЗАПОЛНЕНИЯ'!M44<>\"\",'ШАБЛОН для ЗАПОЛНЕНИЯ'!M44,\"\")","v":""},{"$f":"IF('ШАБЛОН для ЗАПОЛНЕНИЯ'!N44<>\"\",'ШАБЛОН для ЗАПОЛНЕНИЯ'!N44,\"\")","v":""},{"$f":"IF('ШАБЛОН для ЗАПОЛНЕНИЯ'!O44<>\"\",'ШАБЛОН для ЗАПОЛНЕНИЯ'!O44,\"\")","v":""},{"$f":"IF('ШАБЛОН для ЗАПОЛНЕНИЯ'!P44<>\"\",'ШАБЛОН для ЗАПОЛНЕНИЯ'!P44,\"\")","v":""},{"$f":"IF('ШАБЛОН для ЗАПОЛНЕНИЯ'!Q44<>\"\",'ШАБЛОН для ЗАПОЛНЕНИЯ'!Q44,\"\")","v":""},{"$f":"IF('ШАБЛОН для ЗАПОЛНЕНИЯ'!R44<>\"\",'ШАБЛОН для ЗАПОЛНЕНИЯ'!R44,\"\")","v":""},{"$f":"IF('ШАБЛОН для ЗАПОЛНЕНИЯ'!S44<>\"\",'ШАБЛОН для ЗАПОЛНЕНИЯ'!S44,\"\")","v":""},{"$f":"IF('ШАБЛОН для ЗАПОЛНЕНИЯ'!T44<>\"\",'ШАБЛОН для ЗАПОЛНЕНИЯ'!T44,\"\")","v":""},{"$f":"IF('ШАБЛОН для ЗАПОЛНЕНИЯ'!U44<>\"\",'ШАБЛОН для ЗАПОЛНЕНИЯ'!U44,\"\")","v":""},{"$f":"IF('ШАБЛОН для ЗАПОЛНЕНИЯ'!V44<>\"\",'ШАБЛОН для ЗАПОЛНЕНИЯ'!V44,\"\")","v":""},{"$f":"IF('ШАБЛОН для ЗАПОЛНЕНИЯ'!W44<>\"\",'ШАБЛОН для ЗАПОЛНЕНИЯ'!W44,\"\")","v":""},{"$f":"IF('ШАБЛОН для ЗАПОЛНЕНИЯ'!X44<>\"\",'ШАБЛОН для ЗАПОЛНЕНИЯ'!X44,\"\")","v":""},{"$f":"IF('ШАБЛОН для ЗАПОЛНЕНИЯ'!Y44<>\"\",'ШАБЛОН для ЗАПОЛНЕНИЯ'!Y44,\"\")","v":""},{"$f":"IF('ШАБЛОН для ЗАПОЛНЕНИЯ'!Z44<>\"\",'ШАБЛОН для ЗАПОЛНЕНИЯ'!Z44,\"\")","v":""},{"$f":"IF('ШАБЛОН для ЗАПОЛНЕНИЯ'!AA44<>\"\",'ШАБЛОН для ЗАПОЛНЕНИЯ'!AA44,\"\")","v":""},{"$f":"IF('ШАБЛОН для ЗАПОЛНЕНИЯ'!AB44<>\"\",'ШАБЛОН для ЗАПОЛНЕНИЯ'!AB44,\"\")","v":""},{"$f":"IF('ШАБЛОН для ЗАПОЛНЕНИЯ'!AC44<>\"\",'ШАБЛОН для ЗАПОЛНЕНИЯ'!AC44,\"\")","v":""},{"$f":"IF('ШАБЛОН для ЗАПОЛНЕНИЯ'!AD44<>\"\",'ШАБЛОН для ЗАПОЛНЕНИЯ'!AD44,\"\")","v":""},{"$f":"IF('ШАБЛОН для ЗАПОЛНЕНИЯ'!AE44<>\"\",'ШАБЛОН для ЗАПОЛНЕНИЯ'!AE44,\"\")","v":""},{"$f":"IF('ШАБЛОН для ЗАПОЛНЕНИЯ'!AF44<>\"\",'ШАБЛОН для ЗАПОЛНЕНИЯ'!AF44,\"\")","v":""},{"$f":"IF('ШАБЛОН для ЗАПОЛНЕНИЯ'!AG44<>\"\",'ШАБЛОН для ЗАПОЛНЕНИЯ'!AG44,\"\")","v":""},{"$f":"IF('ШАБЛОН для ЗАПОЛНЕНИЯ'!AH44<>\"\",'ШАБЛОН для ЗАПОЛНЕНИЯ'!AH44,\"\")","v":""},{"$f":"IF('ШАБЛОН для ЗАПОЛНЕНИЯ'!AI44<>\"\",'ШАБЛОН для ЗАПОЛНЕНИЯ'!AI44,\"\")","v":""},{"$f":"IF('ШАБЛОН для ЗАПОЛНЕНИЯ'!AJ44<>\"\",'ШАБЛОН для ЗАПОЛНЕНИЯ'!AJ44,\"\")","v":""},{"$f":"IF('ШАБЛОН для ЗАПОЛНЕНИЯ'!AK44<>\"\",'ШАБЛОН для ЗАПОЛНЕНИЯ'!AK44,\"\")","v":""},{"$f":"IF('ШАБЛОН для ЗАПОЛНЕНИЯ'!AL44<>\"\",'ШАБЛОН для ЗАПОЛНЕНИЯ'!AL44,\"\")","v":""},{"$f":"IF('ШАБЛОН для ЗАПОЛНЕНИЯ'!AM44<>\"\",'ШАБЛОН для ЗАПОЛНЕНИЯ'!AM44,\"\")","v":""},{"$f":"IF('ШАБЛОН для ЗАПОЛНЕНИЯ'!AN44<>\"\",'ШАБЛОН для ЗАПОЛНЕНИЯ'!AN44,\"\")","v":""},{"$f":"IF('ШАБЛОН для ЗАПОЛНЕНИЯ'!AO44<>\"\",'ШАБЛОН для ЗАПОЛНЕНИЯ'!AO44,\"\")","v":""},{"$f":"IF('ШАБЛОН для ЗАПОЛНЕНИЯ'!AP44<>\"\",'ШАБЛОН для ЗАПОЛНЕНИЯ'!AP44,\"\")","v":""},{"$f":"IF('ШАБЛОН для ЗАПОЛНЕНИЯ'!AQ44<>\"\",'ШАБЛОН для ЗАПОЛНЕНИЯ'!AQ44,\"\")","v":""},{"$f":"IF('ШАБЛОН для ЗАПОЛНЕНИЯ'!AR44<>\"\",'ШАБЛОН для ЗАПОЛНЕНИЯ'!AR44,\"\")","v":""},{"$f":"IF('ШАБЛОН для ЗАПОЛНЕНИЯ'!AS44<>\"\",'ШАБЛОН для ЗАПОЛНЕНИЯ'!AS44,\"\")","v":""},{"$f":"IF('ШАБЛОН для ЗАПОЛНЕНИЯ'!AT44<>\"\",'ШАБЛОН для ЗАПОЛНЕНИЯ'!AT44,\"\")","v":""},{"$f":"IF('ШАБЛОН для ЗАПОЛНЕНИЯ'!AU44<>\"\",'ШАБЛОН для ЗАПОЛНЕНИЯ'!AU44,\"\")","v":""},{"$f":"IF('ШАБЛОН для ЗАПОЛНЕНИЯ'!AV44<>\"\",'ШАБЛОН для ЗАПОЛНЕНИЯ'!AV44,\"\")","v":""},{"$f":"IF('ШАБЛОН для ЗАПОЛНЕНИЯ'!AW44<>\"\",'ШАБЛОН для ЗАПОЛНЕНИЯ'!AW44,\"\")","v":""},{"$f":"IF('ШАБЛОН для ЗАПОЛНЕНИЯ'!AX44<>\"\",'ШАБЛОН для ЗАПОЛНЕНИЯ'!AX44,\"\")","v":""},{"$f":"IF('ШАБЛОН для ЗАПОЛНЕНИЯ'!AY44<>\"\",'ШАБЛОН для ЗАПОЛНЕНИЯ'!AY44,\"\")","v":""},{"$f":"IF('ШАБЛОН для ЗАПОЛНЕНИЯ'!AZ44<>\"\",'ШАБЛОН для ЗАПОЛНЕНИЯ'!AZ44,\"\")","v":""},{"$f":"IF('ШАБЛОН для ЗАПОЛНЕНИЯ'!BA44<>\"\",'ШАБЛОН для ЗАПОЛНЕНИЯ'!BA44,\"\")","v":""},{"$f":"IF('ШАБЛОН для ЗАПОЛНЕНИЯ'!BB44<>\"\",'ШАБЛОН для ЗАПОЛНЕНИЯ'!BB44,\"\")","v":""},{"$f":"IF('ШАБЛОН для ЗАПОЛНЕНИЯ'!BC44<>\"\",'ШАБЛОН для ЗАПОЛНЕНИЯ'!BC44,\"\")","v":""},{"$f":"IF('ШАБЛОН для ЗАПОЛНЕНИЯ'!BD44<>\"\",'ШАБЛОН для ЗАПОЛНЕНИЯ'!BD44,\"\")","v":""},{"$f":"IF('ШАБЛОН для ЗАПОЛНЕНИЯ'!BE44<>\"\",'ШАБЛОН для ЗАПОЛНЕНИЯ'!BE44,\"\")","v":""},{"$f":"IF('ШАБЛОН для ЗАПОЛНЕНИЯ'!BF44<>\"\",'ШАБЛОН для ЗАПОЛНЕНИЯ'!BF44,\"\")","v":""},{"$f":"IF('ШАБЛОН для ЗАПОЛНЕНИЯ'!BG44<>\"\",'ШАБЛОН для ЗАПОЛНЕНИЯ'!BG44,\"\")","v":""},{"$f":"IF('ШАБЛОН для ЗАПОЛНЕНИЯ'!BH44<>\"\",'ШАБЛОН для ЗАПОЛНЕНИЯ'!BH44,\"\")","v":""},{"$f":"IF('ШАБЛОН для ЗАПОЛНЕНИЯ'!BI44<>\"\",'ШАБЛОН для ЗАПОЛНЕНИЯ'!BI44,\"\")","v":""},{"$f":"IF('ШАБЛОН для ЗАПОЛНЕНИЯ'!BJ44<>\"\",'ШАБЛОН для ЗАПОЛНЕНИЯ'!BJ44,\"\")","v":""},{"$f":"IF('ШАБЛОН для ЗАПОЛНЕНИЯ'!BK44<>\"\",'ШАБЛОН для ЗАПОЛНЕНИЯ'!BK44,\"\")","v":""},{"$f":"IF('ШАБЛОН для ЗАПОЛНЕНИЯ'!BL44<>\"\",'ШАБЛОН для ЗАПОЛНЕНИЯ'!BL44,\"\")","v":""},{"$f":"IF('ШАБЛОН для ЗАПОЛНЕНИЯ'!BM44<>\"\",'ШАБЛОН для ЗАПОЛНЕНИЯ'!BM44,\"\")","v":""},{"$f":"IF('ШАБЛОН для ЗАПОЛНЕНИЯ'!BN44<>\"\",'ШАБЛОН для ЗАПОЛНЕНИЯ'!BN44,\"\")","v":""},{"$f":"IF('ШАБЛОН для ЗАПОЛНЕНИЯ'!BO44<>\"\",'ШАБЛОН для ЗАПОЛНЕНИЯ'!BO44,\"\")","v":""},{"$f":"IF('ШАБЛОН для ЗАПОЛНЕНИЯ'!BP44<>\"\",'ШАБЛОН для ЗАПОЛНЕНИЯ'!BP44,\"\")","v":""},{"$f":"IF('ШАБЛОН для ЗАПОЛНЕНИЯ'!BQ44<>\"\",'ШАБЛОН для ЗАПОЛНЕНИЯ'!BQ44,\"\")","v":""},{"$f":"IF('ШАБЛОН для ЗАПОЛНЕНИЯ'!BR44<>\"\",'ШАБЛОН для ЗАПОЛНЕНИЯ'!BR44,\"\")","v":""},{"$f":"IF('ШАБЛОН для ЗАПОЛНЕНИЯ'!BS44<>\"\",'ШАБЛОН для ЗАПОЛНЕНИЯ'!BS44,\"\")","v":""},{"$f":"IF('ШАБЛОН для ЗАПОЛНЕНИЯ'!BT44<>\"\",'ШАБЛОН для ЗАПОЛНЕНИЯ'!BT44,\"\")","v":""},{"$f":"IF('ШАБЛОН для ЗАПОЛНЕНИЯ'!BU44<>\"\",'ШАБЛОН для ЗАПОЛНЕНИЯ'!BU44,\"\")","v":""},{"$f":"IF('ШАБЛОН для ЗАПОЛНЕНИЯ'!BV44<>\"\",'ШАБЛОН для ЗАПОЛНЕНИЯ'!BV44,\"\")","v":""},{"$f":"IF('ШАБЛОН для ЗАПОЛНЕНИЯ'!BW44<>\"\",'ШАБЛОН для ЗАПОЛНЕНИЯ'!BW44,\"\")","v":""},{"$f":"IF('ШАБЛОН для ЗАПОЛНЕНИЯ'!BX44<>\"\",'ШАБЛОН для ЗАПОЛНЕНИЯ'!BX44,\"\")","v":""},{"$f":"IF('ШАБЛОН для ЗАПОЛНЕНИЯ'!BY44<>\"\",'ШАБЛОН для ЗАПОЛНЕНИЯ'!BY44,\"\")","v":""},{"$f":"IF('ШАБЛОН для ЗАПОЛНЕНИЯ'!BZ44<>\"\",'ШАБЛОН для ЗАПОЛНЕНИЯ'!BZ44,\"\")","v":""},{"$f":"IF('ШАБЛОН для ЗАПОЛНЕНИЯ'!CA44<>\"\",'ШАБЛОН для ЗАПОЛНЕНИЯ'!CA44,\"\")","v":""},{"$f":"IF('ШАБЛОН для ЗАПОЛНЕНИЯ'!CB44<>\"\",'ШАБЛОН для ЗАПОЛНЕНИЯ'!CB44,\"\")","v":""},{"$f":"IF('ШАБЛОН для ЗАПОЛНЕНИЯ'!CC44<>\"\",'ШАБЛОН для ЗАПОЛНЕНИЯ'!CC44,\"\")","v":""},{"$f":"IF('ШАБЛОН для ЗАПОЛНЕНИЯ'!CD44<>\"\",'ШАБЛОН для ЗАПОЛНЕНИЯ'!CD44,\"\")","v":""},{"$f":"IF('ШАБЛОН для ЗАПОЛНЕНИЯ'!CE44<>\"\",'ШАБЛОН для ЗАПОЛНЕНИЯ'!CE44,\"\")","v":""},{"$f":"IF('ШАБЛОН для ЗАПОЛНЕНИЯ'!CF44<>\"\",'ШАБЛОН для ЗАПОЛНЕНИЯ'!CF44,\"\")","v":""},{"$f":"IF('ШАБЛОН для ЗАПОЛНЕНИЯ'!CG44<>\"\",'ШАБЛОН для ЗАПОЛНЕНИЯ'!CG44,\"\")","v":""},{"$f":"IF('ШАБЛОН для ЗАПОЛНЕНИЯ'!CH44<>\"\",'ШАБЛОН для ЗАПОЛНЕНИЯ'!CH44,\"\")","v":""},{"$f":"IF('ШАБЛОН для ЗАПОЛНЕНИЯ'!CI44<>\"\",'ШАБЛОН для ЗАПОЛНЕНИЯ'!CI44,\"\")","v":""},{"$f":"IF('ШАБЛОН для ЗАПОЛНЕНИЯ'!CJ44<>\"\",'ШАБЛОН для ЗАПОЛНЕНИЯ'!CJ44,\"\")","v":""},{"$f":"IF('ШАБЛОН для ЗАПОЛНЕНИЯ'!CK44<>\"\",'ШАБЛОН для ЗАПОЛНЕНИЯ'!CK44,\"\")","v":""},{"$f":"IF('ШАБЛОН для ЗАПОЛНЕНИЯ'!CL44<>\"\",'ШАБЛОН для ЗАПОЛНЕНИЯ'!CL44,\"\")","v":""},{"$f":"IF('ШАБЛОН для ЗАПОЛНЕНИЯ'!CM44<>\"\",'ШАБЛОН для ЗАПОЛНЕНИЯ'!CM44,\"\")","v":""},{"$f":"IF('ШАБЛОН для ЗАПОЛНЕНИЯ'!CN44<>\"\",'ШАБЛОН для ЗАПОЛНЕНИЯ'!CN44,\"\")","v":""},{"$f":"IF('ШАБЛОН для ЗАПОЛНЕНИЯ'!CO44<>\"\",'ШАБЛОН для ЗАПОЛНЕНИЯ'!CO44,\"\")","v":""},{"$f":"IF('ШАБЛОН для ЗАПОЛНЕНИЯ'!CP44<>\"\",'ШАБЛОН для ЗАПОЛНЕНИЯ'!CP44,\"\")","v":""},{"$f":"IF('ШАБЛОН для ЗАПОЛНЕНИЯ'!CQ44<>\"\",'ШАБЛОН для ЗАПОЛНЕНИЯ'!CQ44,\"\")","v":""},{"$f":"IF('ШАБЛОН для ЗАПОЛНЕНИЯ'!CR44<>\"\",'ШАБЛОН для ЗАПОЛНЕНИЯ'!CR44,\"\")","v":""},{"$f":"IF('ШАБЛОН для ЗАПОЛНЕНИЯ'!CS44<>\"\",'ШАБЛОН для ЗАПОЛНЕНИЯ'!CS44,\"\")","v":""},{"$f":"IF('ШАБЛОН для ЗАПОЛНЕНИЯ'!CT44<>\"\",'ШАБЛОН для ЗАПОЛНЕНИЯ'!CT44,\"\")","v":""}]
["СБ",1,{"$f":"IF('ШАБЛОН для ЗАПОЛНЕНИЯ'!#REF!<>\"\",'ШАБЛОН для ЗАПОЛНЕНИЯ'!#REF!,\"\")","v":{"$error":"#REF!"}},{"$f":"IF('ШАБЛОН для ЗАПОЛНЕНИЯ'!D45<>\"\",'ШАБЛОН для ЗАПОЛНЕНИЯ'!D45,\"\")","v":""},{"$f":"IF('ШАБЛОН для ЗАПОЛНЕНИЯ'!C45<>\"\",'ШАБЛОН для ЗАПОЛНЕНИЯ'!C45,\"\")","v":""},{"$f":"IF('ШАБЛОН для ЗАПОЛНЕНИЯ'!F45<>\"\",'ШАБЛОН для ЗАПОЛНЕНИЯ'!F45,\"\")","v":""},{"$f":"IF('ШАБЛОН для ЗАПОЛНЕНИЯ'!G45<>\"\",'ШАБЛОН для ЗАПОЛНЕНИЯ'!G45,\"\")","v":"Родной язык"},{"$f":"IF('ШАБЛОН для ЗАПОЛНЕНИЯ'!H45<>\"\",'ШАБЛОН для ЗАПОЛНЕНИЯ'!H45,\"\")","v":"---"},{"$f":"IF('ШАБЛОН для ЗАПОЛНЕНИЯ'!I45<>\"\",'ШАБЛОН для ЗАПОЛНЕНИЯ'!I45,\"\")","v":""},{"$f":"IF('ШАБЛОН для ЗАПОЛНЕНИЯ'!J45<>\"\",'ШАБЛОН для ЗАПОЛНЕНИЯ'!J45,\"\")","v":""},{"$f":"IF('ШАБЛОН для ЗАПОЛНЕНИЯ'!K45<>\"\",'ШАБЛОН для ЗАПОЛНЕНИЯ'!K45,\"\")","v":"Рус.язык"},{"$f":"IF('ШАБЛОН для ЗАПОЛНЕНИЯ'!L45<>\"\",'ШАБЛОН для ЗАПОЛНЕНИЯ'!L45,\"\")","v":""},{"$f":"IF('ШАБЛОН для ЗАПОЛНЕНИЯ'!M45<>\"\",'ШАБЛОН для ЗАПОЛНЕНИЯ'!M45,\"\")","v":""},{"$f":"IF('ШАБЛОН для ЗАПОЛНЕНИЯ'!N45<>\"\",'ШАБЛОН для ЗАПОЛНЕНИЯ'!N45,\"\")","v":""},{"$f":"IF('ШАБЛОН для ЗАПОЛНЕНИЯ'!O45<>\"\",'ШАБЛОН для ЗАПОЛНЕНИЯ'!O45,\"\")","v":"Родной язык"},{"$f":"IF('ШАБЛОН для ЗАПОЛНЕНИЯ'!P45<>\"\",'ШАБЛОН для ЗАПОЛНЕНИЯ'!P45,\"\")","v":""},{"$f":"IF('ШАБЛОН для ЗАПОЛНЕНИЯ'!Q45<>\"\",'ШАБЛОН для ЗАПОЛНЕНИЯ'!Q45,\"\")","v":""},{"$f":"IF('ШАБЛОН для ЗАПОЛНЕНИЯ'!R45<>\"\",'ШАБЛОН для ЗАПОЛНЕНИЯ'!R45,\"\")","v":""},{"$f":"IF('ШАБЛОН для ЗАПОЛНЕНИЯ'!S45<>\"\",'ШАБЛОН для ЗАПОЛНЕНИЯ'!S45,\"\")","v":"История"},{"$f":"IF('ШАБЛОН для ЗАПОЛНЕНИЯ'!T45<>\"\",'ШАБЛОН для ЗАПОЛНЕНИЯ'!T45,\"\")","v":""},{"$f":"IF('ШАБЛОН для ЗАПОЛНЕНИЯ'!U45<>\"\",'ШАБЛОН для ЗАПОЛНЕНИЯ'!U45,\"\")","v":""},{"$f":"IF('ШАБЛОН для ЗАПОЛНЕНИЯ'!V45<>\"\",'ШАБЛОН для ЗАПОЛНЕНИЯ'!V45,\"\")","v":""},{"$f":"IF('ШАБЛОН для ЗАПОЛНЕНИЯ'!W45<>\"\",'ШАБЛОН для ЗАПОЛНЕНИЯ'!W45,\"\")","v":"Музыка"},{"$f":"IF('ШАБЛОН для ЗАПОЛНЕНИЯ'!X45<>\"\",'ШАБЛОН для ЗАПОЛНЕНИЯ'!X45,\"\")","v":""},{"$f":"IF('ШАБЛОН для ЗАПОЛНЕНИЯ'!Y45<>\"\",'ШАБЛОН для ЗАПОЛНЕНИЯ'!Y45,\"\")","v":""},{"$f":"IF('ШАБЛОН для ЗАПОЛНЕНИЯ'!Z45<>\"\",'ШАБЛОН для ЗАПОЛНЕНИЯ'!Z45,\"\")","v":""},{"$f":"IF('ШАБЛОН для ЗАПОЛНЕНИЯ'!AA45<>\"\",'ШАБЛОН для ЗАПОЛНЕНИЯ'!AA45,\"\")","v":"Биология"},{"$f":"IF('ШАБЛОН для ЗАПОЛНЕНИЯ'!AB45<>\"\",'ШАБЛОН для ЗАПОЛНЕНИЯ'!AB45,\"\")","v":""},{"$f":"IF('ШАБЛОН для ЗАПОЛНЕНИЯ'!AC45<>\"\",'ШАБЛОН для ЗАПОЛНЕНИЯ'!AC45,\"\")","v":""},{"$f":"IF('ШАБЛОН для ЗАПОЛНЕНИЯ'!AD45<>\"\",'ШАБЛОН для ЗАПОЛНЕНИЯ'!AD45,\"\")","v":""},{"$f":"IF('ШАБЛОН для ЗАПОЛНЕНИЯ'!AE45<>\"\",'ШАБЛОН для ЗАПОЛНЕНИЯ'!AE45,\"\")","v":"Родной язык"},{"$f":"IF('ШАБЛОН для ЗАПОЛНЕНИЯ'!AF45<>\"\",'ШАБЛОН для ЗАПОЛНЕНИЯ'!AF45,\"\")","v":""},{"$f":"IF('ШАБЛОН для ЗАПОЛНЕНИЯ'!AG45<>\"\",'ШАБЛОН для ЗАПОЛНЕНИЯ'!AG45,\"\")","v":""},{"$f":"IF('ШАБЛОН для ЗАПОЛНЕНИЯ'!AH45<>\"\",'ШАБЛОН для ЗАПОЛНЕНИЯ'!AH45,\"\")","v":""},{"$f":"IF('ШАБЛОН для ЗАПОЛНЕНИЯ'!AI45<>\"\",'ШАБЛОН для ЗАПОЛНЕНИЯ'!AI45,\"\")","v":"Литература"},{"$f":"IF('ШАБЛОН для ЗАПОЛНЕНИЯ'!AJ45<>\"\",'ШАБЛОН для ЗАПОЛНЕНИЯ'!AJ45,\"\")","v":""},{"$f":"IF('ШАБЛОН для ЗАПОЛНЕНИЯ'!AK45<>\"\",'ШАБЛОН для ЗАПОЛНЕНИЯ'!AK45,\"\")","v":""},{"$f":"IF('ШАБЛОН для ЗАПОЛНЕНИЯ'!AL45<>\"\",'ШАБЛОН для ЗАПОЛНЕНИЯ'!AL45,\"\")","v":""},{"$f":"IF('ШАБЛОН для ЗАПОЛНЕНИЯ'!AM45<>\"\",'ШАБЛОН для ЗАПОЛНЕНИЯ'!AM45,\"\")","v":""},{"$f":"IF('ШАБЛОН для ЗАПОЛНЕНИЯ'!AN45<>\"\",'ШАБЛОН для ЗАПОЛНЕНИЯ'!AN45,\"\")","v":"---"},{"$f":"IF('ШАБЛОН для ЗАПОЛНЕНИЯ'!AO45<>\"\",'ШАБЛОН для ЗАПОЛНЕНИЯ'!AO45,\"\")","v":""},{"$f":"IF('ШАБЛОН для ЗАПОЛНЕНИЯ'!AP45<>\"\",'ШАБЛОН для ЗАПОЛНЕНИЯ'!AP45,\"\")","v":""},{"$f":"IF('ШАБЛОН для ЗАПОЛНЕНИЯ'!AQ45<>\"\",'ШАБЛОН для ЗАПОЛНЕНИЯ'!AQ45,\"\")","v":""},{"$f":"IF('ШАБЛОН для ЗАПОЛНЕНИЯ'!AR45<>\"\",'ШАБЛОН для ЗАПОЛНЕНИЯ'!AR45,\"\")","v":"---"},{"$f":"IF('ШАБЛОН для ЗАПОЛНЕНИЯ'!AS45<>\"\",'ШАБЛОН для ЗАПОЛНЕНИЯ'!AS45,\"\")","v":""},{"$f":"IF('ШАБЛОН для ЗАПОЛНЕНИЯ'!AT45<>\"\",'ШАБЛОН для ЗАПОЛНЕНИЯ'!AT45,\"\")","v":""},{"$f":"IF('ШАБЛОН для ЗАПОЛНЕНИЯ'!AU45<>\"\",'ШАБЛОН для ЗАПОЛНЕНИЯ'!AU45,\"\")","v":""},{"$f":"IF('ШАБЛОН для ЗАПОЛНЕНИЯ'!AV45<>\"\",'ШАБЛОН для ЗАПОЛНЕНИЯ'!AV45,\"\")","v":"---"},{"$f":"IF('ШАБЛОН для ЗАПОЛНЕНИЯ'!AW45<>\"\",'ШАБЛОН для ЗАПОЛНЕНИЯ'!AW45,\"\")","v":""},{"$f":"IF('ШАБЛОН для ЗАПОЛНЕНИЯ'!AX45<>\"\",'ШАБЛОН для ЗАПОЛНЕНИЯ'!AX45,\"\")","v":""},{"$f":"IF('ШАБЛОН для ЗАПОЛНЕНИЯ'!AY45<>\"\",'ШАБЛОН для ЗАПОЛНЕНИЯ'!AY45,\"\")","v":""},{"$f":"IF('ШАБЛОН для ЗАПОЛНЕНИЯ'!AZ45<>\"\",'ШАБЛОН для ЗАПОЛНЕНИЯ'!AZ45,\"\")","v":"---"},{"$f":"IF('ШАБЛОН для ЗАПОЛНЕНИЯ'!BA45<>\"\",'ШАБЛОН для ЗАПОЛНЕНИЯ'!BA45,\"\")","v":""},{"$f":"IF('ШАБЛОН для ЗАПОЛНЕНИЯ'!BB45<>\"\",'ШАБЛОН для ЗАПОЛНЕНИЯ'!BB45,\"\")","v":""},{"$f":"IF('ШАБЛОН для ЗАПОЛНЕНИЯ'!BC45<>\"\",'ШАБЛОН для ЗАПОЛНЕНИЯ'!BC45,\"\")","v":""},{"$f":"IF('ШАБЛОН для ЗАПОЛНЕНИЯ'!BD45<>\"\",'ШАБЛОН для ЗАПОЛНЕНИЯ'!BD45,\"\")","v":"---"},{"$f":"IF('ШАБЛОН для ЗАПОЛНЕНИЯ'!BE45<>\"\",'ШАБЛОН для ЗАПОЛНЕНИЯ'!BE45,\"\")","v":""},{"$f":"IF('ШАБЛОН для ЗАПОЛНЕНИЯ'!BF45<>\"\",'ШАБЛОН для ЗАПОЛНЕНИЯ'!BF45,\"\")","v":""},{"$f":"IF('ШАБЛОН для ЗАПОЛНЕНИЯ'!BG45<>\"\",'ШАБЛОН для ЗАПОЛНЕНИЯ'!BG45,\"\")","v":""},{"$f":"IF('ШАБЛОН для ЗАПОЛНЕНИЯ'!BH45<>\"\",'ШАБЛОН для ЗАПОЛНЕНИЯ'!BH45,\"\")","v":"---"},{"$f":"IF('ШАБЛОН для ЗАПОЛНЕНИЯ'!BI45<>\"\",'ШАБЛОН для ЗАПОЛНЕНИЯ'!BI45,\"\")","v":""},{"$f":"IF('ШАБЛОН для ЗАПОЛНЕНИЯ'!BJ45<>\"\",'ШАБЛОН для ЗАПОЛНЕНИЯ'!BJ45,\"\")","v":""},{"$f":"IF('ШАБЛОН для ЗАПОЛНЕНИЯ'!BK45<>\"\",'ШАБЛОН для ЗАПОЛНЕНИЯ'!BK45,\"\")","v":""},{"$f":"IF('ШАБЛОН для ЗАПОЛНЕНИЯ'!BL45<>\"\",'ШАБЛОН для ЗАПОЛНЕНИЯ'!BL45,\"\")","v":"---"},{"$f":"IF('ШАБЛОН для ЗАПОЛНЕНИЯ'!BM45<>\"\",'ШАБЛОН для ЗАПОЛНЕНИЯ'!BM45,\"\")","v":""},{"$f":"IF('ШАБЛОН для ЗАПОЛНЕНИЯ'!BN45<>\"\",'ШАБЛОН для ЗАПОЛНЕНИЯ'!BN45,\"\")","v":""},{"$f":"IF('ШАБЛОН для ЗАПОЛНЕНИЯ'!BO45<>\"\",'ШАБЛОН для ЗАПОЛНЕНИЯ'!BO45,\"\")","v":""},{"$f":"IF('ШАБЛОН для ЗАПОЛНЕНИЯ'!BP45<>\"\",'ШАБЛОН для ЗАПОЛНЕНИЯ'!BP45,\"\")","v":"---"},{"$f":"IF('ШАБЛОН для ЗАПОЛНЕНИЯ'!BQ45<>\"\",'ШАБЛОН для ЗАПОЛНЕНИЯ'!BQ45,\"\")","v":""},{"$f":"IF('ШАБЛОН для ЗАПОЛНЕНИЯ'!BR45<>\"\",'ШАБЛОН для ЗАПОЛНЕНИЯ'!BR45,\"\")","v":""},{"$f":"IF('ШАБЛОН для ЗАПОЛНЕНИЯ'!BS45<>\"\",'ШАБЛОН для ЗАПОЛНЕНИЯ'!BS45,\"\")","v":""},{"$f":"IF('ШАБЛОН для ЗАПОЛНЕНИЯ'!BT45<>\"\",'ШАБЛОН для ЗАПОЛНЕНИЯ'!BT45,\"\")","v":"---"},{"$f":"IF('ШАБЛОН для ЗАПОЛНЕНИЯ'!BU45<>\"\",'ШАБЛОН для ЗАПОЛНЕНИЯ'!BU45,\"\")","v":""},{"$f":"IF('ШАБЛОН для ЗАПОЛНЕНИЯ'!BV45<>\"\",'ШАБЛОН для ЗАПОЛНЕНИЯ'!BV45,\"\")","v":""},{"$f":"IF('ШАБЛОН для ЗАПОЛНЕНИЯ'!BW45<>\"\",'ШАБЛОН для ЗАПОЛНЕНИЯ'!BW45,\"\")","v":""},{"$f":"IF('ШАБЛОН для ЗАПОЛНЕНИЯ'!BX45<>\"\",'ШАБЛОН для ЗАПОЛНЕНИЯ'!BX45,\"\")","v":"---"},{"$f":"IF('ШАБЛОН для ЗАПОЛНЕНИЯ'!BY45<>\"\",'ШАБЛОН для ЗАПОЛНЕНИЯ'!BY45,\"\")","v":""},{"$f":"IF('ШАБЛОН для ЗАПОЛНЕНИЯ'!BZ45<>\"\",'ШАБЛОН для ЗАПОЛНЕНИЯ'!BZ45,\"\")","v":""},{"$f":"IF('ШАБЛОН для ЗАПОЛНЕНИЯ'!CA45<>\"\",'ШАБЛОН для ЗАПОЛНЕНИЯ'!CA45,\"\")","v":""},{"$f":"IF('ШАБЛОН для ЗАПОЛНЕНИЯ'!CB45<>\"\",'ШАБЛОН для ЗАПОЛНЕНИЯ'!CB45,\"\")","v":"---"},{"$f":"IF('ШАБЛОН для ЗАПОЛНЕНИЯ'!CC45<>\"\",'ШАБЛОН для ЗАПОЛНЕНИЯ'!CC45,\"\")","v":""},{"$f":"IF('ШАБЛОН для ЗАПОЛНЕНИЯ'!CD45<>\"\",'ШАБЛОН для ЗАПОЛНЕНИЯ'!CD45,\"\")","v":""},{"$f":"IF('ШАБЛОН для ЗАПОЛНЕНИЯ'!CE45<>\"\",'ШАБЛОН для ЗАПОЛНЕНИЯ'!CE45,\"\")","v":""},{"$f":"IF('ШАБЛОН для ЗАПОЛНЕНИЯ'!CF45<>\"\",'ШАБЛОН для ЗАПОЛНЕНИЯ'!CF45,\"\")","v":"---"},{"$f":"IF('ШАБЛОН для ЗАПОЛНЕНИЯ'!CG45<>\"\",'ШАБЛОН для ЗАПОЛНЕНИЯ'!CG45,\"\")","v":""},{"$f":"IF('ШАБЛОН для ЗАПОЛНЕНИЯ'!CH45<>\"\",'ШАБЛОН для ЗАПОЛНЕНИЯ'!CH45,\"\")","v":""},{"$f":"IF('ШАБЛОН для ЗАПОЛНЕНИЯ'!CI45<>\"\",'ШАБЛОН для ЗАПОЛНЕНИЯ'!CI45,\"\")","v":""},{"$f":"IF('ШАБЛОН для ЗАПОЛНЕНИЯ'!CJ45<>\"\",'ШАБЛОН для ЗАПОЛНЕНИЯ'!CJ45,\"\")","v":"---"},{"$f":"IF('ШАБЛОН для ЗАПОЛНЕНИЯ'!CK45<>\"\",'ШАБЛОН для ЗАПОЛНЕНИЯ'!CK45,\"\")","v":""},{"$f":"IF('ШАБЛОН для ЗАПОЛНЕНИЯ'!CL45<>\"\",'ШАБЛОН для ЗАПОЛНЕНИЯ'!CL45,\"\")","v":""},{"$f":"IF('ШАБЛОН для ЗАПОЛНЕНИЯ'!CM45<>\"\",'ШАБЛОН для ЗАПОЛНЕНИЯ'!CM45,\"\")","v":""},{"$f":"IF('ШАБЛОН для ЗАПОЛНЕНИЯ'!CN45<>\"\",'ШАБЛОН для ЗАПОЛНЕНИЯ'!CN45,\"\")","v":"---"},{"$f":"IF('ШАБЛОН для ЗАПОЛНЕНИЯ'!CO45<>\"\",'ШАБЛОН для ЗАПОЛНЕНИЯ'!CO45,\"\")","v":""},{"$f":"IF('ШАБЛОН для ЗАПОЛНЕНИЯ'!CP45<>\"\",'ШАБЛОН для ЗАПОЛНЕНИЯ'!CP45,\"\")","v":""},{"$f":"IF('ШАБЛОН для ЗАПОЛНЕНИЯ'!CQ45<>\"\",'ШАБЛОН для ЗАПОЛНЕНИЯ'!CQ45,\"\")","v":""},{"$f":"IF('ШАБЛОН для ЗАПОЛНЕНИЯ'!CR45<>\"\",'ШАБЛОН для ЗАПОЛНЕНИЯ'!CR45,\"\")","v":"---"},{"$f":"IF('ШАБЛОН для ЗАПОЛНЕНИЯ'!CS45<>\"\",'ШАБЛОН для ЗАПОЛНЕНИЯ'!CS45,\"\")","v":""},{"$f":"IF('ШАБЛОН для ЗАПОЛНЕНИЯ'!CT45<>\"\",'ШАБЛОН для ЗАПОЛНЕНИЯ'!CT45,\"\")","v":""}]
[null,2,{"$f":"IF('ШАБЛОН для ЗАПОЛНЕНИЯ'!C46<>\"\",'ШАБЛОН для ЗАПОЛНЕНИЯ'!C46,\"\")","v":""},{"$f":"IF('ШАБЛОН для ЗАПОЛНЕНИЯ'!D46<>\"\",'ШАБЛОН для ЗАПОЛНЕНИЯ'!D46,\"\")","v":""},{"$f":"IF('ШАБЛОН для ЗАПОЛНЕНИЯ'!E46<>\"\",'ШАБЛОН для ЗАПОЛНЕНИЯ'!E46,\"\")","v":""},{"$f":"IF('ШАБЛОН для ЗАПОЛНЕНИЯ'!F46<>\"\",'ШАБЛОН для ЗАПОЛНЕНИЯ'!F46,\"\")","v":""},{"$f":"IF('ШАБЛОН для ЗАПОЛНЕНИЯ'!G46<>\"\",'ШАБЛОН для ЗАПОЛНЕНИЯ'!G46,\"\")","v":"Чт.на родном языке"},{"$f":"IF('ШАБЛОН для ЗАПОЛНЕНИЯ'!H46<>\"\",'ШАБЛОН для ЗАПОЛНЕНИЯ'!H46,\"\")","v":""},{"$f":"IF('ШАБЛОН для ЗАПОЛНЕНИЯ'!I46<>\"\",'ШАБЛОН для ЗАПОЛНЕНИЯ'!I46,\"\")","v":""},{"$f":"IF('ШАБЛОН для ЗАПОЛНЕНИЯ'!J46<>\"\",'ШАБЛОН для ЗАПОЛНЕНИЯ'!J46,\"\")","v":""},{"$f":"IF('ШАБЛОН для ЗАПОЛНЕНИЯ'!K46<>\"\",'ШАБЛОН для ЗАПОЛНЕНИЯ'!K46,\"\")","v":"Рус.язык"},{"$f":"IF('ШАБЛОН для ЗАПОЛНЕНИЯ'!L46<>\"\",'ШАБЛОН для ЗАПОЛНЕНИЯ'!L46,\"\")","v":""},{"$f":"IF('ШАБЛОН для ЗАПОЛНЕНИЯ'!M46<>\"\",'ШАБЛОН для ЗАПОЛНЕНИЯ'!M46,\"\")","v":""},{"$f":"IF('ШАБЛОН для ЗАПОЛНЕНИЯ'!N46<>\"\",'ШАБЛОН для ЗАПОЛНЕНИЯ'!N46,\"\")","v":""},{"$f":"IF('ШАБЛОН для ЗАПОЛНЕНИЯ'!O46<>\"\",'ШАБЛОН для ЗАПОЛНЕНИЯ'!O46,\"\")","v":"Чт.на родном языке"},{"$f":"IF('ШАБЛОН для ЗАПОЛНЕНИЯ'!P46<>\"\",'ШАБЛОН для ЗАПОЛНЕНИЯ'!P46,\"\")","v":""},{"$f":"IF('ШАБЛОН для ЗАПОЛНЕНИЯ'!Q46<>\"\",'ШАБЛОН для ЗАПОЛНЕНИЯ'!Q46,\"\")","v":""},{"$f":"IF('ШАБЛОН для ЗАПОЛНЕНИЯ'!R46<>\"\",'ШАБЛОН для ЗАПОЛНЕНИЯ'!R46,\"\")","v":""},{"$f":"IF('ШАБЛОН для ЗАПОЛНЕНИЯ'!S46<>\"\",'ШАБЛОН для ЗАПОЛНЕНИЯ'!S46,\"\")","v":"Рус.язык"},{"$f":"IF('ШАБЛОН для ЗАПОЛНЕНИЯ'!T46<>\"\",'ШАБЛОН для ЗАПОЛНЕНИЯ'!T46,\"\")","v":""},{"$f":"IF('ШАБЛОН для ЗАПОЛНЕНИЯ'!U46<>\"\",'ШАБЛОН для ЗАПОЛНЕНИЯ'!U46,\"\")","v":""},{"$f":"IF('ШАБЛОН для ЗАПОЛНЕНИЯ'!V46<>\"\",'ШАБЛОН для ЗАПОЛНЕНИЯ'!V46,\"\")","v":""},{"$f":"IF('ШАБЛОН для ЗАПОЛНЕНИЯ'!W46<>\"\",'ШАБЛОН для ЗАПОЛНЕНИЯ'!W46,\"\")","v":"Родной язык"},{"$f":"IF('ШАБЛОН для ЗАПОЛНЕНИЯ'!X46<>\"\",'ШАБЛОН для ЗАПОЛНЕНИЯ'!X46,\"\")","v":""},{"$f":"IF('ШАБЛОН для ЗАПОЛНЕНИЯ'!Y46<>\"\",'ШАБЛОН для ЗАПОЛНЕНИЯ'!Y46,\"\")","v":""},{"$f":"IF('ШАБЛОН для ЗАПОЛНЕНИЯ'!Z46<>\"\",'ШАБЛОН для ЗАПОЛНЕНИЯ'!Z46,\"\")","v":""},{"$f":"IF('ШАБЛОН для ЗАПОЛНЕНИЯ'!AA46<>\"\",'ШАБЛОН для ЗАПОЛНЕНИЯ'!AA46,\"\")","v":"Музыка"},{"$f":"IF('ШАБЛОН для ЗАПОЛНЕНИЯ'!AB46<>\"\",'ШАБЛОН для ЗАПОЛНЕНИЯ'!AB46,\"\")","v":""},{"$f":"IF('ШАБЛОН для ЗАПОЛНЕНИЯ'!AC46<>\"\",'ШАБЛОН для ЗАПОЛНЕНИЯ'!AC46,\"\")","v":""},{"$f":"IF('ШАБЛОН для ЗАПОЛНЕНИЯ'!AD46<>\"\",'ШАБЛОН для ЗАПОЛНЕНИЯ'!AD46,\"\")","v":""},{"$f":"IF('ШАБЛОН для ЗАПОЛНЕНИЯ'!AE46<>\"\",'ШАБЛОН для ЗАПОЛНЕНИЯ'!AE46,\"\")","v":"Биология"},{"$f":"IF('ШАБЛОН для ЗАПОЛНЕНИЯ'!AF46<>\"\",'ШАБЛОН для ЗАПОЛНЕНИЯ'!AF46,\"\")","v":""},{"$f":"IF('ШАБЛОН для ЗАПОЛНЕНИЯ'!AG46<>\"\",'ШАБЛОН для ЗАПОЛНЕНИЯ'!AG46,\"\")","v":""},{"$f":"IF('ШАБЛОН для ЗАПОЛНЕНИЯ'!AH46<>\"\",'ШАБЛОН для ЗАПОЛНЕНИЯ'!AH46,\"\")","v":""},{"$f":"IF('ШАБЛОН для ЗАПОЛНЕНИЯ'!AI46<>\"\",'ШАБЛОН для ЗАПОЛНЕНИЯ'!AI46,\"\")","v":"Алгебра"},{"$f":"IF('ШАБЛОН для ЗАПОЛНЕНИЯ'!AJ46<>\"\",'ШАБЛОН для ЗАПОЛНЕНИЯ'!AJ46,\"\")","v":""},{"$f":"IF('ШАБЛОН для ЗАПОЛНЕНИЯ'!AK46<>\"\",'ШАБЛОН для ЗАПОЛНЕНИЯ'!AK46,\"\")","v":""},{"$f":"IF('ШАБЛОН для ЗАПОЛНЕНИЯ'!AL46<>\"\",'ШАБЛОН для ЗАПОЛНЕНИЯ'!AL46,\"\")","v":""},{"$f":"IF('ШАБЛОН для ЗАПОЛНЕНИЯ'!AM46<>\"\",'ШАБЛОН для ЗАПОЛНЕНИЯ'!AM46,\"\")","v":""},{"$f":"IF('ШАБЛОН для ЗАПОЛНЕНИЯ'!AN46<>\"\",'ШАБЛОН для ЗАПОЛНЕНИЯ'!AN46,\"\")","v":""},{"$f":"IF('ШАБЛОН для ЗАПОЛНЕНИЯ'!AO46<>\"\",'ШАБЛОН для ЗАПОЛНЕНИЯ'!AO46,\"\")","v":""},{"$f":"IF('ШАБЛОН для ЗАПОЛНЕНИЯ'!AP46<>\"\",'ШАБЛОН для ЗАПОЛНЕНИЯ'!AP46,\"\")","v":""},{"$f":"IF('ШАБЛОН для ЗАПОЛНЕНИЯ'!AQ46<>\"\",'ШАБЛОН для ЗАПОЛНЕНИЯ'!AQ46,\"\")","v":""},{"$f":"IF('ШАБЛОН для ЗАПОЛНЕНИЯ'!AR46<>\"\",'ШАБЛОН для ЗАПОЛНЕНИЯ'!AR46,\"\")","v":""},{"$f":"IF('ШАБЛОН для ЗАПОЛНЕНИЯ'!AS46<>\"\",'ШАБЛОН для ЗАПОЛНЕНИЯ'!AS46,\"\")","v":""},{"$f":"IF('ШАБЛОН для ЗАПОЛНЕНИЯ'!AT46<>\"\",'ШАБЛОН для ЗАПОЛНЕНИЯ'!AT46,\"\")","v":""},{"$f":"IF('ШАБЛОН для ЗАПОЛНЕНИЯ'!AU46<>\"\",'ШАБЛОН для ЗАПОЛНЕНИЯ'!AU46,\"\")","v":""},{"$f":"IF('ШАБЛОН для ЗАПОЛНЕНИЯ'!AV46<>\"\",'ШАБЛОН для ЗАПОЛНЕНИЯ'!AV46,\"\")","v":""},{"$f":"IF('ШАБЛОН для ЗАПОЛНЕНИЯ'!AW46<>\"\",'ШАБЛОН для ЗАПОЛНЕНИЯ'!AW46,\"\")","v":""},{"$f":"IF('ШАБЛОН для ЗАПОЛНЕНИЯ'!AX46<>\"\",'ШАБЛОН для ЗАПОЛНЕНИЯ'!AX46,\"\")","v":""},{"$f":"IF('ШАБЛОН для ЗАПОЛНЕНИЯ'!AY46<>\"\",'ШАБЛОН для ЗАПОЛНЕНИЯ'!AY46,\"\")","v":""},{"$f":"IF('ШАБЛОН для ЗАПОЛНЕНИЯ'!AZ46<>\"\",'ШАБЛОН для ЗАПОЛНЕНИЯ'!AZ46,\"\")","v":""},{"$f":"IF('ШАБЛОН для ЗАПОЛНЕНИЯ'!BA46<>\"\",'ШАБЛОН для ЗАПОЛНЕНИЯ'!BA46,\"\")","v":""},{"$f":"IF('ШАБЛОН для ЗАПОЛНЕНИЯ'!BB46<>\"\",'ШАБЛОН для ЗАПОЛНЕНИЯ'!BB46,\"\")","v":""},{"$f":"IF('ШАБЛОН для ЗАПОЛНЕНИЯ'!BC46<>\"\",'ШАБЛОН для ЗАПОЛНЕНИЯ'!BC46,\"\")","v":""},{"$f":"IF('ШАБЛОН для ЗАПОЛНЕНИЯ'!BD46<>\"\",'ШАБЛОН для ЗАПОЛНЕНИЯ'!BD46,\"\")","v":""},{"$f":"IF('ШАБЛОН для ЗАПОЛНЕНИЯ'!BE46<>\"\",'ШАБЛОН для ЗАПОЛНЕНИЯ'!BE46,\"\")","v":""},{"$f":"IF('ШАБЛОН для ЗАПОЛНЕНИЯ'!BF46<>\"\",'ШАБЛОН для ЗАПОЛНЕНИЯ'!BF46,\"\")","v":""},{"$f":"IF('ШАБЛОН для ЗАПОЛНЕНИЯ'!BG46<>\"\",'ШАБЛОН для ЗАПОЛНЕНИЯ'!BG46,\"\")","v":""},{"$f":"IF('ШАБЛОН для ЗАПОЛНЕНИЯ'!BH46<>\"\",'ШАБЛОН для ЗАПОЛНЕНИЯ'!BH46,\"\")","v":""},{"$f":"IF('ШАБЛОН для ЗАПОЛНЕНИЯ'!BI46<>\"\",'ШАБЛОН для ЗАПОЛНЕНИЯ'!BI46,\"\")","v":""},{"$f":"IF('ШАБЛОН для ЗАПОЛНЕНИЯ'!BJ46<>\"\",'ШАБЛОН для ЗАПОЛНЕНИЯ'!BJ46,\"\")","v":""},{"$f":"IF('ШАБЛОН для ЗАПОЛНЕНИЯ'!BK46<>\"\",'ШАБЛОН для ЗАПОЛНЕНИЯ'!BK46,\"\")","v":""},{"$f":"IF('ШАБЛОН для ЗАПОЛНЕНИЯ'!BL46<>\"\",'ШАБЛОН для ЗАПОЛНЕНИЯ'!BL46,\"\")","v":""},{"$f":"IF('ШАБЛОН для ЗАПОЛНЕНИЯ'!BM46<>\"\",'ШАБЛОН для ЗАПОЛНЕНИЯ'!BM46,\"\")","v":""},{"$f":"IF('ШАБЛОН для ЗАПОЛНЕНИЯ'!BN46<>\"\",'ШАБЛОН для ЗАПОЛНЕНИЯ'!BN46,\"\")","v":""},{"$f":"IF('ШАБЛОН для ЗАПОЛНЕНИЯ'!BO46<>\"\",'ШАБЛОН для ЗАПОЛНЕНИЯ'!BO46,\"\")","v":""},{"$f":"IF('ШАБЛОН для ЗАПОЛНЕНИЯ'!BP46<>\"\",'ШАБЛОН для ЗАПОЛНЕНИЯ'!BP46,\"\")","v":""},{"$f":"IF('ШАБЛОН для ЗАПОЛНЕНИЯ'!BQ46<>\"\",'ШАБЛОН для ЗАПОЛНЕНИЯ'!BQ46,\"\")","v":""},{"$f":"IF('ШАБЛОН для ЗАПОЛНЕНИЯ'!BR46<>\"\",'ШАБЛОН для ЗАПОЛНЕНИЯ'!BR46,\"\")","v":""},{"$f":"IF('ШАБЛОН для ЗАПОЛНЕНИЯ'!BS46<>\"\",'ШАБЛОН для ЗАПОЛНЕНИЯ'!BS46,\"\")","v":""},{"$f":"IF('ШАБЛОН для ЗАПОЛНЕНИЯ'!BT46<>\"\",'ШАБЛОН для ЗАПОЛНЕНИЯ'!BT46,\"\")","v":""},{"$f":"IF('ШАБЛОН для ЗАПОЛНЕНИЯ'!BU46<>\"\",'ШАБЛОН для ЗАПОЛНЕНИЯ'!BU46,\"\")","v":""},{"$f":"IF('ШАБЛОН для ЗАПОЛНЕНИЯ'!BV46<>\"\",'ШАБЛОН для ЗАПОЛНЕНИЯ'!BV46,\"\")","v":""},{"$f":"IF('ШАБЛОН для ЗАПОЛНЕНИЯ'!BW46<>\"\",'ШАБЛОН для ЗАПОЛНЕНИЯ'!BW46,\"\")","v":""},{"$f":"IF('ШАБЛОН для ЗАПОЛНЕНИЯ'!BX46<>\"\",'ШАБЛОН для ЗАПОЛНЕНИЯ'!BX46,\"\")","v":""},{"$f":"IF('ШАБЛОН для ЗАПОЛНЕНИЯ'!BY46<>\"\",'ШАБЛОН для ЗАПОЛНЕНИЯ'!BY46,\"\")","v":""},{"$f":"IF('ШАБЛОН для ЗАПОЛНЕНИЯ'!BZ46<>\"\",'ШАБЛОН для ЗАПОЛНЕНИЯ'!BZ46,\"\")","v":""},{"$f":"IF('ШАБЛОН для ЗАПОЛНЕНИЯ'!CA46<>\"\",'ШАБЛОН для ЗАПОЛНЕНИЯ'!CA46,\"\")","v":""},{"$f":"IF('ШАБЛОН для ЗАПОЛНЕНИЯ'!CB46<>\"\",'ШАБЛОН для ЗАПОЛНЕНИЯ'!CB46,\"\")","v":""},{"$f":"IF('ШАБЛОН для ЗАПОЛНЕНИЯ'!CC46<>\"\",'ШАБЛОН для ЗАПОЛНЕНИЯ'!CC46,\"\")","v":""},{"$f":"IF('ШАБЛОН для ЗАПОЛНЕНИЯ'!CD46<>\"\",'ШАБЛОН для ЗАПОЛНЕНИЯ'!CD46,\"\")","v":""},{"$f":"IF('ШАБЛОН для ЗАПОЛНЕНИЯ'!CE46<>\"\",'ШАБЛОН для ЗАПОЛНЕНИЯ'!CE46,\"\")","v":""},{"$f":"IF('ШАБЛОН для ЗАПОЛНЕНИЯ'!CF46<>\"\",'ШАБЛОН для ЗАПОЛНЕНИЯ'!CF46,\"\")","v":""},{"$f":"IF('ШАБЛОН для ЗАПОЛНЕНИЯ'!CG46<>\"\",'ШАБЛОН для ЗАПОЛНЕНИЯ'!CG46,\"\")","v":""},{"$f":"IF('ШАБЛОН для ЗАПОЛНЕНИЯ'!CH46<>\"\",'ШАБЛОН для ЗАПОЛНЕНИЯ'!CH46,\"\")","v":""},{"$f":"IF('ШАБЛОН для ЗАПОЛНЕНИЯ'!CI46<>\"\",'ШАБЛОН для ЗАПОЛНЕНИЯ'!CI46,\"\")","v":""},{"$f":"IF('ШАБЛОН для ЗАПОЛНЕНИЯ'!CJ46<>\"\",'ШАБЛОН для ЗАПОЛНЕНИЯ'!CJ46,\"\")","v":""},{"$f":"IF('ШАБЛОН для ЗАПОЛНЕНИЯ'!CK46<>\"\",'ШАБЛОН для ЗАПОЛНЕНИЯ'!CK46,\"\")","v":""},{"$f":"IF('ШАБЛОН для ЗАПОЛНЕНИЯ'!CL46<>\"\",'ШАБЛОН для ЗАПОЛНЕНИЯ'!CL46,\"\")","v":""},{"$f":"IF('ШАБЛОН для ЗАПОЛНЕНИЯ'!CM46<>\"\",'ШАБЛОН для ЗАПОЛНЕНИЯ'!CM46,\"\")","v":""},{"$f":"IF('ШАБЛОН для ЗАПОЛНЕНИЯ'!CN46<>\"\",'ШАБЛОН для ЗАПОЛНЕНИЯ'!CN46,\"\")","v":""},{"$f":"IF('ШАБЛОН для ЗАПОЛНЕНИЯ'!CO46<>\"\",'ШАБЛОН для ЗАПОЛНЕНИЯ'!CO46,\"\")","v":""},{"$f":"IF('ШАБЛОН для ЗАПОЛНЕНИЯ'!CP46<>\"\",'ШАБЛОН для ЗАПОЛНЕНИЯ'!CP46,\"\")","v":""},{"$f":"IF('ШАБЛОН для ЗАПОЛНЕНИЯ'!CQ46<>\"\",'ШАБЛОН для ЗАПОЛНЕНИЯ'!CQ46,\"\")","v":""},{"$f":"IF('ШАБЛОН для ЗАПОЛНЕНИЯ'!CR46<>\"\",'ШАБЛОН для ЗАПОЛНЕНИЯ'!CR46,\"\")","v":""},{"$f":"IF('ШАБЛОН для ЗАПОЛНЕНИЯ'!CS46<>\"\",'ШАБЛОН для ЗАПОЛНЕНИЯ'!CS46,\"\")","v":""},{"$f":"IF('ШАБЛОН для ЗАПОЛНЕНИЯ'!CT46<>\"\",'ШАБЛОН для ЗАПОЛНЕНИЯ'!CT46,\"\")","v":""}]
[null,3,{"$f":"IF('ШАБЛОН для ЗАПОЛНЕНИЯ'!C47<>\"\",'ШАБЛОН для ЗАПОЛНЕНИЯ'!C47,\"\")","v":""},{"$f":"IF('ШАБЛОН для ЗАПОЛНЕНИЯ'!D47<>\"\",'ШАБЛОН для ЗАПОЛНЕНИЯ'!D47,\"\")","v":""},{"$f":"IF('ШАБЛОН для ЗАПОЛНЕНИЯ'!E47<>\"\",'ШАБЛОН для ЗАПОЛНЕНИЯ'!E47,\"\")","v":""},{"$f":"IF('ШАБЛОН для ЗАПОЛНЕНИЯ'!F47<>\"\",'ШАБЛОН для ЗАПОЛНЕНИЯ'!F47,\"\")","v":""},{"$f":"IF('ШАБЛОН для ЗАПОЛНЕНИЯ'!G47<>\"\",'ШАБЛОН для ЗАПОЛНЕНИЯ'!G47,\"\")","v":"Музыка"},{"$f":"IF('ШАБЛОН для ЗАПОЛНЕНИЯ'!H47<>\"\",'ШАБЛОН для ЗАПОЛНЕНИЯ'!H47,\"\")","v":""},{"$f":"IF('ШАБЛОН для ЗАПОЛНЕНИЯ'!I47<>\"\",'ШАБЛОН для ЗАПОЛНЕНИЯ'!I47,\"\")","v":""},{"$f":"IF('ШАБЛОН для ЗАПОЛНЕНИЯ'!J47<>\"\",'ШАБЛОН для ЗАПОЛНЕНИЯ'!J47,\"\")","v":""},{"$f":"IF('ШАБЛОН для ЗАПОЛНЕНИЯ'!K47<>\"\",'ШАБЛОН для ЗАПОЛНЕНИЯ'!K47,\"\")","v":"Лит.чтение"},{"$f":"IF('ШАБЛОН для ЗАПОЛНЕНИЯ'!L47<>\"\",'ШАБЛОН для ЗАПОЛНЕНИЯ'!L47,\"\")","v":""},{"$f":"IF('ШАБЛОН для ЗАПОЛНЕНИЯ'!M47<>\"\",'ШАБЛОН для ЗАПОЛНЕНИЯ'!M47,\"\")","v":""},{"$f":"IF('ШАБЛОН для ЗАПОЛНЕНИЯ'!N47<>\"\",'ШАБЛОН для ЗАПОЛНЕНИЯ'!N47,\"\")","v":""},{"$f":"IF('ШАБЛОН для ЗАПОЛНЕНИЯ'!O47<>\"\",'ШАБЛОН для ЗАПОЛНЕНИЯ'!O47,\"\")","v":"Музыка"},{"$f":"IF('ШАБЛОН для ЗАПОЛНЕНИЯ'!P47<>\"\",'ШАБЛОН для ЗАПОЛНЕНИЯ'!P47,\"\")","v":""},{"$f":"IF('ШАБЛОН для ЗАПОЛНЕНИЯ'!Q47<>\"\",'ШАБЛОН для ЗАПОЛНЕНИЯ'!Q47,\"\")","v":""},{"$f":"IF('ШАБЛОН для ЗАПОЛНЕНИЯ'!R47<>\"\",'ШАБЛОН для ЗАПОЛНЕНИЯ'!R47,\"\")","v":""},{"$f":"IF('ШАБЛОН для ЗАПОЛНЕНИЯ'!S47<>\"\",'ШАБЛОН для ЗАПОЛНЕНИЯ'!S47,\"\")","v":"Физкультура"},{"$f":"IF('ШАБЛОН для ЗАПОЛНЕНИЯ'!T47<>\"\",'ШАБЛОН для ЗАПОЛНЕНИЯ'!T47,\"\")","v":""},{"$f":"IF('ШАБЛОН для ЗАПОЛНЕНИЯ'!U47<>\"\",'ШАБЛОН для ЗАПОЛНЕНИЯ'!U47,\"\")","v":""},{"$f":"IF('ШАБЛОН для ЗАПОЛНЕНИЯ'!V47<>\"\",'ШАБЛОН для ЗАПОЛНЕНИЯ'!V47,\"\")","v":""},{"$f":"IF('ШАБЛОН для ЗАПОЛНЕНИЯ'!W47<>\"\",'ШАБЛОН для ЗАПОЛНЕНИЯ'!W47,\"\")","v":"Рус.язык"},{"$f":"IF('ШАБЛОН для ЗАПОЛНЕНИЯ'!X47<>\"\",'ШАБЛОН для ЗАПОЛНЕНИЯ'!X47,\"\")","v":""},{"$f":"IF('ШАБЛОН для ЗАПОЛНЕНИЯ'!Y47<>\"\",'ШАБЛОН для ЗАПОЛНЕНИЯ'!Y47,\"\")","v":""},{"$f":"IF('ШАБЛОН для ЗАПОЛНЕНИЯ'!Z47<>\"\",'ШАБЛОН для ЗАПОЛНЕНИЯ'!Z47,\"\")","v":""},{"$f":"IF('ШАБЛОН для ЗАПОЛНЕНИЯ'!AA47<>\"\",'ШАБЛОН для ЗАПОЛНЕНИЯ'!AA47,\"\")","v":"Рус.язык"},{"$f":"IF('ШАБЛОН для ЗАПОЛНЕНИЯ'!AB47<>\"\",'ШАБЛОН для ЗАПОЛНЕНИЯ'!AB47,\"\")","v":""},{"$f":"IF('ШАБЛОН для ЗАПОЛНЕНИЯ'!AC47<>\"\",'ШАБЛОН для ЗАПОЛНЕНИЯ'!AC47,\"\")","v":""},{"$f":"IF('ШАБЛОН для ЗАПОЛНЕНИЯ'!AD47<>\"\",'ШАБЛОН для ЗАПОЛНЕНИЯ'!AD47,\"\")","v":""},{"$f":"IF('ШАБЛОН для ЗАПОЛНЕНИЯ'!AE47<>\"\",'ШАБЛОН для ЗАПОЛНЕНИЯ'!AE47,\"\")","v":"Химия"},{"$f":"IF('ШАБЛОН для ЗАПОЛНЕНИЯ'!AF47<>\"\",'ШАБЛОН для ЗАПОЛНЕНИЯ'!AF47,\"\")","v":""},{"$f":"IF('ШАБЛОН для ЗАПОЛНЕНИЯ'!AG47<>\"\",'ШАБЛОН для ЗАПОЛНЕНИЯ'!AG47,\"\")","v":""},{"$f":"IF('ШАБЛОН для ЗАПОЛНЕНИЯ'!AH47<>\"\",'ШАБЛОН для ЗАПОЛНЕНИЯ'!AH47,\"\")","v":""},{"$f":"IF('ШАБЛОН для ЗАПОЛНЕНИЯ'!AI47<>\"\",'ШАБЛОН для ЗАПОЛНЕНИЯ'!AI47,\"\")","v":"Физика"},{"$f":"IF('ШАБЛОН для ЗАПОЛНЕНИЯ'!AJ47<>\"\",'ШАБЛОН для ЗАПОЛНЕНИЯ'!AJ47,\"\")","v":""},{"$f":"IF('ШАБЛОН для ЗАПОЛНЕНИЯ'!AK47<>\"\",'ШАБЛОН для ЗАПОЛНЕНИЯ'!AK47,\"\")","v":""},{"$f":"IF('ШАБЛОН для ЗАПОЛНЕНИЯ'!AL47<>\"\",'ШАБЛОН для ЗАПОЛНЕНИЯ'!AL47,\"\")","v":""},{"$f":"IF('ШАБЛОН для ЗАПОЛНЕНИЯ'!AM47<>\"\",'ШАБЛОН для ЗАПОЛНЕНИЯ'!AM47,\"\")","v":""},{"$f":"IF('ШАБЛОН для ЗАПОЛНЕНИЯ'!AN47<>\"\",'ШАБЛОН для ЗАПОЛНЕНИЯ'!AN47,\"\")","v":""},{"$f":"IF('ШАБЛОН для ЗАПОЛНЕНИЯ'!AO47<>\"\",'ШАБЛОН для ЗАПОЛНЕНИЯ'!AO47,\"\")","v":""},{"$f":"IF('ШАБЛОН для ЗАПОЛНЕНИЯ'!AP47<>\"\",'ШАБЛОН для ЗАПОЛНЕНИЯ'!AP47,\"\")","v":""},{"$f":"IF('ШАБЛОН для ЗАПОЛНЕНИЯ'!AQ47<>\"\",'ШАБЛОН для ЗАПОЛНЕНИЯ'!AQ47,\"\")","v":""},{"$f":"IF('ШАБЛОН для ЗАПОЛНЕНИЯ'!AR47<>\"\",'ШАБЛОН для ЗАПОЛНЕНИЯ'!AR47,\"\")","v":""},{"$f":"IF('ШАБЛОН для ЗАПОЛНЕНИЯ'!AS47<>\"\",'ШАБЛОН для ЗАПОЛНЕНИЯ'!AS47,\"\")","v":""},{"$f":"IF('ШАБЛОН для ЗАПОЛНЕНИЯ'!AT47<>\"\",'ШАБЛОН для ЗАПОЛНЕНИЯ'!AT47,\"\")","v":""},{"$f":"IF('ШАБЛОН для ЗАПОЛНЕНИЯ'!AU47<>\"\",'ШАБЛОН для ЗАПОЛНЕНИЯ'!AU47,\"\")","v":""},{"$f":"IF('ШАБЛОН для ЗАПОЛНЕНИЯ'!AV47<>\"\",'ШАБЛОН для ЗАПОЛНЕНИЯ'!AV47,\"\")","v":""},{"$f":"IF('ШАБЛОН для ЗАПОЛНЕНИЯ'!AW47<>\"\",'ШАБЛОН для ЗАПОЛНЕНИЯ'!AW47,\"\")","v":""},{"$f":"IF('ШАБЛОН для ЗАПОЛНЕНИЯ'!AX47<>\"\",'ШАБЛОН для ЗАПОЛНЕНИЯ'!AX47,\"\")","v":""},{"$f":"IF('ШАБЛОН для ЗАПОЛНЕНИЯ'!AY47<>\"\",'ШАБЛОН для ЗАПОЛНЕНИЯ'!AY47,\"\")","v":""},{"$f":"IF('ШАБЛОН для ЗАПОЛНЕНИЯ'!AZ47<>\"\",'ШАБЛОН для ЗАПОЛНЕНИЯ'!AZ47,\"\")","v":""},{"$f":"IF('ШАБЛОН для ЗАПОЛНЕНИЯ'!BA47<>\"\",'ШАБЛОН для ЗАПОЛНЕНИЯ'!BA47,\"\")","v":""},{"$f":"IF('ШАБЛОН для ЗАПОЛНЕНИЯ'!BB47<>\"\",'ШАБЛОН для ЗАПОЛНЕНИЯ'!BB47,\"\")","v":""},{"$f":"IF('ШАБЛОН для ЗАПОЛНЕНИЯ'!BC47<>\"\",'ШАБЛОН для ЗАПОЛНЕНИЯ'!BC47,\"\")","v":""},{"$f":"IF('ШАБЛОН для ЗАПОЛНЕНИЯ'!BD47<>\"\",'ШАБЛОН для ЗАПОЛНЕНИЯ'!BD47,\"\")","v":""},{"$f":"IF('ШАБЛОН для ЗАПОЛНЕНИЯ'!BE47<>\"\",'ШАБЛОН для ЗАПОЛНЕНИЯ'!BE47,\"\")","v":""},{"$f":"IF('ШАБЛОН для ЗАПОЛНЕНИЯ'!BF47<>\"\",'ШАБЛОН для ЗАПОЛНЕНИЯ'!BF47,\"\")","v":""},{"$f":"IF('ШАБЛОН для ЗАПОЛНЕНИЯ'!BG47<>\"\",'ШАБЛОН для ЗАПОЛНЕНИЯ'!BG47,\"\")","v":""},{"$f":"IF('ШАБЛОН для ЗАПОЛНЕНИЯ'!BH47<>\"\",'ШАБЛОН для ЗАПОЛНЕНИЯ'!BH47,\"\")","v":""},{"$f":"IF('ШАБЛОН для ЗАПОЛНЕНИЯ'!BI47<>\"\",'ШАБЛОН для ЗАПОЛНЕНИЯ'!BI47,\"\")","v":""},{"$f":"IF('ШАБЛОН для ЗАПОЛНЕНИЯ'!BJ47<>\"\",'ШАБЛОН для ЗАПОЛНЕНИЯ'!BJ47,\"\")","v":""},{"$f":"IF('ШАБЛОН для ЗАПОЛНЕНИЯ'!BK47<>\"\",'ШАБЛОН для ЗАПОЛНЕНИЯ'!BK47,\"\")","v":""},{"$f":"IF('ШАБЛОН для ЗАПОЛНЕНИЯ'!BL47<>\"\",'ШАБЛОН для ЗАПОЛНЕНИЯ'!BL47,\"\")","v":""},{"$f":"IF('ШАБЛОН для ЗАПОЛНЕНИЯ'!BM47<>\"\",'ШАБЛОН для ЗАПОЛНЕНИЯ'!BM47,\"\")","v":""},{"$f":"IF('ШАБЛОН для ЗАПОЛНЕНИЯ'!BN47<>\"\",'ШАБЛОН для ЗАПОЛНЕНИЯ'!BN47,\"\")","v":""},{"$f":"IF('ШАБЛОН для ЗАПОЛНЕНИЯ'!BO47<>\"\",'ШАБЛОН для ЗАПОЛНЕНИЯ'!BO47,\"\")","v":""},{"$f":"IF('ШАБЛОН для ЗАПОЛНЕНИЯ'!BP47<>\"\",'ШАБЛОН для ЗАПОЛНЕНИЯ'!BP47,\"\")","v":""},{"$f":"IF('ШАБЛОН для ЗАПОЛНЕНИЯ'!BQ47<>\"\",'ШАБЛОН для ЗАПОЛНЕНИЯ'!BQ47,\"\")","v":""},{"$f":"IF('ШАБЛОН для ЗАПОЛНЕНИЯ'!BR47<>\"\",'ШАБЛОН для ЗАПОЛНЕНИЯ'!BR47,\"\")","v":""},{"$f":"IF('ШАБЛОН для ЗАПОЛНЕНИЯ'!BS47<>\"\",'ШАБЛОН для ЗАПОЛНЕНИЯ'!BS47,\"\")","v":""},{"$f":"IF('ШАБЛОН для ЗАПОЛНЕНИЯ'!BT47<>\"\",'ШАБЛОН для ЗАПОЛНЕНИЯ'!BT47,\"\")","v":""},{"$f":"IF('ШАБЛОН для ЗАПОЛНЕНИЯ'!BU47<>\"\",'ШАБЛОН для ЗАПОЛНЕНИЯ'!BU47,\"\")","v":""},{"$f":"IF('ШАБЛОН для ЗАПОЛНЕНИЯ'!BV47<>\"\",'ШАБЛОН для ЗАПОЛНЕНИЯ'!BV47,\"\")","v":""},{"$f":"IF('ШАБЛОН для ЗАПОЛНЕНИЯ'!BW47<>\"\",'ШАБЛОН для ЗАПОЛНЕНИЯ'!BW47,\"\")","v":""},{"$f":"IF('ШАБЛОН для ЗАПОЛНЕНИЯ'!BX47<>\"\",'ШАБЛОН для ЗАПОЛНЕНИЯ'!BX47,\"\")","v":""},{"$f":"IF('ШАБЛОН для ЗАПОЛНЕНИЯ'!BY47<>\"\",'ШАБЛОН для ЗАПОЛНЕНИЯ'!BY47,\"\")","v":""},{"$f":"IF('ШАБЛОН для ЗАПОЛНЕНИЯ'!BZ47<>\"\",'ШАБЛОН для ЗАПОЛНЕНИЯ'!BZ47,\"\")","v":""},{"$f":"IF('ШАБЛОН для ЗАПОЛНЕНИЯ'!CA47<>\"\",'ШАБЛОН для ЗАПОЛНЕНИЯ'!CA47,\"\")","v":""},{"$f":"IF('ШАБЛОН для ЗАПОЛНЕНИЯ'!CB47<>\"\",'ШАБЛОН для ЗАПОЛНЕНИЯ'!CB47,\"\")","v":""},{"$f":"IF('ШАБЛОН для ЗАПОЛНЕНИЯ'!CC47<>\"\",'ШАБЛОН для ЗАПОЛНЕНИЯ'!CC47,\"\")","v":""},{"$f":"IF('ШАБЛОН для ЗАПОЛНЕНИЯ'!CD47<>\"\",'ШАБЛОН для ЗАПОЛНЕНИЯ'!CD47,\"\")","v":""},{"$f":"IF('ШАБЛОН для ЗАПОЛНЕНИЯ'!CE47<>\"\",'ШАБЛОН для ЗАПОЛНЕНИЯ'!CE47,\"\")","v":""},{"$f":"IF('ШАБЛОН для ЗАПОЛНЕНИЯ'!CF47<>\"\",'ШАБЛОН для ЗАПОЛНЕНИЯ'!CF47,\"\")","v":""},{"$f":"IF('ШАБЛОН для ЗАПОЛНЕНИЯ'!CG47<>\"\",'ШАБЛОН для ЗАПОЛНЕНИЯ'!CG47,\"\")","v":""},{"$f":"IF('ШАБЛОН для ЗАПОЛНЕНИЯ'!CH47<>\"\",'ШАБЛОН для ЗАПОЛНЕНИЯ'!CH47,\"\")","v":""},{"$f":"IF('ШАБЛОН для ЗАПОЛНЕНИЯ'!CI47<>\"\",'ШАБЛОН для ЗАПОЛНЕНИЯ'!CI47,\"\")","v":""},{"$f":"IF('ШАБЛОН для ЗАПОЛНЕНИЯ'!CJ47<>\"\",'ШАБЛОН для ЗАПОЛНЕНИЯ'!CJ47,\"\")","v":""},{"$f":"IF('ШАБЛОН для ЗАПОЛНЕНИЯ'!CK47<>\"\",'ШАБЛОН для ЗАПОЛНЕНИЯ'!CK47,\"\")","v":""},{"$f":"IF('ШАБЛОН для ЗАПОЛНЕНИЯ'!CL47<>\"\",'ШАБЛОН для ЗАПОЛНЕНИЯ'!CL47,\"\")","v":""},{"$f":"IF('ШАБЛОН для ЗАПОЛНЕНИЯ'!CM47<>\"\",'ШАБЛОН для ЗАПОЛНЕНИЯ'!CM47,\"\")","v":""},{"$f":"IF('ШАБЛОН для ЗАПОЛНЕНИЯ'!CN47<>\"\",'ШАБЛОН для ЗАПОЛНЕНИЯ'!CN47,\"\")","v":""},{"$f":"IF('ШАБЛОН для ЗАПОЛНЕНИЯ'!CO47<>\"\",'ШАБЛОН для ЗАПОЛНЕНИЯ'!CO47,\"\")","v":""},{"$f":"IF('ШАБЛОН для ЗАПОЛНЕНИЯ'!CP47<>\"\",'ШАБЛОН для ЗАПОЛНЕНИЯ'!CP47,\"\")","v":""},{"$f":"IF('ШАБЛОН для ЗАПОЛНЕНИЯ'!CQ47<>\"\",'ШАБЛОН для ЗАПОЛНЕНИЯ'!CQ47,\"\")","v":""},{"$f":"IF('ШАБЛОН для ЗАПОЛНЕНИЯ'!CR47<>\"\",'ШАБЛОН для ЗАПОЛНЕНИЯ'!CR47,\"\")","v":""},{"$f":"IF('ШАБЛОН для ЗАПОЛНЕНИЯ'!CS47<>\"\",'ШАБЛОН для ЗАПОЛНЕНИЯ'!CS47,\"\")","v":""},{"$f":"IF('ШАБЛОН для ЗАПОЛНЕНИЯ'!CT47<>\"\",'ШАБЛОН для ЗАПОЛНЕНИЯ'!CT47,\"\")","v":""}]
[null,4,{"$f":"IF('ШАБЛОН для ЗАПОЛНЕНИЯ'!C48<>\"\",'ШАБЛОН для ЗАПОЛНЕНИЯ'!C48,\"\")","v":""},{"$f":"IF('ШАБЛОН для ЗАПОЛНЕНИЯ'!D48<>\"\",'ШАБЛОН для ЗАПОЛНЕНИЯ'!D48,\"\")","v":""},{"$f":"IF('ШАБЛОН для ЗАПОЛНЕНИЯ'!E48<>\"\",'ШАБЛОН для ЗАПОЛНЕНИЯ'!E48,\"\")","v":""},{"$f":"IF('ШАБЛОН для ЗАПОЛНЕНИЯ'!F48<>\"\",'ШАБЛОН для ЗАПОЛНЕНИЯ'!F48,\"\")","v":""},{"$f":"IF('ШАБЛОН для ЗАПОЛНЕНИЯ'!G48<>\"\",'ШАБЛОН для ЗАПОЛНЕНИЯ'!G48,\"\")","v":""},{"$f":"IF('ШАБЛОН для ЗАПОЛНЕНИЯ'!H48<>\"\",'ШАБЛОН для ЗАПОЛНЕНИЯ'!H48,\"\")","v":""},{"$f":"IF('ШАБЛОН для ЗАПОЛНЕНИЯ'!I48<>\"\",'ШАБЛОН для ЗАПОЛНЕНИЯ'!I48,\"\")","v":""},{"$f":"IF('ШАБЛОН для ЗАПОЛНЕНИЯ'!J48<>\"\",'ШАБЛОН для ЗАПОЛНЕНИЯ'!J48,\"\")","v":""},{"$f":"IF('ШАБЛОН для ЗАПОЛНЕНИЯ'!K48<>\"\",'ШАБЛОН для ЗАПОЛНЕНИЯ'!K48,\"\")","v":"Англ.язык"},{"$f":"IF('ШАБЛОН для ЗАПОЛНЕНИЯ'!L48<>\"\",'ШАБЛОН для ЗАПОЛНЕНИЯ'!L48,\"\")","v":""},{"$f":"IF('ШАБЛОН для ЗАПОЛНЕНИЯ'!M48<>\"\",'ШАБЛОН для ЗАПОЛНЕНИЯ'!M48,\"\")","v":""},{"$f":"IF('ШАБЛОН для ЗАПОЛНЕНИЯ'!N48<>\"\",'ШАБЛОН для ЗАПОЛНЕНИЯ'!N48,\"\")","v":""},{"$f":"IF('ШАБЛОН для ЗАПОЛНЕНИЯ'!O48<>\"\",'ШАБЛОН для ЗАПОЛНЕНИЯ'!O48,\"\")","v":""},{"$f":"IF('ШАБЛОН для ЗАПОЛНЕНИЯ'!P48<>\"\",'ШАБЛОН для ЗАПОЛНЕНИЯ'!P48,\"\")","v":""},{"$f":"IF('ШАБЛОН для ЗАПОЛНЕНИЯ'!Q48<>\"\",'ШАБЛОН для ЗАПОЛНЕНИЯ'!Q48,\"\")","v":""},{"$f":"IF('ШАБЛОН для ЗАПОЛНЕНИЯ'!R48<>\"\",'ШАБЛОН для ЗАПОЛНЕНИЯ'!R48,\"\")","v":""},{"$f":"IF('ШАБЛОН для ЗАПОЛНЕНИЯ'!S48<>\"\",'ШАБЛОН для ЗАПОЛНЕНИЯ'!S48,\"\")","v":"Обществознание"},{"$f":"IF('ШАБЛОН для ЗАПОЛНЕНИЯ'!T48<>\"\",'ШАБЛОН для ЗАПОЛНЕНИЯ'!T48,\"\")","v":""},{"$f":"IF('ШАБЛОН для ЗАПОЛНЕНИЯ'!U48<>\"\",'ШАБЛОН для ЗАПОЛНЕНИЯ'!U48,\"\")","v":""},{"$f":"IF('ШАБЛОН для ЗАПОЛНЕНИЯ'!V48<>\"\",'ШАБЛОН для ЗАПОЛНЕНИЯ'!V48,\"\")","v":""},{"$f":"IF('ШАБЛОН для ЗАПОЛНЕНИЯ'!W48<>\"\",'ШАБЛОН для ЗАПОЛНЕНИЯ'!W48,\"\")","v":"Физкультура"},{"$f":"IF('ШАБЛОН для ЗАПОЛНЕНИЯ'!X48<>\"\",'ШАБЛОН для ЗАПОЛНЕНИЯ'!X48,\"\")","v":""},{"$f":"IF('ШАБЛОН для ЗАПОЛНЕНИЯ'!Y48<>\"\",'ШАБЛОН для ЗАПОЛНЕНИЯ'!Y48,\"\")","v":""},{"$f":"IF('ШАБЛОН для ЗАПОЛНЕНИЯ'!Z48<>\"\",'ШАБЛОН для ЗАПОЛНЕНИЯ'!Z48,\"\")","v":""},{"$f":"IF('ШАБЛОН для ЗАПОЛНЕНИЯ'!AA48<>\"\",'ШАБЛОН для ЗАПОЛНЕНИЯ'!AA48,\"\")","v":"Литература"},{"$f":"IF('ШАБЛОН для ЗАПОЛНЕНИЯ'!AB48<>\"\",'ШАБЛОН для ЗАПОЛНЕНИЯ'!AB48,\"\")","v":""},{"$f":"IF('ШАБЛОН для ЗАПОЛНЕНИЯ'!AC48<>\"\",'ШАБЛОН для ЗАПОЛНЕНИЯ'!AC48,\"\")","v":""},{"$f":"IF('ШАБЛОН для ЗАПОЛНЕНИЯ'!AD48<>\"\",'ШАБЛОН для ЗАПОЛНЕНИЯ'!AD48,\"\")","v":""},{"$f":"IF('ШАБЛОН для ЗАПОЛНЕНИЯ'!AE48<>\"\",'ШАБЛОН для ЗАПОЛНЕНИЯ'!AE48,\"\")","v":"Родная лит."},{"$f":"IF('ШАБЛОН для ЗАПОЛНЕНИЯ'!AF48<>\"\",'ШАБЛОН для ЗАПОЛНЕНИЯ'!AF48,\"\")","v":""},{"$f":"IF('ШАБЛОН для ЗАПОЛНЕНИЯ'!AG48<>\"\",'ШАБЛОН для ЗАПОЛНЕНИЯ'!AG48,\"\")","v":""},{"$f":"IF('ШАБЛОН для ЗАПОЛНЕНИЯ'!AH48<>\"\",'ШАБЛОН для ЗАПОЛНЕНИЯ'!AH48,\"\")","v":""},{"$f":"IF('ШАБЛОН для ЗАПОЛНЕНИЯ'!AI48<>\"\",'ШАБЛОН для ЗАПОЛНЕНИЯ'!AI48,\"\")","v":"Рус.язык"},{"$f":"IF('ШАБЛОН для ЗАПОЛНЕНИЯ'!AJ48<>\"\",'ШАБЛОН для ЗАПОЛНЕНИЯ'!AJ48,\"\")","v":""},{"$f":"IF('ШАБЛОН для ЗАПОЛНЕНИЯ'!AK48<>\"\",'ШАБЛОН для ЗАПОЛНЕНИЯ'!AK48,\"\")","v":""},{"$f":"IF('ШАБЛОН для ЗАПОЛНЕНИЯ'!AL48<>\"\",'ШАБЛОН для ЗАПОЛНЕНИЯ'!AL48,\"\")","v":""},{"$f":"IF('ШАБЛОН для ЗАПОЛНЕНИЯ'!AM48<>\"\",'ШАБЛОН для ЗАПОЛНЕНИЯ'!AM48,\"\")","v":""},{"$f":"IF('ШАБЛОН для ЗАПОЛНЕНИЯ'!AN48<>\"\",'ШАБЛОН для ЗАПОЛНЕНИЯ'!AN48,\"\")","v":""},{"$f":"IF('ШАБЛОН для ЗАПОЛНЕНИЯ'!AO48<>\"\",'ШАБЛОН для ЗАПОЛНЕНИЯ'!AO48,\"\")","v":""},{"$f":"IF('ШАБЛОН для ЗАПОЛНЕНИЯ'!AP48<>\"\",'ШАБЛОН для ЗАПОЛНЕНИЯ'!AP48,\"\")","v":""},{"$f":"IF('ШАБЛОН для ЗАПОЛНЕНИЯ'!AQ48<>\"\",'ШАБЛОН для ЗАПОЛНЕНИЯ'!AQ48,\"\")","v":""},{"$f":"IF('ШАБЛОН для ЗАПОЛНЕНИЯ'!AR48<>\"\",'ШАБЛОН для ЗАПОЛНЕНИЯ'!AR48,\"\")","v":""},{"$f":"IF('ШАБЛОН для ЗАПОЛНЕНИЯ'!AS48<>\"\",'ШАБЛОН для ЗАПОЛНЕНИЯ'!AS48,\"\")","v":""},{"$f":"IF('ШАБЛОН для ЗАПОЛНЕНИЯ'!AT48<>\"\",'ШАБЛОН для ЗАПОЛНЕНИЯ'!AT48,\"\")","v":""},{"$f":"IF('ШАБЛОН для ЗАПОЛНЕНИЯ'!AU48<>\"\",'ШАБЛОН для ЗАПОЛНЕНИЯ'!AU48,\"\")","v":""},{"$f":"IF('ШАБЛОН для ЗАПОЛНЕНИЯ'!AV48<>\"\",'ШАБЛОН для ЗАПОЛНЕНИЯ'!AV48,\"\")","v":""},{"$f":"IF('ШАБЛОН для ЗАПОЛНЕНИЯ'!AW48<>\"\",'ШАБЛОН для ЗАПОЛНЕНИЯ'!AW48,\"\")","v":""},{"$f":"IF('ШАБЛОН для ЗАПОЛНЕНИЯ'!AX48<>\"\",'ШАБЛОН для ЗАПОЛНЕНИЯ'!AX48,\"\")","v":""},{"$f":"IF('ШАБЛОН для ЗАПОЛНЕНИЯ'!AY48<>\"\",'ШАБЛОН для ЗАПОЛНЕНИЯ'!AY48,\"\")","v":""},{"$f":"IF('ШАБЛОН для ЗАПОЛНЕНИЯ'!AZ48<>\"\",'ШАБЛОН для ЗАПОЛНЕНИЯ'!AZ48,\"\")","v":""},{"$f":"IF('ШАБЛОН для ЗАПОЛНЕНИЯ'!BA48<>\"\",'ШАБЛОН для ЗАПОЛНЕНИЯ'!BA48,\"\")","v":""},{"$f":"IF('ШАБЛОН для ЗАПОЛНЕНИЯ'!BB48<>\"\",'ШАБЛОН для ЗАПОЛНЕНИЯ'!BB48,\"\")","v":""},{"$f":"IF('ШАБЛОН для ЗАПОЛНЕНИЯ'!BC48<>\"\",'ШАБЛОН для ЗАПОЛНЕНИЯ'!BC48,\"\")","v":""},{"$f":"IF('ШАБЛОН для ЗАПОЛНЕНИЯ'!BD48<>\"\",'ШАБЛОН для ЗАПОЛНЕНИЯ'!BD48,\"\")","v":""},{"$f":"IF('ШАБЛОН для ЗАПОЛНЕНИЯ'!BE48<>\"\",'ШАБЛОН для ЗАПОЛНЕНИЯ'!BE48,\"\")","v":""},{"$f":"IF('ШАБЛОН для ЗАПОЛНЕНИЯ'!BF48<>\"\",'ШАБЛОН для ЗАПОЛНЕНИЯ'!BF48,\"\")","v":""},{"$f":"IF('ШАБЛОН для ЗАПОЛНЕНИЯ'!BG48<>\"\",'ШАБЛОН для ЗАПОЛНЕНИЯ'!BG48,\"\")","v":""},{"$f":"IF('ШАБЛОН для ЗАПОЛНЕНИЯ'!BH48<>\"\",'ШАБЛОН для ЗАПОЛНЕНИЯ'!BH48,\"\")","v":""},{"$f":"IF('ШАБЛОН для ЗАПОЛНЕНИЯ'!BI48<>\"\",'ШАБЛОН для ЗАПОЛНЕНИЯ'!BI48,\"\")","v":""},{"$f":"IF('ШАБЛОН для ЗАПОЛНЕНИЯ'!BJ48<>\"\",'ШАБЛОН для ЗАПОЛНЕНИЯ'!BJ48,\"\")","v":""},{"$f":"IF('ШАБЛОН для ЗАПОЛНЕНИЯ'!BK48<>\"\",'ШАБЛОН для ЗАПОЛНЕНИЯ'!BK48,\"\")","v":""},{"$f":"IF('ШАБЛОН для ЗАПОЛНЕНИЯ'!BL48<>\"\",'ШАБЛОН для ЗАПОЛНЕНИЯ'!BL48,\"\")","v":""},{"$f":"IF('ШАБЛОН для ЗАПОЛНЕНИЯ'!BM48<>\"\",'ШАБЛОН для ЗАПОЛНЕНИЯ'!BM48,\"\")","v":""},{"$f":"IF('ШАБЛОН для ЗАПОЛНЕНИЯ'!BN48<>\"\",'ШАБЛОН для ЗАПОЛНЕНИЯ'!BN48,\"\")","v":""},{"$f":"IF('ШАБЛОН для ЗАПОЛНЕНИЯ'!BO48<>\"\",'ШАБЛОН для ЗАПОЛНЕНИЯ'!BO48,\"\")","v":""},{"$f":"IF('ШАБЛОН для ЗАПОЛНЕНИЯ'!BP48<>\"\",'ШАБЛОН для ЗАПОЛНЕНИЯ'!BP48,\"\")","v":""},{"$f":"IF('ШАБЛОН для ЗАПОЛНЕНИЯ'!BQ48<>\"\",'ШАБЛОН для ЗАПОЛНЕНИЯ'!BQ48,\"\")","v":""},{"$f":"IF('ШАБЛОН для ЗАПОЛНЕНИЯ'!BR48<>\"\",'ШАБЛОН для ЗАПОЛНЕНИЯ'!BR48,\"\")","v":""},{"$f":"IF('ШАБЛОН для ЗАПОЛНЕНИЯ'!BS48<>\"\",'ШАБЛОН для ЗАПОЛНЕНИЯ'!BS48,\"\")","v":""},{"$f":"IF('ШАБЛОН для ЗАПОЛНЕНИЯ'!BT48<>\"\",'ШАБЛОН для ЗАПОЛНЕНИЯ'!BT48,\"\")","v":""},{"$f":"IF('ШАБЛОН для ЗАПОЛНЕНИЯ'!BU48<>\"\",'ШАБЛОН для ЗАПОЛНЕНИЯ'!BU48,\"\")","v":""},{"$f":"IF('ШАБЛОН для ЗАПОЛНЕНИЯ'!BV48<>\"\",'ШАБЛОН для ЗАПОЛНЕНИЯ'!BV48,\"\")","v":""},{"$f":"IF('ШАБЛОН для ЗАПОЛНЕНИЯ'!BW48<>\"\",'ШАБЛОН для ЗАПОЛНЕНИЯ'!BW48,\"\")","v":""},{"$f":"IF('ШАБЛОН для ЗАПОЛНЕНИЯ'!BX48<>\"\",'ШАБЛОН для ЗАПОЛНЕНИЯ'!BX48,\"\")","v":""},{"$f":"IF('ШАБЛОН для ЗАПОЛНЕНИЯ'!BY48<>\"\",'ШАБЛОН для ЗАПОЛНЕНИЯ'!BY48,\"\")","v":""},{"$f":"IF('ШАБЛОН для ЗАПОЛНЕНИЯ'!BZ48<>\"\",'ШАБЛОН для ЗАПОЛНЕНИЯ'!BZ48,\"\")","v":""},{"$f":"IF('ШАБЛОН для ЗАПОЛНЕНИЯ'!CA48<>\"\",'ШАБЛОН для ЗАПОЛНЕНИЯ'!CA48,\"\")","v":""},{"$f":"IF('ШАБЛОН для ЗАПОЛНЕНИЯ'!CB48<>\"\",'ШАБЛОН для ЗАПОЛНЕНИЯ'!CB48,\"\")","v":""},{"$f":"IF('ШАБЛОН для ЗАПОЛНЕНИЯ'!CC48<>\"\",'ШАБЛОН для ЗАПОЛНЕНИЯ'!CC48,\"\")","v":""},{"$f":"IF('ШАБЛОН для ЗАПОЛНЕНИЯ'!CD48<>\"\",'ШАБЛОН для ЗАПОЛНЕНИЯ'!CD48,\"\")","v":""},{"$f":"IF('ШАБЛОН для ЗАПОЛНЕНИЯ'!CE48<>\"\",'ШАБЛОН для ЗАПОЛНЕНИЯ'!CE48,\"\")","v":""},{"$f":"IF('ШАБЛОН для ЗАПОЛНЕНИЯ'!CF48<>\"\",'ШАБЛОН для ЗАПОЛНЕНИЯ'!CF48,\"\")","v":""},{"$f":"IF('ШАБЛОН для ЗАПОЛНЕНИЯ'!CG48<>\"\",'ШАБЛОН для ЗАПОЛНЕНИЯ'!CG48,\"\")","v":""},{"$f":"IF('ШАБЛОН для ЗАПОЛНЕНИЯ'!CH48<>\"\",'ШАБЛОН для ЗАПОЛНЕНИЯ'!CH48,\"\")","v":""},{"$f":"IF('ШАБЛОН для ЗАПОЛНЕНИЯ'!CI48<>\"\",'ШАБЛОН для ЗАПОЛНЕНИЯ'!CI48,\"\")","v":""},{"$f":"IF('ШАБЛОН для ЗАПОЛНЕНИЯ'!CJ48<>\"\",'ШАБЛОН для ЗАПОЛНЕНИЯ'!CJ48,\"\")","v":""},{"$f":"IF('ШАБЛОН для ЗАПОЛНЕНИЯ'!CK48<>\"\",'ШАБЛОН для ЗАПОЛНЕНИЯ'!CK48,\"\")","v":""},{"$f":"IF('ШАБЛОН для ЗАПОЛНЕНИЯ'!CL48<>\"\",'ШАБЛОН для ЗАПОЛНЕНИЯ'!CL48,\"\")","v":""},{"$f":"IF('ШАБЛОН для ЗАПОЛНЕНИЯ'!CM48<>\"\",'ШАБЛОН для ЗАПОЛНЕНИЯ'!CM48,\"\")","v":""},{"$f":"IF('ШАБЛОН для ЗАПОЛНЕНИЯ'!CN48<>\"\",'ШАБЛОН для ЗАПОЛНЕНИЯ'!CN48,\"\")","v":""},{"$f":"IF('ШАБЛОН для ЗАПОЛНЕНИЯ'!CO48<>\"\",'ШАБЛОН для ЗАПОЛНЕНИЯ'!CO48,\"\")","v":""},{"$f":"IF('ШАБЛОН для ЗАПОЛНЕНИЯ'!CP48<>\"\",'ШАБЛОН для ЗАПОЛНЕНИЯ'!CP48,\"\")","v":""},{"$f":"IF('ШАБЛОН для ЗАПОЛНЕНИЯ'!CQ48<>\"\",'ШАБЛОН для ЗАПОЛНЕНИЯ'!CQ48,\"\")","v":""},{"$f":"IF('ШАБЛОН для ЗАПОЛНЕНИЯ'!CR48<>\"\",'ШАБЛОН для ЗАПОЛНЕНИЯ'!CR48,\"\")","v":""},{"$f":"IF('ШАБЛОН для ЗАПОЛНЕНИЯ'!CS48<>\"\",'ШАБЛОН для ЗАПОЛНЕНИЯ'!CS48,\"\")","v":""},{"$f":"IF('ШАБЛОН для ЗАПОЛНЕНИЯ'!CT48<>\"\",'ШАБЛОН для ЗАПОЛНЕНИЯ'!CT48,\"\")","v":""}]
[null,5,{"$f":"IF('ШАБЛОН для ЗАПОЛНЕНИЯ'!C49<>\"\",'ШАБЛОН для ЗАПОЛНЕНИЯ'!C49,\"\")","v":""},{"$f":"IF('ШАБЛОН для ЗАПОЛНЕНИЯ'!D49<>\"\",'ШАБЛОН для ЗАПОЛНЕНИЯ'!D49,\"\")","v":""},{"$f":"IF('ШАБЛОН для ЗАПОЛНЕНИЯ'!E49<>\"\",'ШАБЛОН для ЗАПОЛНЕНИЯ'!E49,\"\")","v":""},{"$f":"IF('ШАБЛОН для ЗАПОЛНЕНИЯ'!F49<>\"\",'ШАБЛОН для ЗАПОЛНЕНИЯ'!F49,\"\")","v":""},{"$f":"IF('ШАБЛОН для ЗАПОЛНЕНИЯ'!G49<>\"\",'ШАБЛОН для ЗАПОЛНЕНИЯ'!G49,\"\")","v":""},{"$f":"IF('ШАБЛОН для ЗАПОЛНЕНИЯ'!H49<>\"\",'ШАБЛОН для ЗАПОЛНЕНИЯ'!H49,\"\")","v":""},{"$f":"IF('ШАБЛОН для ЗАПОЛНЕНИЯ'!I49<>\"\",'ШАБЛОН для ЗАПОЛНЕНИЯ'!I49,\"\")","v":""},{"$f":"IF('ШАБЛОН для ЗАПОЛНЕНИЯ'!J49<>\"\",'ШАБЛОН для ЗАПОЛНЕНИЯ'!J49,\"\")","v":""},{"$f":"IF('ШАБЛОН для ЗАПОЛНЕНИЯ'!K49<>\"\",'ШАБЛОН для ЗАПОЛНЕНИЯ'!K49,\"\")","v":""},{"$f":"IF('ШАБЛОН для ЗАПОЛНЕНИЯ'!L49<>\"\",'ШАБЛОН для ЗАПОЛНЕНИЯ'!L49,\"\")","v":""},{"$f":"IF('ШАБЛОН для ЗАПОЛНЕНИЯ'!M49<>\"\",'ШАБЛОН для ЗАПОЛНЕНИЯ'!M49,\"\")","v":""},{"$f":"IF('ШАБЛОН для ЗАПОЛНЕНИЯ'!N49<>\"\",'ШАБЛОН для ЗАПОЛНЕНИЯ'!N49,\"\")","v":""},{"$f":"IF('ШАБЛОН для ЗАПОЛНЕНИЯ'!O49<>\"\",'ШАБЛОН для ЗАПОЛНЕНИЯ'!O49,\"\")","v":""},{"$f":"IF('ШАБЛОН для ЗАПОЛНЕНИЯ'!P49<>\"\",'ШАБЛОН для ЗАПОЛНЕНИЯ'!P49,\"\")","v":""},{"$f":"IF('ШАБЛОН для ЗАПОЛНЕНИЯ'!Q49<>\"\",'ШАБЛОН для ЗАПОЛНЕНИЯ'!Q49,\"\")","v":""},{"$f":"IF('ШАБЛОН для ЗАПОЛНЕНИЯ'!R49<>\"\",'ШАБЛОН для ЗАПОЛНЕНИЯ'!R49,\"\")","v":""},{"$f":"IF('ШАБЛОН для ЗАПОЛНЕНИЯ'!S49<>\"\",'ШАБЛОН для ЗАПОЛНЕНИЯ'!S49,\"\")","v":"Родная лит."},{"$f":"IF('ШАБЛОН для ЗАПОЛНЕНИЯ'!T49<>\"\",'ШАБЛОН для ЗАПОЛНЕНИЯ'!T49,\"\")","v":""},{"$f":"IF('ШАБЛОН для ЗАПОЛНЕНИЯ'!U49<>\"\",'ШАБЛОН для ЗАПОЛНЕНИЯ'!U49,\"\")","v":""},{"$f":"IF('ШАБЛОН для ЗАПОЛНЕНИЯ'!V49<>\"\",'ШАБЛОН для ЗАПОЛНЕНИЯ'!V49,\"\")","v":""},{"$f":"IF('ШАБЛОН для ЗАПОЛНЕНИЯ'!W49<>\"\",'ШАБЛОН для ЗАПОЛНЕНИЯ'!W49,\"\")","v":"География"},{"$f":"IF('ШАБЛОН для ЗАПОЛНЕНИЯ'!X49<>\"\",'ШАБЛОН для ЗАПОЛНЕНИЯ'!X49,\"\")","v":""},{"$f":"IF('ШАБЛОН для ЗАПОЛНЕНИЯ'!Y49<>\"\",'ШАБЛОН для ЗАПОЛНЕНИЯ'!Y49,\"\")","v":""},{"$f":"IF('ШАБЛОН для ЗАПОЛНЕНИЯ'!Z49<>\"\",'ШАБЛОН для ЗАПОЛНЕНИЯ'!Z49,\"\")","v":""},{"$f":"IF('ШАБЛОН для ЗАПОЛНЕНИЯ'!AA49<>\"\",'ШАБЛОН для ЗАПОЛНЕНИЯ'!AA49,\"\")","v":"Физкультура"},{"$f":"IF('ШАБЛОН для ЗАПОЛНЕНИЯ'!AB49<>\"\",'ШАБЛОН для ЗАПОЛНЕНИЯ'!AB49,\"\")","v":""},{"$f":"IF('ШАБЛОН для ЗАПОЛНЕНИЯ'!AC49<>\"\",'ШАБЛОН для ЗАПОЛНЕНИЯ'!AC49,\"\")","v":""},{"$f":"IF('ШАБЛОН для ЗАПОЛНЕНИЯ'!AD49<>\"\",'ШАБЛОН для ЗАПОЛНЕНИЯ'!AD49,\"\")","v":""},{"$f":"IF('ШАБЛОН для ЗАПОЛНЕНИЯ'!AE49<>\"\",'ШАБЛОН для ЗАПОЛНЕНИЯ'!AE49,\"\")","v":"Англ.язык"},{"$f":"IF('ШАБЛОН для ЗАПОЛНЕНИЯ'!AF49<>\"\",'ШАБЛОН для ЗАПОЛНЕНИЯ'!AF49,\"\")","v":""},{"$f":"IF('ШАБЛОН для ЗАПОЛНЕНИЯ'!AG49<>\"\",'ШАБЛОН для ЗАПОЛНЕНИЯ'!AG49,\"\")","v":""},{"$f":"IF('ШАБЛОН для ЗАПОЛНЕНИЯ'!AH49<>\"\",'ШАБЛОН для ЗАПОЛНЕНИЯ'!AH49,\"\")","v":""},{"$f":"IF('ШАБЛОН для ЗАПОЛНЕНИЯ'!AI49<>\"\",'ШАБЛОН для ЗАПОЛНЕНИЯ'!AI49,\"\")","v":"Обществознание"},{"$f":"IF('ШАБЛОН для ЗАПОЛНЕНИЯ'!AJ49<>\"\",'ШАБЛОН для ЗАПОЛНЕНИЯ'!AJ49,\"\")","v":""},{"$f":"IF('ШАБЛОН для ЗАПОЛНЕНИЯ'!AK49<>\"\",'ШАБЛОН для ЗАПОЛНЕНИЯ'!AK49,\"\")","v":""},{"$f":"IF('ШАБЛОН для ЗАПОЛНЕНИЯ'!AL49<>\"\",'ШАБЛОН для ЗАПОЛНЕНИЯ'!AL49,\"\")","v":""},{"$f":"IF('ШАБЛОН для ЗАПОЛНЕНИЯ'!AM49<>\"\",'ШАБЛОН для ЗАПОЛНЕНИЯ'!AM49,\"\")","v":""},{"$f":"IF('ШАБЛОН для ЗАПОЛНЕНИЯ'!AN49<>\"\",'ШАБЛОН для ЗАПОЛНЕНИЯ'!AN49,\"\")","v":""},{"$f":"IF('ШАБЛОН для ЗАПОЛНЕНИЯ'!AO49<>\"\",'ШАБЛОН для ЗАПОЛНЕНИЯ'!AO49,\"\")","v":""},{"$f":"IF('ШАБЛОН для ЗАПОЛНЕНИЯ'!AP49<>\"\",'ШАБЛОН для ЗАПОЛНЕНИЯ'!AP49,\"\")","v":""},{"$f":"IF('ШАБЛОН для ЗАПОЛНЕНИЯ'!AQ49<>\"\",'ШАБЛОН для ЗАПОЛНЕНИЯ'!AQ49,\"\")","v":""},{"$f":"IF('ШАБЛОН для ЗАПОЛНЕНИЯ'!AR49<>\"\",'ШАБЛОН для ЗАПОЛНЕНИЯ'!AR49,\"\")","v":""},{"$f":"IF('ШАБЛОН для ЗАПОЛНЕНИЯ'!AS49<>\"\",'ШАБЛОН для ЗАПОЛНЕНИЯ'!AS49,\"\")","v":""},{"$f":"IF('ШАБЛОН для ЗАПОЛНЕНИЯ'!AT49<>\"\",'ШАБЛОН для ЗАПОЛНЕНИЯ'!AT49,\"\")","v":""},{"$f":"IF('ШАБЛОН для ЗАПОЛНЕНИЯ'!AU49<>\"\",'ШАБЛОН для ЗАПОЛНЕНИЯ'!AU49,\"\")","v":""},{"$f":"IF('ШАБЛОН для ЗАПОЛНЕНИЯ'!AV49<>\"\",'ШАБЛОН для ЗАПОЛНЕНИЯ'!AV49,\"\")","v":""},{"$f":"IF('ШАБЛОН для ЗАПОЛНЕНИЯ'!AW49<>\"\",'ШАБЛОН для ЗАПОЛНЕНИЯ'!AW49,\"\")","v":""},{"$f":"IF('ШАБЛОН для ЗАПОЛНЕНИЯ'!AX49<>\"\",'ШАБЛОН для ЗАПОЛНЕНИЯ'!AX49,\"\")","v":""},{"$f":"IF('ШАБЛОН для ЗАПОЛНЕНИЯ'!AY49<>\"\",'ШАБЛОН для ЗАПОЛНЕНИЯ'!AY49,\"\")","v":""},{"$f":"IF('ШАБЛОН для ЗАПОЛНЕНИЯ'!AZ49<>\"\",'ШАБЛОН для ЗАПОЛНЕНИЯ'!AZ49,\"\")","v":""},{"$f":"IF('ШАБЛОН для ЗАПОЛНЕНИЯ'!BA49<>\"\",'ШАБЛОН для ЗАПОЛНЕНИЯ'!BA49,\"\")","v":""},{"$f":"IF('ШАБЛОН для ЗАПОЛНЕНИЯ'!BB49<>\"\",'ШАБЛОН для ЗАПОЛНЕНИЯ'!BB49,\"\")","v":""},{"$f":"IF('ШАБЛОН для ЗАПОЛНЕНИЯ'!BC49<>\"\",'ШАБЛОН для ЗАПОЛНЕНИЯ'!BC49,\"\")","v":""},{"$f":"IF('ШАБЛОН для ЗАПОЛНЕНИЯ'!BD49<>\"\",'ШАБЛОН для ЗАПОЛНЕНИЯ'!BD49,\"\")","v":""},{"$f":"IF('ШАБЛОН для ЗАПОЛНЕНИЯ'!BE49<>\"\",'ШАБЛОН для ЗАПОЛНЕНИЯ'!BE49,\"\")","v":""},{"$f":"IF('ШАБЛОН для ЗАПОЛНЕНИЯ'!BF49<>\"\",'ШАБЛОН для ЗАПОЛНЕНИЯ'!BF49,\"\")","v":""},{"$f":"IF('ШАБЛОН для ЗАПОЛНЕНИЯ'!BG49<>\"\",'ШАБЛОН для ЗАПОЛНЕНИЯ'!BG49,\"\")","v":""},{"$f":"IF('ШАБЛОН для ЗАПОЛНЕНИЯ'!BH49<>\"\",'ШАБЛОН для ЗАПОЛНЕНИЯ'!BH49,\"\")","v":""},{"$f":"IF('ШАБЛОН для ЗАПОЛНЕНИЯ'!BI49<>\"\",'ШАБЛОН для ЗАПОЛНЕНИЯ'!BI49,\"\")","v":""},{"$f":"IF('ШАБЛОН для ЗАПОЛНЕНИЯ'!BJ49<>\"\",'ШАБЛОН для ЗАПОЛНЕНИЯ'!BJ49,\"\")","v":""},{"$f":"IF('ШАБЛОН для ЗАПОЛНЕНИЯ'!BK49<>\"\",'ШАБЛОН для ЗАПОЛНЕНИЯ'!BK49,\"\")","v":""},{"$f":"IF('ШАБЛОН для ЗАПОЛНЕНИЯ'!BL49<>\"\",'ШАБЛОН для ЗАПОЛНЕНИЯ'!BL49,\"\")","v":""},{"$f":"IF('ШАБЛОН для ЗАПОЛНЕНИЯ'!BM49<>\"\",'ШАБЛОН для ЗАПОЛНЕНИЯ'!BM49,\"\")","v":""},{"$f":"IF('ШАБЛОН для ЗАПОЛНЕНИЯ'!BN49<>\"\",'ШАБЛОН для ЗАПОЛНЕНИЯ'!BN49,\"\")","v":""},{"$f":"IF('ШАБЛОН для ЗАПОЛНЕНИЯ'!BO49<>\"\",'ШАБЛОН для ЗАПОЛНЕНИЯ'!BO49,\"\")","v":""},{"$f":"IF('ШАБЛОН для ЗАПОЛНЕНИЯ'!BP49<>\"\",'ШАБЛОН для ЗАПОЛНЕНИЯ'!BP49,\"\")","v":""},{"$f":"IF('ШАБЛОН для ЗАПОЛНЕНИЯ'!BQ49<>\"\",'ШАБЛОН для ЗАПОЛНЕНИЯ'!BQ49,\"\")","v":""},{"$f":"IF('ШАБЛОН для ЗАПОЛНЕНИЯ'!BR49<>\"\",'ШАБЛОН для ЗАПОЛНЕНИЯ'!BR49,\"\")","v":""},{"$f":"IF('ШАБЛОН для ЗАПОЛНЕНИЯ'!BS49<>\"\",'ШАБЛОН для ЗАПОЛНЕНИЯ'!BS49,\"\")","v":""},{"$f":"IF('ШАБЛОН для ЗАПОЛНЕНИЯ'!BT49<>\"\",'ШАБЛОН для ЗАПОЛНЕНИЯ'!BT49,\"\")","v":""},{"$f":"IF('ШАБЛОН для ЗАПОЛНЕНИЯ'!BU49<>\"\",'ШАБЛОН для ЗАПОЛНЕНИЯ'!BU49,\"\")","v":""},{"$f":"IF('ШАБЛОН для ЗАПОЛНЕНИЯ'!BV49<>\"\",'ШАБЛОН для ЗАПОЛНЕНИЯ'!BV49,\"\")","v":""},{"$f":"IF('ШАБЛОН для ЗАПОЛНЕНИЯ'!BW49<>\"\",'ШАБЛОН для ЗАПОЛНЕНИЯ'!BW49,\"\")","v":""},{"$f":"IF('ШАБЛОН для ЗАПОЛНЕНИЯ'!BX49<>\"\",'ШАБЛОН для ЗАПОЛНЕНИЯ'!BX49,\"\")","v":""},{"$f":"IF('ШАБЛОН для ЗАПОЛНЕНИЯ'!BY49<>\"\",'ШАБЛОН для ЗАПОЛНЕНИЯ'!BY49,\"\")","v":""},{"$f":"IF('ШАБЛОН для ЗАПОЛНЕНИЯ'!BZ49<>\"\",'ШАБЛОН для ЗАПОЛНЕНИЯ'!BZ49,\"\")","v":""},{"$f":"IF('ШАБЛОН для ЗАПОЛНЕНИЯ'!CA49<>\"\",'ШАБЛОН для ЗАПОЛНЕНИЯ'!CA49,\"\")","v":""},{"$f":"IF('ШАБЛОН для ЗАПОЛНЕНИЯ'!CB49<>\"\",'ШАБЛОН для ЗАПОЛНЕНИЯ'!CB49,\"\")","v":""},{"$f":"IF('ШАБЛОН для ЗАПОЛНЕНИЯ'!CC49<>\"\",'ШАБЛОН для ЗАПОЛНЕНИЯ'!CC49,\"\")","v":""},{"$f":"IF('ШАБЛОН для ЗАПОЛНЕНИЯ'!CD49<>\"\",'ШАБЛОН для ЗАПОЛНЕНИЯ'!CD49,\"\")","v":""},{"$f":"IF('ШАБЛОН для ЗАПОЛНЕНИЯ'!CE49<>\"\",'ШАБЛОН для ЗАПОЛНЕНИЯ'!CE49,\"\")","v":""},{"$f":"IF('ШАБЛОН для ЗАПОЛНЕНИЯ'!CF49<>\"\",'ШАБЛОН для ЗАПОЛНЕНИЯ'!CF49,\"\")","v":""},{"$f":"IF('ШАБЛОН для ЗАПОЛНЕНИЯ'!CG49<>\"\",'ШАБЛОН для ЗАПОЛНЕНИЯ'!CG49,\"\")","v":""},{"$f":"IF('ШАБЛОН для ЗАПОЛНЕНИЯ'!CH49<>\"\",'ШАБЛОН для ЗАПОЛНЕНИЯ'!CH49,\"\")","v":""},{"$f":"IF('ШАБЛОН для ЗАПОЛНЕНИЯ'!CI49<>\"\",'ШАБЛОН для ЗАПОЛНЕНИЯ'!CI49,\"\")","v":""},{"$f":"IF('ШАБЛОН для ЗАПОЛНЕНИЯ'!CJ49<>\"\",'ШАБЛОН для ЗАПОЛНЕНИЯ'!CJ49,\"\")","v":""},{"$f":"IF('ШАБЛОН для ЗАПОЛНЕНИЯ'!CK49<>\"\",'ШАБЛОН для ЗАПОЛНЕНИЯ'!CK49,\"\")","v":""},{"$f":"IF('ШАБЛОН для ЗАПОЛНЕНИЯ'!CL49<>\"\",'ШАБЛОН для ЗАПОЛНЕНИЯ'!CL49,\"\")","v":""},{"$f":"IF('ШАБЛОН для ЗАПОЛНЕНИЯ'!CM49<>\"\",'ШАБЛОН для ЗАПОЛНЕНИЯ'!CM49,\"\")","v":""},{"$f":"IF('ШАБЛОН для ЗАПОЛНЕНИЯ'!CN49<>\"\",'ШАБЛОН для ЗАПОЛНЕНИЯ'!CN49,\"\")","v":""},{"$f":"IF('ШАБЛОН для ЗАПОЛНЕНИЯ'!CO49<>\"\",'ШАБЛОН для ЗАПОЛНЕНИЯ'!CO49,\"\")","v":""},{"$f":"IF('ШАБЛОН для ЗАПОЛНЕНИЯ'!CP49<>\"\",'ШАБЛОН для ЗАПОЛНЕНИЯ'!CP49,\"\")","v":""},{"$f":"IF('ШАБЛОН для ЗАПОЛНЕНИЯ'!CQ49<>\"\",'ШАБЛОН для ЗАПОЛНЕНИЯ'!CQ49,\"\")","v":""},{"$f":"IF('ШАБЛОН для ЗАПОЛНЕНИЯ'!CR49<>\"\",'ШАБЛОН для ЗАПОЛНЕНИЯ'!CR49,\"\")","v":""},{"$f":"IF('ШАБЛОН для ЗАПОЛНЕНИЯ'!CS49<>\"\",'ШАБЛОН для ЗАПОЛНЕНИЯ'!CS49,\"\")","v":""},{"$f":"IF('ШАБЛОН для ЗАПОЛНЕНИЯ'!CT49<>\"\",'ШАБЛОН для ЗАПОЛНЕНИЯ'!CT49,\"\")","v":""}]
[null,6,{"$f":"IF('ШАБЛОН для ЗАПОЛНЕНИЯ'!C50<>\"\",'ШАБЛОН для ЗАПОЛНЕНИЯ'!C50,\"\")","v":""},{"$f":"IF('ШАБЛОН для ЗАПОЛНЕНИЯ'!D50<>\"\",'ШАБЛОН для ЗАПОЛНЕНИЯ'!D50,\"\")","v":""},{"$f":"IF('ШАБЛОН для ЗАПОЛНЕНИЯ'!E50<>\"\",'ШАБЛОН для ЗАПОЛНЕНИЯ'!E50,\"\")","v":""},{"$f":"IF('ШАБЛОН для ЗАПОЛНЕНИЯ'!F50<>\"\",'ШАБЛОН для ЗАПОЛНЕНИЯ'!F50,\"\")","v":""},{"$f":"IF('ШАБЛОН для ЗАПОЛНЕНИЯ'!G50<>\"\",'ШАБЛОН для ЗАПОЛНЕНИЯ'!G50,\"\")","v":""},{"$f":"IF('ШАБЛОН для ЗАПОЛНЕНИЯ'!H50<>\"\",'ШАБЛОН для ЗАПОЛНЕНИЯ'!H50,\"\")","v":""},{"$f":"IF('ШАБЛОН для ЗАПОЛНЕНИЯ'!I50<>\"\",'ШАБЛОН для ЗАПОЛНЕНИЯ'!I50,\"\")","v":""},{"$f":"IF('ШАБЛОН для ЗАПОЛНЕНИЯ'!J50<>\"\",'ШАБЛОН для ЗАПОЛНЕНИЯ'!J50,\"\")","v":""},{"$f":"IF('ШАБЛОН для ЗАПОЛНЕНИЯ'!K50<>\"\",'ШАБЛОН для ЗАПОЛНЕНИЯ'!K50,\"\")","v":""},{"$f":"IF('ШАБЛОН для ЗАПОЛНЕНИЯ'!L50<>\"\",'ШАБЛОН для ЗАПОЛНЕНИЯ'!L50,\"\")","v":""},{"$f":"IF('ШАБЛОН для ЗАПОЛНЕНИЯ'!M50<>\"\",'ШАБЛОН для ЗАПОЛНЕНИЯ'!M50,\"\")","v":""},{"$f":"IF('ШАБЛОН для ЗАПОЛНЕНИЯ'!N50<>\"\",'ШАБЛОН для ЗАПОЛНЕНИЯ'!N50,\"\")","v":""},{"$f":"IF('ШАБЛОН для ЗАПОЛНЕНИЯ'!O50<>\"\",'ШАБЛОН для ЗАПОЛНЕНИЯ'!O50,\"\")","v":""},{"$f":"IF('ШАБЛОН для ЗАПОЛНЕНИЯ'!P50<>\"\",'ШАБЛОН для ЗАПОЛНЕНИЯ'!P50,\"\")","v":""},{"$f":"IF('ШАБЛОН для ЗАПОЛНЕНИЯ'!Q50<>\"\",'ШАБЛОН для ЗАПОЛНЕНИЯ'!Q50,\"\")","v":""},{"$f":"IF('ШАБЛОН для ЗАПОЛНЕНИЯ'!R50<>\"\",'ШАБЛОН для ЗАПОЛНЕНИЯ'!R50,\"\")","v":""},{"$f":"IF('ШАБЛОН для ЗАПОЛНЕНИЯ'!S50<>\"\",'ШАБЛОН для ЗАПОЛНЕНИЯ'!S50,\"\")","v":""},{"$f":"IF('ШАБЛОН для ЗАПОЛНЕНИЯ'!T50<>\"\",'ШАБЛОН для ЗАПОЛНЕНИЯ'!T50,\"\")","v":""},{"$f":"IF('ШАБЛОН для ЗАПОЛНЕНИЯ'!U50<>\"\",'ШАБЛОН для ЗАПОЛНЕНИЯ'!U50,\"\")","v":""},{"$f":"IF('ШАБЛОН для ЗАПОЛНЕНИЯ'!V50<>\"\",'ШАБЛОН для ЗАПОЛНЕНИЯ'!V50,\"\")","v":""},{"$f":"IF('ШАБЛОН для ЗАПОЛНЕНИЯ'!W50<>\"\",'ШАБЛОН для ЗАПОЛНЕНИЯ'!W50,\"\")","v":""},{"$f":"IF('ШАБЛОН для ЗАПОЛНЕНИЯ'!X50<>\"\",'ШАБЛОН для ЗАПОЛНЕНИЯ'!X50,\"\")","v":""},{"$f":"IF('ШАБЛОН для ЗАПОЛНЕНИЯ'!Y50<>\"\",'ШАБЛОН для ЗАПОЛНЕНИЯ'!Y50,\"\")","v":""},{"$f":"IF('ШАБЛОН для ЗАПОЛНЕНИЯ'!Z50<>\"\",'ШАБЛОН для ЗАПОЛНЕНИЯ'!Z50,\"\")","v":""},{"$f":"IF('ШАБЛОН для ЗАПОЛНЕНИЯ'!AA50<>\"\",'ШАБЛОН для ЗАПОЛНЕНИЯ'!AA50,\"\")","v":"Обществознание"},{"$f":"IF('ШАБЛОН для ЗАПОЛНЕНИЯ'!AB50<>\"\",'ШАБЛОН для ЗАПОЛНЕНИЯ'!AB50,\"\")","v":""},{"$f":"IF('ШАБЛОН для ЗАПОЛНЕНИЯ'!AC50<>\"\",'ШАБЛОН для ЗАПОЛНЕНИЯ'!AC50,\"\")","v":""},{"$f":"IF('ШАБЛОН для ЗАПОЛНЕНИЯ'!AD50<>\"\",'ШАБЛОН для ЗАПОЛНЕНИЯ'!AD50,\"\")","v":""},{"$f":"IF('ШАБЛОН для ЗАПОЛНЕНИЯ'!AE50<>\"\",'ШАБЛОН для ЗАПОЛНЕНИЯ'!AE50,\"\")","v":"Физкультура"},{"$f":"IF('ШАБЛОН для ЗАПОЛНЕНИЯ'!AF50<>\"\",'ШАБЛОН для ЗАПОЛНЕНИЯ'!AF50,\"\")","v":""},{"$f":"IF('ШАБЛОН для ЗАПОЛНЕНИЯ'!AG50<>\"\",'ШАБЛОН для ЗАПОЛНЕНИЯ'!AG50,\"\")","v":""},{"$f":"IF('ШАБЛОН для ЗАПОЛНЕНИЯ'!AH50<>\"\",'ШАБЛОН для ЗАПОЛНЕНИЯ'!AH50,\"\")","v":""},{"$f":"IF('ШАБЛОН для ЗАПОЛНЕНИЯ'!AI50<>\"\",'ШАБЛОН для ЗАПОЛНЕНИЯ'!AI50,\"\")","v":"Англ.язык"},{"$f":"IF('ШАБЛОН для ЗАПОЛНЕНИЯ'!AJ50<>\"\",'ШАБЛОН для ЗАПОЛНЕНИЯ'!AJ50,\"\")","v":""},{"$f":"IF('ШАБЛОН для ЗАПОЛНЕНИЯ'!AK50<>\"\",'ШАБЛОН для ЗАПОЛНЕНИЯ'!AK50,\"\")","v":""},{"$f":"IF('ШАБЛОН для ЗАПОЛНЕНИЯ'!AL50<>\"\",'ШАБЛОН для ЗАПОЛНЕНИЯ'!AL50,\"\")","v":""},{"$f":"IF('ШАБЛОН для ЗАПОЛНЕНИЯ'!AM50<>\"\",'ШАБЛОН для ЗАПОЛНЕНИЯ'!AM50,\"\")","v":""},{"$f":"IF('ШАБЛОН для ЗАПОЛНЕНИЯ'!AN50<>\"\",'ШАБЛОН для ЗАПОЛНЕНИЯ'!AN50,\"\")","v":""},{"$f":"IF('ШАБЛОН для ЗАПОЛНЕНИЯ'!AO50<>\"\",'ШАБЛОН для ЗАПОЛНЕНИЯ'!AO50,\"\")","v":""},{"$f":"IF('ШАБЛОН для ЗАПОЛНЕНИЯ'!AP50<>\"\",'ШАБЛОН для ЗАПОЛНЕНИЯ'!AP50,\"\")","v":""},{"$f":"IF('ШАБЛОН для ЗАПОЛНЕНИЯ'!AQ50<>\"\",'ШАБЛОН для ЗАПОЛНЕНИЯ'!AQ50,\"\")","v":""},{"$f":"IF('ШАБЛОН для ЗАПОЛНЕНИЯ'!AR50<>\"\",'ШАБЛОН для ЗАПОЛНЕНИЯ'!AR50,\"\")","v":""},{"$f":"IF('ШАБЛОН для ЗАПОЛНЕНИЯ'!AS50<>\"\",'ШАБЛОН для ЗАПОЛНЕНИЯ'!AS50,\"\")","v":""},{"$f":"IF('ШАБЛОН для ЗАПОЛНЕНИЯ'!AT50<>\"\",'ШАБЛОН для ЗАПОЛНЕНИЯ'!AT50,\"\")","v":""},{"$f":"IF('ШАБЛОН для ЗАПОЛНЕНИЯ'!AU50<>\"\",'ШАБЛОН для ЗАПОЛНЕНИЯ'!AU50,\"\")","v":""},{"$f":"IF('ШАБЛОН для ЗАПОЛНЕНИЯ'!AV50<>\"\",'ШАБЛОН для ЗАПОЛНЕНИЯ'!AV50,\"\")","v":""},{"$f":"IF('ШАБЛОН для ЗАПОЛНЕНИЯ'!AW50<>\"\",'ШАБЛОН для ЗАПОЛНЕНИЯ'!AW50,\"\")","v":""},{"$f":"IF('ШАБЛОН для ЗАПОЛНЕНИЯ'!AX50<>\"\",'ШАБЛОН для ЗАПОЛНЕНИЯ'!AX50,\"\")","v":""},{"$f":"IF('ШАБЛОН для ЗАПОЛНЕНИЯ'!AY50<>\"\",'ШАБЛОН для ЗАПОЛНЕНИЯ'!AY50,\"\")","v":""},{"$f":"IF('ШАБЛОН для ЗАПОЛНЕНИЯ'!AZ50<>\"\",'ШАБЛОН для ЗАПОЛНЕНИЯ'!AZ50,\"\")","v":""},{"$f":"IF('ШАБЛОН для ЗАПОЛНЕНИЯ'!BA50<>\"\",'ШАБЛОН для ЗАПОЛНЕНИЯ'!BA50,\"\")","v":""},{"$f":"IF('ШАБЛОН для ЗАПОЛНЕНИЯ'!BB50<>\"\",'ШАБЛОН для ЗАПОЛНЕНИЯ'!BB50,\"\")","v":""},{"$f":"IF('ШАБЛОН для ЗАПОЛНЕНИЯ'!BC50<>\"\",'ШАБЛОН для ЗАПОЛНЕНИЯ'!BC50,\"\")","v":""},{"$f":"IF('ШАБЛОН для ЗАПОЛНЕНИЯ'!BD50<>\"\",'ШАБЛОН для ЗАПОЛНЕНИЯ'!BD50,\"\")","v":""},{"$f":"IF('ШАБЛОН для ЗАПОЛНЕНИЯ'!BE50<>\"\",'ШАБЛОН для ЗАПОЛНЕНИЯ'!BE50,\"\")","v":""},{"$f":"IF('ШАБЛОН для ЗАПОЛНЕНИЯ'!BF50<>\"\",'ШАБЛОН для ЗАПОЛНЕНИЯ'!BF50,\"\")","v":""},{"$f":"IF('ШАБЛОН для ЗАПОЛНЕНИЯ'!BG50<>\"\",'ШАБЛОН для ЗАПОЛНЕНИЯ'!BG50,\"\")","v":""},{"$f":"IF('ШАБЛОН для ЗАПОЛНЕНИЯ'!BH50<>\"\",'ШАБЛОН для ЗАПОЛНЕНИЯ'!BH50,\"\")","v":""},{"$f":"IF('ШАБЛОН для ЗАПОЛНЕНИЯ'!BI50<>\"\",'ШАБЛОН для ЗАПОЛНЕНИЯ'!BI50,\"\")","v":""},{"$f":"IF('ШАБЛОН для ЗАПОЛНЕНИЯ'!BJ50<>\"\",'ШАБЛОН для ЗАПОЛНЕНИЯ'!BJ50,\"\")","v":""},{"$f":"IF('ШАБЛОН для ЗАПОЛНЕНИЯ'!BK50<>\"\",'ШАБЛОН для ЗАПОЛНЕНИЯ'!BK50,\"\")","v":""},{"$f":"IF('ШАБЛОН для ЗАПОЛНЕНИЯ'!BL50<>\"\",'ШАБЛОН для ЗАПОЛНЕНИЯ'!BL50,\"\")","v":""},{"$f":"IF('ШАБЛОН для ЗАПОЛНЕНИЯ'!BM50<>\"\",'ШАБЛОН для ЗАПОЛНЕНИЯ'!BM50,\"\")","v":""},{"$f":"IF('ШАБЛОН для ЗАПОЛНЕНИЯ'!BN50<>\"\",'ШАБЛОН для ЗАПОЛНЕНИЯ'!BN50,\"\")","v":""},{"$f":"IF('ШАБЛОН для ЗАПОЛНЕНИЯ'!BO50<>\"\",'ШАБЛОН для ЗАПОЛНЕНИЯ'!BO50,\"\")","v":""},{"$f":"IF('ШАБЛОН для ЗАПОЛНЕНИЯ'!BP50<>\"\",'ШАБЛОН для ЗАПОЛНЕНИЯ'!BP50,\"\")","v":""},{"$f":"IF('ШАБЛОН для ЗАПОЛНЕНИЯ'!BQ50<>\"\",'ШАБЛОН для ЗАПОЛНЕНИЯ'!BQ50,\"\")","v":""},{"$f":"IF('ШАБЛОН для ЗАПОЛНЕНИЯ'!BR50<>\"\",'ШАБЛОН для ЗАПОЛНЕНИЯ'!BR50,\"\")","v":""},{"$f":"IF('ШАБЛОН для ЗАПОЛНЕНИЯ'!BS50<>\"\",'ШАБЛОН для ЗАПОЛНЕНИЯ'!BS50,\"\")","v":""},{"$f":"IF('ШАБЛОН для ЗАПОЛНЕНИЯ'!BT50<>\"\",'ШАБЛОН для ЗАПОЛНЕНИЯ'!BT50,\"\")","v":""},{"$f":"IF('ШАБЛОН для ЗАПОЛНЕНИЯ'!BU50<>\"\",'ШАБЛОН для ЗАПОЛНЕНИЯ'!BU50,\"\")","v":""},{"$f":"IF('ШАБЛОН для ЗАПОЛНЕНИЯ'!BV50<>\"\",'ШАБЛОН для ЗАПОЛНЕНИЯ'!BV50,\"\")","v":""},{"$f":"IF('ШАБЛОН для ЗАПОЛНЕНИЯ'!BW50<>\"\",'ШАБЛОН для ЗАПОЛНЕНИЯ'!BW50,\"\")","v":""},{"$f":"IF('ШАБЛОН для ЗАПОЛНЕНИЯ'!BX50<>\"\",'ШАБЛОН для ЗАПОЛНЕНИЯ'!BX50,\"\")","v":""},{"$f":"IF('ШАБЛОН для ЗАПОЛНЕНИЯ'!BY50<>\"\",'ШАБЛОН для ЗАПОЛНЕНИЯ'!BY50,\"\")","v":""},{"$f":"IF('ШАБЛОН для ЗАПОЛНЕНИЯ'!BZ50<>\"\",'ШАБЛОН для ЗАПОЛНЕНИЯ'!BZ50,\"\")","v":""},{"$f":"IF('ШАБЛОН для ЗАПОЛНЕНИЯ'!CA50<>\"\",'ШАБЛОН для ЗАПОЛНЕНИЯ'!CA50,\"\")","v":""},{"$f":"IF('ШАБЛОН для ЗАПОЛНЕНИЯ'!CB50<>\"\",'ШАБЛОН для ЗАПОЛНЕНИЯ'!CB50,\"\")","v":""},{"$f":"IF('ШАБЛОН для ЗАПОЛНЕНИЯ'!CC50<>\"\",'ШАБЛОН для ЗАПОЛНЕНИЯ'!CC50,\"\")","v":""},{"$f":"IF('ШАБЛОН для ЗАПОЛНЕНИЯ'!CD50<>\"\",'ШАБЛОН для ЗАПОЛНЕНИЯ'!CD50,\"\")","v":""},{"$f":"IF('ШАБЛОН для ЗАПОЛНЕНИЯ'!CE50<>\"\",'ШАБЛОН для ЗАПОЛНЕНИЯ'!CE50,\"\")","v":""},{"$f":"IF('ШАБЛОН для ЗАПОЛНЕНИЯ'!CF50<>\"\",'ШАБЛОН для ЗАПОЛНЕНИЯ'!CF50,\"\")","v":""},{"$f":"IF('ШАБЛОН для ЗАПОЛНЕНИЯ'!CG50<>\"\",'ШАБЛОН для ЗАПОЛНЕНИЯ'!CG50,\"\")","v":""},{"$f":"IF('ШАБЛОН для ЗАПОЛНЕНИЯ'!CH50<>\"\",'ШАБЛОН для ЗАПОЛНЕНИЯ'!CH50,\"\")","v":""},{"$f":"IF('ШАБЛОН для ЗАПОЛНЕНИЯ'!CI50<>\"\",'ШАБЛОН для ЗАПОЛНЕНИЯ'!CI50,\"\")","v":""},{"$f":"IF('ШАБЛОН для ЗАПОЛНЕНИЯ'!CJ50<>\"\",'ШАБЛОН для ЗАПОЛНЕНИЯ'!CJ50,\"\")","v":""},{"$f":"IF('ШАБЛОН для ЗАПОЛНЕНИЯ'!CK50<>\"\",'ШАБЛОН для ЗАПОЛНЕНИЯ'!CK50,\"\")","v":""},{"$f":"IF('ШАБЛОН для ЗАПОЛНЕНИЯ'!CL50<>\"\",'ШАБЛОН для ЗАПОЛНЕНИЯ'!CL50,\"\")","v":""},{"$f":"IF('ШАБЛОН для ЗАПОЛНЕНИЯ'!CM50<>\"\",'ШАБЛОН для ЗАПОЛНЕНИЯ'!CM50,\"\")","v":""},{"$f":"IF('ШАБЛОН для ЗАПОЛНЕНИЯ'!CN50<>\"\",'ШАБЛОН для ЗАПОЛНЕНИЯ'!CN50,\"\")","v":""},{"$f":"IF('ШАБЛОН для ЗАПОЛНЕНИЯ'!CO50<>\"\",'ШАБЛОН для ЗАПОЛНЕНИЯ'!CO50,\"\")","v":""},{"$f":"IF('ШАБЛОН для ЗАПОЛНЕНИЯ'!CP50<>\"\",'ШАБЛОН для ЗАПОЛНЕНИЯ'!CP50,\"\")","v":""},{"$f":"IF('ШАБЛОН для ЗАПОЛНЕНИЯ'!CQ50<>\"\",'ШАБЛОН для ЗАПОЛНЕНИЯ'!CQ50,\"\")","v":""},{"$f":"IF('ШАБЛОН для ЗАПОЛНЕНИЯ'!CR50<>\"\",'ШАБЛОН для ЗАПОЛНЕНИЯ'!CR50,\"\")","v":""},{"$f":"IF('ШАБЛОН для ЗАПОЛНЕНИЯ'!CS50<>\"\",'ШАБЛОН для ЗАПОЛНЕНИЯ'!CS50,\"\")","v":""},{"$f":"IF('ШАБЛОН для ЗАПОЛНЕНИЯ'!CT50<>\"\",'ШАБЛОН для ЗАПОЛНЕНИЯ'!CT50,\"\")","v":""}]
[null,7,{"$f":"IF('ШАБЛОН для ЗАПОЛНЕНИЯ'!C51<>\"\",'ШАБЛОН для ЗАПОЛНЕНИЯ'!C51,\"\")","v":""},{"$f":"IF('ШАБЛОН для ЗАПОЛНЕНИЯ'!D51<>\"\",'ШАБЛОН для ЗАПОЛНЕНИЯ'!D51,\"\")","v":""},{"$f":"IF('ШАБЛОН для ЗАПОЛНЕНИЯ'!E51<>\"\",'ШАБЛОН для ЗАПОЛНЕНИЯ'!E51,\"\")","v":""},{"$f":"IF('ШАБЛОН для ЗАПОЛНЕНИЯ'!F51<>\"\",'ШАБЛОН для ЗАПОЛНЕНИЯ'!F51,\"\")","v":""},{"$f":"IF('ШАБЛОН для ЗАПОЛНЕНИЯ'!G51<>\"\",'ШАБЛОН для ЗАПОЛНЕНИЯ'!G51,\"\")","v":""},{"$f":"IF('ШАБЛОН для ЗАПОЛНЕНИЯ'!H51<>\"\",'ШАБЛОН для ЗАПОЛНЕНИЯ'!H51,\"\")","v":""},{"$f":"IF('ШАБЛОН для ЗАПОЛНЕНИЯ'!I51<>\"\",'ШАБЛОН для ЗАПОЛНЕНИЯ'!I51,\"\")","v":""},{"$f":"IF('ШАБЛОН для ЗАПОЛНЕНИЯ'!J51<>\"\",'ШАБЛОН для ЗАПОЛНЕНИЯ'!J51,\"\")","v":""},{"$f":"IF('ШАБЛОН для ЗАПОЛНЕНИЯ'!K51<>\"\",'ШАБЛОН для ЗАПОЛНЕНИЯ'!K51,\"\")","v":""},{"$f":"IF('ШАБЛОН для ЗАПОЛНЕНИЯ'!L51<>\"\",'ШАБЛОН для ЗАПОЛНЕНИЯ'!L51,\"\")","v":""},{"$f":"IF('ШАБЛОН для ЗАПОЛНЕНИЯ'!M51<>\"\",'ШАБЛОН для ЗАПОЛНЕНИЯ'!M51,\"\")","v":""},{"$f":"IF('ШАБЛОН для ЗАПОЛНЕНИЯ'!N51<>\"\",'ШАБЛОН для ЗАПОЛНЕНИЯ'!N51,\"\")","v":""},{"$f":"IF('ШАБЛОН для ЗАПОЛНЕНИЯ'!O51<>\"\",'ШАБЛОН для ЗАПОЛНЕНИЯ'!O51,\"\")","v":""},{"$f":"IF('ШАБЛОН для ЗАПОЛНЕНИЯ'!P51<>\"\",'ШАБЛОН для ЗАПОЛНЕНИЯ'!P51,\"\")","v":""},{"$f":"IF('ШАБЛОН для ЗАПОЛНЕНИЯ'!Q51<>\"\",'ШАБЛОН для ЗАПОЛНЕНИЯ'!Q51,\"\")","v":""},{"$f":"IF('ШАБЛОН для ЗАПОЛНЕНИЯ'!R51<>\"\",'ШАБЛОН для ЗАПОЛНЕНИЯ'!R51,\"\")","v":""},{"$f":"IF('ШАБЛОН для ЗАПОЛНЕНИЯ'!S51<>\"\",'ШАБЛОН для ЗАПОЛНЕНИЯ'!S51,\"\")","v":""},{"$f":"IF('ШАБЛОН для ЗАПОЛНЕНИЯ'!T51<>\"\",'ШАБЛОН для ЗАПОЛНЕНИЯ'!T51,\"\")","v":""},{"$f":"IF('ШАБЛОН для ЗАПОЛНЕНИЯ'!U51<>\"\",'ШАБЛОН для ЗАПОЛНЕНИЯ'!U51,\"\")","v":""},{"$f":"IF('ШАБЛОН для ЗАПОЛНЕНИЯ'!V51<>\"\",'ШАБЛОН для ЗАПОЛНЕНИЯ'!V51,\"\")","v":""},{"$f":"IF('ШАБЛОН для ЗАПОЛНЕНИЯ'!W51<>\"\",'ШАБЛОН для ЗАПОЛНЕНИЯ'!W51,\"\")","v":""},{"$f":"IF('ШАБЛОН для ЗАПОЛНЕНИЯ'!X51<>\"\",'ШАБЛОН для ЗАПОЛНЕНИЯ'!X51,\"\")","v":""},{"$f":"IF('ШАБЛОН для ЗАПОЛНЕНИЯ'!Y51<>\"\",'ШАБЛОН для ЗАПОЛНЕНИЯ'!Y51,\"\")","v":""},{"$f":"IF('ШАБЛОН для ЗАПОЛНЕНИЯ'!Z51<>\"\",'ШАБЛОН для ЗАПОЛНЕНИЯ'!Z51,\"\")","v":""},{"$f":"IF('ШАБЛОН для ЗАПОЛНЕНИЯ'!AA51<>\"\",'ШАБЛОН для ЗАПОЛНЕНИЯ'!AA51,\"\")","v":""},{"$f":"IF('ШАБЛОН для ЗАПОЛНЕНИЯ'!AB51<>\"\",'ШАБЛОН для ЗАПОЛНЕНИЯ'!AB51,\"\")","v":""},{"$f":"IF('ШАБЛОН для ЗАПОЛНЕНИЯ'!AC51<>\"\",'ШАБЛОН для ЗАПОЛНЕНИЯ'!AC51,\"\")","v":""},{"$f":"IF('ШАБЛОН для ЗАПОЛНЕНИЯ'!AD51<>\"\",'ШАБЛОН для ЗАПОЛНЕНИЯ'!AD51,\"\")","v":""},{"$f":"IF('ШАБЛОН для ЗАПОЛНЕНИЯ'!AE51<>\"\",'ШАБЛОН для ЗАПОЛНЕНИЯ'!AE51,\"\")","v":""},{"$f":"IF('ШАБЛОН для ЗАПОЛНЕНИЯ'!AF51<>\"\",'ШАБЛОН для ЗАПОЛНЕНИЯ'!AF51,\"\")","v":""},{"$f":"IF('ШАБЛОН для ЗАПОЛНЕНИЯ'!AG51<>\"\",'ШАБЛОН для ЗАПОЛНЕНИЯ'!AG51,\"\")","v":""},{"$f":"IF('ШАБЛОН для ЗАПОЛНЕНИЯ'!AH51<>\"\",'ШАБЛОН для ЗАПОЛНЕНИЯ'!AH51,\"\")","v":""},{"$f":"IF('ШАБЛОН для ЗАПОЛНЕНИЯ'!AI51<>\"\",'ШАБЛОН для ЗАПОЛНЕНИЯ'!AI51,\"\")","v":""},{"$f":"IF('ШАБЛОН для ЗАПОЛНЕНИЯ'!AJ51<>\"\",'ШАБЛОН для ЗАПОЛНЕНИЯ'!AJ51,\"\")","v":""},{"$f":"IF('ШАБЛОН для ЗАПОЛНЕНИЯ'!AK51<>\"\",'ШАБЛОН для ЗАПОЛНЕНИЯ'!AK51,\"\")","v":""},{"$f":"IF('ШАБЛОН для ЗАПОЛНЕНИЯ'!AL51<>\"\",'ШАБЛОН для ЗАПОЛНЕНИЯ'!AL51,\"\")","v":""},{"$f":"IF('ШАБЛОН для ЗАПОЛНЕНИЯ'!AM51<>\"\",'ШАБЛОН для ЗАПОЛНЕНИЯ'!AM51,\"\")","v":""},{"$f":"IF('ШАБЛОН для ЗАПОЛНЕНИЯ'!AN51<>\"\",'ШАБЛОН для ЗАПОЛНЕНИЯ'!AN51,\"\")","v":""},{"$f":"IF('ШАБЛОН для ЗАПОЛНЕНИЯ'!AO51<>\"\",'ШАБЛОН для ЗАПОЛНЕНИЯ'!AO51,\"\")","v":""},{"$f":"IF('ШАБЛОН для ЗАПОЛНЕНИЯ'!AP51<>\"\",'ШАБЛОН для ЗАПОЛНЕНИЯ'!AP51,\"\")","v":""},{"$f":"IF('ШАБЛОН для ЗАПОЛНЕНИЯ'!AQ51<>\"\",'ШАБЛОН для ЗАПОЛНЕНИЯ'!AQ51,\"\")","v":""},{"$f":"IF('ШАБЛОН для ЗАПОЛНЕНИЯ'!AR51<>\"\",'ШАБЛОН для ЗАПОЛНЕНИЯ'!AR51,\"\")","v":""},{"$f":"IF('ШАБЛОН для ЗАПОЛНЕНИЯ'!AS51<>\"\",'ШАБЛОН для ЗАПОЛНЕНИЯ'!AS51,\"\")","v":""},{"$f":"IF('ШАБЛОН для ЗАПОЛНЕНИЯ'!AT51<>\"\",'ШАБЛОН для ЗАПОЛНЕНИЯ'!AT51,\"\")","v":""},{"$f":"IF('ШАБЛОН для ЗАПОЛНЕНИЯ'!AU51<>\"\",'ШАБЛОН для ЗАПОЛНЕНИЯ'!AU51,\"\")","v":""},{"$f":"IF('ШАБЛОН для ЗАПОЛНЕНИЯ'!AV51<>\"\",'ШАБЛОН для ЗАПОЛНЕНИЯ'!AV51,\"\")","v":""},{"$f":"IF('ШАБЛОН для ЗАПОЛНЕНИЯ'!AW51<>\"\",'ШАБЛОН для ЗАПОЛНЕНИЯ'!AW51,\"\")","v":""},{"$f":"IF('ШАБЛОН для ЗАПОЛНЕНИЯ'!AX51<>\"\",'ШАБЛОН для ЗАПОЛНЕНИЯ'!AX51,\"\")","v":""},{"$f":"IF('ШАБЛОН для ЗАПОЛНЕНИЯ'!AY51<>\"\",'ШАБЛОН для ЗАПОЛНЕНИЯ'!AY51,\"\")","v":""},{"$f":"IF('ШАБЛОН для ЗАПОЛНЕНИЯ'!AZ51<>\"\",'ШАБЛОН для ЗАПОЛНЕНИЯ'!AZ51,\"\")","v":""},{"$f":"IF('ШАБЛОН для ЗАПОЛНЕНИЯ'!BA51<>\"\",'ШАБЛОН для ЗАПОЛНЕНИЯ'!BA51,\"\")","v":""},{"$f":"IF('ШАБЛОН для ЗАПОЛНЕНИЯ'!BB51<>\"\",'ШАБЛОН для ЗАПОЛНЕНИЯ'!BB51,\"\")","v":""},{"$f":"IF('ШАБЛОН для ЗАПОЛНЕНИЯ'!BC51<>\"\",'ШАБЛОН для ЗАПОЛНЕНИЯ'!BC51,\"\")","v":""},{"$f":"IF('ШАБЛОН для ЗАПОЛНЕНИЯ'!BD51<>\"\",'ШАБЛОН для ЗАПОЛНЕНИЯ'!BD51,\"\")","v":""},{"$f":"IF('ШАБЛОН для ЗАПОЛНЕНИЯ'!BE51<>\"\",'ШАБЛОН для ЗАПОЛНЕНИЯ'!BE51,\"\")","v":""},{"$f":"IF('ШАБЛОН для ЗАПОЛНЕНИЯ'!BF51<>\"\",'ШАБЛОН для ЗАПОЛНЕНИЯ'!BF51,\"\")","v":""},{"$f":"IF('ШАБЛОН для ЗАПОЛНЕНИЯ'!BG51<>\"\",'ШАБЛОН для ЗАПОЛНЕНИЯ'!BG51,\"\")","v":""},{"$f":"IF('ШАБЛОН для ЗАПОЛНЕНИЯ'!BH51<>\"\",'ШАБЛОН для ЗАПОЛНЕНИЯ'!BH51,\"\")","v":""},{"$f":"IF('ШАБЛОН для ЗАПОЛНЕНИЯ'!BI51<>\"\",'ШАБЛОН для ЗАПОЛНЕНИЯ'!BI51,\"\")","v":""},{"$f":"IF('ШАБЛОН для ЗАПОЛНЕНИЯ'!BJ51<>\"\",'ШАБЛОН для ЗАПОЛНЕНИЯ'!BJ51,\"\")","v":""},{"$f":"IF('ШАБЛОН для ЗАПОЛНЕНИЯ'!BK51<>\"\",'ШАБЛОН для ЗАПОЛНЕНИЯ'!BK51,\"\")","v":""},{"$f":"IF('ШАБЛОН для ЗАПОЛНЕНИЯ'!BL51<>\"\",'ШАБЛОН для ЗАПОЛНЕНИЯ'!BL51,\"\")","v":""},{"$f":"IF('ШАБЛОН для ЗАПОЛНЕНИЯ'!BM51<>\"\",'ШАБЛОН для ЗАПОЛНЕНИЯ'!BM51,\"\")","v":""},{"$f":"IF('ШАБЛОН для ЗАПОЛНЕНИЯ'!BN51<>\"\",'ШАБЛОН для ЗАПОЛНЕНИЯ'!BN51,\"\")","v":""},{"$f":"IF('ШАБЛОН для ЗАПОЛНЕНИЯ'!BO51<>\"\",'ШАБЛОН для ЗАПОЛНЕНИЯ'!BO51,\"\")","v":""},{"$f":"IF('ШАБЛОН для ЗАПОЛНЕНИЯ'!BP51<>\"\",'ШАБЛОН для ЗАПОЛНЕНИЯ'!BP51,\"\")","v":""},{"$f":"IF('ШАБЛОН для ЗАПОЛНЕНИЯ'!BQ51<>\"\",'ШАБЛОН для ЗАПОЛНЕНИЯ'!BQ51,\"\")","v":""},{"$f":"IF('ШАБЛОН для ЗАПОЛНЕНИЯ'!BR51<>\"\",'ШАБЛОН для ЗАПОЛНЕНИЯ'!BR51,\"\")","v":""},{"$f":"IF('ШАБЛОН для ЗАПОЛНЕНИЯ'!BS51<>\"\",'ШАБЛОН для ЗАПОЛНЕНИЯ'!BS51,\"\")","v":""},{"$f":"IF('ШАБЛОН для ЗАПОЛНЕНИЯ'!BT51<>\"\",'ШАБЛОН для ЗАПОЛНЕНИЯ'!BT51,\"\")","v":""},{"$f":"IF('ШАБЛОН для ЗАПОЛНЕНИЯ'!BU51<>\"\",'ШАБЛОН для ЗАПОЛНЕНИЯ'!BU51,\"\")","v":""},{"$f":"IF('ШАБЛОН для ЗАПОЛНЕНИЯ'!BV51<>\"\",'ШАБЛОН для ЗАПОЛНЕНИЯ'!BV51,\"\")","v":""},{"$f":"IF('ШАБЛОН для ЗАПОЛНЕНИЯ'!BW51<>\"\",'ШАБЛОН для ЗАПОЛНЕНИЯ'!BW51,\"\")","v":""},{"$f":"IF('ШАБЛОН для ЗАПОЛНЕНИЯ'!BX51<>\"\",'ШАБЛОН для ЗАПОЛНЕНИЯ'!BX51,\"\")","v":""},{"$f":"IF('ШАБЛОН для ЗАПОЛНЕНИЯ'!BY51<>\"\",'ШАБЛОН для ЗАПОЛНЕНИЯ'!BY51,\"\")","v":""},{"$f":"IF('ШАБЛОН для ЗАПОЛНЕНИЯ'!BZ51<>\"\",'ШАБЛОН для ЗАПОЛНЕНИЯ'!BZ51,\"\")","v":""},{"$f":"IF('ШАБЛОН для ЗАПОЛНЕНИЯ'!CA51<>\"\",'ШАБЛОН для ЗАПОЛНЕНИЯ'!CA51,\"\")","v":""},{"$f":"IF('ШАБЛОН для ЗАПОЛНЕНИЯ'!CB51<>\"\",'ШАБЛОН для ЗАПОЛНЕНИЯ'!CB51,\"\")","v":""},{"$f":"IF('ШАБЛОН для ЗАПОЛНЕНИЯ'!CC51<>\"\",'ШАБЛОН для ЗАПОЛНЕНИЯ'!CC51,\"\")","v":""},{"$f":"IF('ШАБЛОН для ЗАПОЛНЕНИЯ'!CD51<>\"\",'ШАБЛОН для ЗАПОЛНЕНИЯ'!CD51,\"\")","v":""},{"$f":"IF('ШАБЛОН для ЗАПОЛНЕНИЯ'!CE51<>\"\",'ШАБЛОН для ЗАПОЛНЕНИЯ'!CE51,\"\")","v":""},{"$f":"IF('ШАБЛОН для ЗАПОЛНЕНИЯ'!CF51<>\"\",'ШАБЛОН для ЗАПОЛНЕНИЯ'!CF51,\"\")","v":""},{"$f":"IF('ШАБЛОН для ЗАПОЛНЕНИЯ'!CG51<>\"\",'ШАБЛОН для ЗАПОЛНЕНИЯ'!CG51,\"\")","v":""},{"$f":"IF('ШАБЛОН для ЗАПОЛНЕНИЯ'!CH51<>\"\",'ШАБЛОН для ЗАПОЛНЕНИЯ'!CH51,\"\")","v":""},{"$f":"IF('ШАБЛОН для ЗАПОЛНЕНИЯ'!CI51<>\"\",'ШАБЛОН для ЗАПОЛНЕНИЯ'!CI51,\"\")","v":""},{"$f":"IF('ШАБЛОН для ЗАПОЛНЕНИЯ'!CJ51<>\"\",'ШАБЛОН для ЗАПОЛНЕНИЯ'!CJ51,\"\")","v":""},{"$f":"IF('ШАБЛОН для ЗАПОЛНЕНИЯ'!CK51<>\"\",'ШАБЛОН для ЗАПОЛНЕНИЯ'!CK51,\"\")","v":""},{"$f":"IF('ШАБЛОН для ЗАПОЛНЕНИЯ'!CL51<>\"\",'ШАБЛОН для ЗАПОЛНЕНИЯ'!CL51,\"\")","v":""},{"$f":"IF('ШАБЛОН для ЗАПОЛНЕНИЯ'!CM51<>\"\",'ШАБЛОН для ЗАПОЛНЕНИЯ'!CM51,\"\")","v":""},{"$f":"IF('ШАБЛОН для ЗАПОЛНЕНИЯ'!CN51<>\"\",'ШАБЛОН для ЗАПОЛНЕНИЯ'!CN51,\"\")","v":""},{"$f":"IF('ШАБЛОН для ЗАПОЛНЕНИЯ'!CO51<>\"\",'ШАБЛОН для ЗАПОЛНЕНИЯ'!CO51,\"\")","v":""},{"$f":"IF('ШАБЛОН для ЗАПОЛНЕНИЯ'!CP51<>\"\",'ШАБЛОН для ЗАПОЛНЕНИЯ'!CP51,\"\")","v":""},{"$f":"IF('ШАБЛОН для ЗАПОЛНЕНИЯ'!CQ51<>\"\",'ШАБЛОН для ЗАПОЛНЕНИЯ'!CQ51,\"\")","v":""},{"$f":"IF('ШАБЛОН для ЗАПОЛНЕНИЯ'!CR51<>\"\",'ШАБЛОН для ЗАПОЛНЕНИЯ'!CR51,\"\")","v":""},{"$f":"IF('ШАБЛОН для ЗАПОЛНЕНИЯ'!CS51<>\"\",'ШАБЛОН для ЗАПОЛНЕНИЯ'!CS51,\"\")","v":""},{"$f":"IF('ШАБЛОН для ЗАПОЛНЕНИЯ'!CT51<>\"\",'ШАБЛОН для ЗАПОЛНЕНИЯ'!CT51,\"\")","v":""}]

{"sheet":"ПРИМЕР","index":3,"n_rows":48,"n_cols":18,"rows_kept":48,"merged":[[1,0,1,1],[1,2,1,5],[1,6,1,9],[1,10,1,13],[1,14,1,17],[2,0,3,1],[2,2,3,5],[2,6,3,9],[2,10,3,13],[2,14,2,17],[3,14,3,15],[3,16,3,17],[4,0,4,1],[4,2,5,5],[4,6,5,9],[4,10,5,13],[4,14,5,17],[6,0,12,0],[13,0,19,0],[20,0,26,0],[27,0,33,0],[34,0,40,0],[41,0,47,0]]}
[]
["Классы",null,"7А",{"$nulls":3},"8А",{"$nulls":3},"9А",{"$nulls":3},"10А"]
["Классный руководитель",null,"Иванов И.И.",{"$nulls":3},"Петров П.П.",{"$nulls":3},"Сидоров С.С.",{"$nulls":3},"Неизвестный Н.Н."]
[{"$nulls":14},"хим. - биолог.",null,"соц. - эконом."]
["Закреп. каб.",null,"№ 10",{"$nulls":3},"№ 11",{"$nulls":3},"№ 12",{"$nulls":3},"№ 13"]
["День","Урок"]
["ПОНЕДЕЛЬНИК",1,"Русский язык",null,null,"10","Физкультура",{"$nulls":3},"Физкультура",{"$nulls":3},"Биология","12","История","13"]
[null,2,"ОБЖ",null,null,"11","Русский язык ",null,null,"10","Физика",null,null,"14","Биология","12","История","13"]
[null,3,"История",null,null,"12","Математика",null,null,"13","Русский язык",null,null,"15","Русский   язык",null,null,"10"]
[null,4,"Англ.яз","15","Нем.яз.","13","Музыка",null,null,"14","Литература",null,null,"16","Русский   язык",null,null,"10"]
[null,5,"Физкультура",{"$nulls":3},"Обществознание",null,null,"15","История",null,null,"13","Математика",null,null,"12"]
[null,6,"Классный час     ",null,null,"10",{"$nulls":4},"Русский язык (Э.К.)",null,null,"11","Математика",null,null,"12"]
[null,7]
["ВТОРНИК",1,null,"---",null,null,"Русский язык",null,null,"10","География",null,null,"11","Химия","12","Обществозн.","13"]
[null,2,"Обществознание",null,null,"11","Литература",null,null,"13","Математика",null,null,"14","Химия","12","Обществозн.","13"]
[null,3,"Музыка",null,null,"12","Математика ",null,null,"14","Англ.яз","10","Информ.","11","Литература",null,null,"15"]
[null,4,"Русский язык",null,null,"12","Англ.яз","10","Нем.яз.","11","Литература ",null,null,"16","Математика",null,null,"15"]
[null,5,"Литература",null,null,"12",{"$nulls":4},"Обществознание",null,null,"15","Математика",null,null,"16"]
[null,6,"Математика",null,null,"12",{"$nulls":4},"Нем.яз.","10","Информ.","11","Физкультура"]
[null,7,{"$nulls":8},"Классный час",null,null,"12"]
["СРЕДА",1,"Русский язык",null,null,"10","Русский язык",null,null,"11",null,"---",null,null,"Физика",null,null,"15"]
[null,2,"География",null,null,"10","Литература",null,null,"12","Математика",null,null,"13","Физика",null,null,"15"]
[null,3,"Англ.яз","11","Нем.яз.","12","Математика ",null,null,"15","Биология",null,null,"10","Обществозн.","16","Право","13"]
[null,4,"ИЗО",null,null,"15","Англ.яз","10","Нем.яз.","12","Русский язык",null,null,"11","Обществозн.","16","Биология","13"]
[null,5,"Математика",null,null,"14",{"$nulls":4},"История",null,null,"13","ОБЖ",null,null,"10"]
[null,6,"Физкультура",{"$nulls":7},"Физкультура",{"$nulls":3},"География",null,null,"11"]
[null,7,{"$nulls":12},"Классный час",null,null,"13"]
["ЧЕТВЕРГ",1,"Биология",null,null,"10","Русский язык",null,null,"11","Математика",null,null,"12",null,"---"]
[null,2,"Математика",null,null,"11","Англ.яз","12","Нем.яз.","10","Технология",null,null,"13","Англ.яз","15","Нем.яз.","16"]
[null,3,"История ",null,null,"11","ИЗО",null,null,"13","Нем.яз.","15","Информ.","14","Литература ",null,null,"10"]
[null,4,"Русский язык",null,null,"12","История",null,null,"14","Химия",null,null,"11","Литература ",null,null,"10"]
[null,5,"ОДНК",null,null,"12","ОБЖ",null,null,"15","Математика (Э.К.)",null,null,"14","Математика (Э.П.)",null,null,"16"]
[null,6,{"$nulls":4},"Литература",null,null,"12","Англ.яз","11","Информ.","10","Литература (Э.П.)",null,null,"15"]
[null,7,{"$nulls":4},"Классный час",null,null,"11"]
["ПЯТНИЦА",1,"Математика",null,null,"11","Технология",{"$nulls":3},"Нем.яз.","10","Англ.яз","12","Информ.","13","Химия","14"]
[null,2,"Англ.яз","10","Нем.яз.","12","Технология",{"$nulls":3},"Физика",null,null,"13","Математика",null,null,"15"]
[null,3,"Русский язык",null,null,"13","Математика",null,null,"15","Физкультура",{"$nulls":3},"История","10","История","11"]
[null,4,"Литература",null,null,"14","География",null,null,"16","Биология",null,null,"12","История","10","История","11"]
[null,5,"Технология",{"$nulls":3},"Англ.яз","10","Нем.яз.","13","Математика",null,null,"11","Физкультура"]
[null,6,"Технология",{"$nulls":3},"Русский язык",null,null,"12","История",null,null,"13","Русский язык (Э.П.)",null,null,"16"]
[null,7]
["СУББОТА",1,"Русский язык",null,null,"15","Математика",null,null,"16","Химия",null,null,"10","Химия","14","Информ.","13"]
[null,2,"Математика",null,null,"16","Русский язык",null,null,"15","География",null,null,"11","Химия","14","Экономика","13"]
[null,3,"Физкультура",{"$nulls":3},"ОДНК",null,null,"13","Литература",null,null,"12","Биология","10","Обществ.","14"]
[null,4,{"$nulls":4},"Физкультура",{"$nulls":3},"Математика",null,null,"11","Биология (Э.П.)","10","Обществ (Э.П.)","14"]
[null,5,{"$nulls":8},"Искусство",null,null,"10","Физкультура"]
[null,6,{"$nulls":12},"Исследовательская дея-ть",null,null,"15"]
[null,7]